BEGIN:VCALENDAR
VERSION:2.0
PRODID:-//Visit Cyprus - ECPv6.15.20//NONSGML v1.0//EN
CALSCALE:GREGORIAN
METHOD:PUBLISH
X-WR-CALNAME:Visit Cyprus
X-ORIGINAL-URL:https://www.visitcyprus.com/de/
X-WR-CALDESC:Veranstaltungen für Visit Cyprus
REFRESH-INTERVAL;VALUE=DURATION:PT1H
X-Robots-Tag:noindex
X-PUBLISHED-TTL:PT1H
BEGIN:VTIMEZONE
TZID:Asia/Nicosia
BEGIN:DAYLIGHT
TZOFFSETFROM:+0200
TZOFFSETTO:+0300
TZNAME:EEST
DTSTART:20240331T010000
END:DAYLIGHT
BEGIN:STANDARD
TZOFFSETFROM:+0300
TZOFFSETTO:+0200
TZNAME:EET
DTSTART:20241027T010000
END:STANDARD
BEGIN:DAYLIGHT
TZOFFSETFROM:+0200
TZOFFSETTO:+0300
TZNAME:EEST
DTSTART:20250330T010000
END:DAYLIGHT
BEGIN:STANDARD
TZOFFSETFROM:+0300
TZOFFSETTO:+0200
TZNAME:EET
DTSTART:20251026T010000
END:STANDARD
BEGIN:DAYLIGHT
TZOFFSETFROM:+0200
TZOFFSETTO:+0300
TZNAME:EEST
DTSTART:20260329T010000
END:DAYLIGHT
BEGIN:STANDARD
TZOFFSETFROM:+0300
TZOFFSETTO:+0200
TZNAME:EET
DTSTART:20261025T010000
END:STANDARD
END:VTIMEZONE
BEGIN:VEVENT
DTSTART;TZID=Asia/Nicosia:20250905T193000
DTEND;TZID=Asia/Nicosia:20250906T233000
DTSTAMP:20260425T144456
CREATED:20250902T094707Z
LAST-MODIFIED:20250902T094707Z
UID:750968-1757100600-1757201400@www.visitcyprus.com
SUMMARY:23rd Pafos Aphrodite Festival  CARMEN - Georges Bizet  Tbilisi Opera&Ballet State Theatre with CySO - 5-6.9.2025
DESCRIPTION:A Passion Without Limits \nThis year the Pafos Aphrodite Festival offers opera lovers a unique production: the State Opera and Ballet Theatre of Tbilisi (Georgia) with the participation of the Cyprus Symphony Orchestra\, will present Georges Bizet’s opera “Carmen”\, one of the most beloved and timeless operas ever written. \n“Carmen” recounts the story of Carmen\, a free-spirted and irresistible woman. The legendary opera will come to life on stage with all the power\, passion\, and tragedy that have defined it since its premiere in 1875. \nWith music pulsating with rhythm\, inspiration\, and melody — from the famous Habanera to the explosive Toreador Song — “Carmen” captivates audiences and remains an eternal symbol of freedom\, feminine strength\, and human tragedy. A performance not to be missed — where music\, passion\, and fate meet in a fiery symphony of life and death! \nGeorges Bizet: Carmen \n Tbilisi Opera and Ballet State Theatre \nCyprus Symphony Orchestra \nZaza Azmaiparashvili music director of the production \n  \nOrganizer: Pafos Aphrodite Festival Cyprus\, a company wholly owned by the Municipality of Pafos. \nProducer: Papadopoulos & Schinis Productions \nTicket prices: €35-€120 \nInformation / Tickets: www.ticketmaster.cy\, ACS courier\, 777 7040
URL:https://www.visitcyprus.com/de/event/23rd-pafos-aphrodite-festival-carmen-georges-bizet-tbilisi-operaballet-state-theatre-with-cyso-5-6-9-2025/
LOCATION:Papahos Medieval Castle\, Kato Paphos Harbour\, Coastal Broadwalk\, Paphos\, Paphos\, 8040
CATEGORIES:Music
ATTACH;FMTTYPE=image/jpeg:https://www.visitcyprus.com/wp-content/uploads/2025/09/carmen.jpg
ORGANIZER;CN="Pafos Aphrodite Festival":MAILTO:info@visitpafos.org.cy
END:VEVENT
BEGIN:VEVENT
DTSTART;TZID=Asia/Nicosia:20250910T200000
DTEND;TZID=Asia/Nicosia:20250910T220000
DTSTAMP:20260425T144456
CREATED:20250902T100154Z
LAST-MODIFIED:20250902T100154Z
UID:750981-1757534400-1757541600@www.visitcyprus.com
SUMMARY:Alexia performs the classics with Cyprus Youth Symphony Orchestra - 10.9.2025
DESCRIPTION: Lefkosia: Wednesday 10 September 2025 – Nicosia Municipal Theatre\, 20:00 \nAlexia soloist\nGiorgos Morfitis orchestrations\, music preparation\, musical adaptation\, piano\nCyprus Youth Symphony Orchestra Choir (choirmaster: Loizos Loizou)\nYiorgos Kountouris conductor \nBack by popular demand after a first sold-out show in 2024\, our beloved and award-winning singer Alexia\, who introduced Vocal Jazz to audiences in the Greek mainstream\, celebrates the 30th anniversary of the release of her internationally acclaimed\, multi-platinum album\, “Alexia Performs the Classics”\, joining forces with the Cyprus Youth Symphony Orchestra\, the Symphony’s choir\, together with elite musicians from Alexia’s jazz band. \nThe concert revives the Golden Era of Greek Cinema and Greek Jazz from the 1930’s to the 1960’s\, bringing back songs with melody\, harmony\, and masterful orchestrations and celebrating the merge of the original Big Band sound with the symphonic tapestry. \nWith timeless songs such as ‘An s’ Arnitho’ by Mimis Plessas\, ‘Tin Afto’ (What is this that they call love) by Takis Morakis\, ‘Echo Apopse Rendezvous’ by George Mouzakis and many more\, this production promises to take us on a journey to times gone by\, with Alexia’s melodious voice and unique phrasing\, together with the talented youth of the CyYSO. \nOrganizers: Filoptochos Adelfotis Agion Omologiton \nFiloptochos Adelfotis Agion Omologiton celebrates 90 years of compassion and charitable service\, since its founding (1935 – 2025). \nThe event is held under the auspices of the First Lady\, Mrs. Philippa Karsera Christodoulides\, with the purpose of supporting the Filoptochos Adelfotis Agion Omologiton charitable work and “Melathron Agapis” \nInformation: 22677100 \nTickets: €30 │ Balcony €25 \nTickets presale: www.soldoutticketbox.com \nhttps://www.soldoutticketbox.com/el/event/i-alexia-ermineyei-ta-klasika
URL:https://www.visitcyprus.com/de/event/alexia-performs-the-classics-with-cyprus-youth-symphony-orchestra-10-9-2025/
LOCATION:Nicosia Municipal Theatre\, Mouseiou 4\, Lefkosia\, 1097\, Cyprus
CATEGORIES:Music
ATTACH;FMTTYPE=image/jpeg:https://www.visitcyprus.com/wp-content/uploads/2025/09/cyyso.jpg
END:VEVENT
END:VCALENDAR