BEGIN:VCALENDAR
VERSION:2.0
PRODID:-//Visit Cyprus - ECPv6.15.20//NONSGML v1.0//EN
CALSCALE:GREGORIAN
METHOD:PUBLISH
X-WR-CALNAME:Visit Cyprus
X-ORIGINAL-URL:https://www.visitcyprus.com/de/
X-WR-CALDESC:Veranstaltungen für Visit Cyprus
REFRESH-INTERVAL;VALUE=DURATION:PT1H
X-Robots-Tag:noindex
X-PUBLISHED-TTL:PT1H
BEGIN:VTIMEZONE
TZID:Asia/Nicosia
BEGIN:DAYLIGHT
TZOFFSETFROM:+0200
TZOFFSETTO:+0300
TZNAME:EEST
DTSTART:20250330T010000
END:DAYLIGHT
BEGIN:STANDARD
TZOFFSETFROM:+0300
TZOFFSETTO:+0200
TZNAME:EET
DTSTART:20251026T010000
END:STANDARD
BEGIN:DAYLIGHT
TZOFFSETFROM:+0200
TZOFFSETTO:+0300
TZNAME:EEST
DTSTART:20260329T010000
END:DAYLIGHT
BEGIN:STANDARD
TZOFFSETFROM:+0300
TZOFFSETTO:+0200
TZNAME:EET
DTSTART:20261025T010000
END:STANDARD
BEGIN:DAYLIGHT
TZOFFSETFROM:+0200
TZOFFSETTO:+0300
TZNAME:EEST
DTSTART:20270328T010000
END:DAYLIGHT
BEGIN:STANDARD
TZOFFSETFROM:+0300
TZOFFSETTO:+0200
TZNAME:EET
DTSTART:20271031T010000
END:STANDARD
END:VTIMEZONE
BEGIN:VEVENT
DTSTART;TZID=Asia/Nicosia:20260829T180000
DTEND;TZID=Asia/Nicosia:20260829T233000
DTSTAMP:20260424T112147
CREATED:20260402T114126Z
LAST-MODIFIED:20260402T114326Z
UID:785441-1788026400-1788046200@www.visitcyprus.com
SUMMARY:Running Under The Moon® – Ayia Napa Marina Edition - 29.8.2026
DESCRIPTION:Running Under The Moon® – Ayia Napa Marina Edition offers a unique night running experience that combines sport with the stunning seaside atmosphere of Ayia Napa. The event takes place at Ayia Napa Marina\, one of the most modern and impressive waterfront locations in Cyprus. \nThe event includes 5km and 10km road races\, as well as an Aquathlon race (run–swim–run)\, offering a distinctive experience for athletes of all levels. The route runs along the coastal area\, providing breathtaking views of the sea and the vibrant night energy of the region. \nRunning Under The Moon® is known for its dynamic atmosphere\, music along the course and an unforgettable after party\, making it one of the most exciting summer sporting events in Cyprus. At the same time\, it contributes to the promotion of sports tourism and enhances Ayia Napa as a destination for experiences.
URL:https://www.visitcyprus.com/de/event/running-under-the-moon-ayia-napa-marina-edition/
LOCATION:Agia Napa Marina\, 52 Ayia Thekla Avenue\, Agia Napa\, 5330\, Cyprus
CATEGORIES:Running
ATTACH;FMTTYPE=image/jpeg:https://www.visitcyprus.com/wp-content/uploads/2026/04/underthemoonagianapa.jpg
ORGANIZER;CN="S BODY AND MIND PRODUCTIONS LTD":MAILTO:sotirismavros@gmail.com
END:VEVENT
END:VCALENDAR