BEGIN:VCALENDAR
VERSION:2.0
PRODID:-//Visit Cyprus - ECPv6.15.20//NONSGML v1.0//EN
CALSCALE:GREGORIAN
METHOD:PUBLISH
X-ORIGINAL-URL:https://www.visitcyprus.com/el/
X-WR-CALDESC:Events for Visit Cyprus
REFRESH-INTERVAL;VALUE=DURATION:PT1H
X-Robots-Tag:noindex
X-PUBLISHED-TTL:PT1H
BEGIN:VTIMEZONE
TZID:UTC
BEGIN:STANDARD
TZOFFSETFROM:+0000
TZOFFSETTO:+0000
TZNAME:UTC
DTSTART:20230101T000000
END:STANDARD
END:VTIMEZONE
BEGIN:VEVENT
DTSTART;VALUE=DATE:20241206
DTEND;VALUE=DATE:20250427
DTSTAMP:20260424T031810
CREATED:20250213T064021Z
LAST-MODIFIED:20250213T064021Z
UID:673849-1733443200-1745711999@www.visitcyprus.com
SUMMARY:Repetitive Acts The Power of Weaving and Textile in Contemporary Art - 6.12.2024-26.4.2025
DESCRIPTION:Η έκθεση «Repetitive Acts: Η δύναμη της υφαντικής και του υφάσματος στη σύγχρονη τέχνη» διερευνά τη δύναμη της ύφανσης ως μέσο επικοινωνίας\, αφήγησης και αντίστασης. Από τα αρχαία περουβιανά υφάσματα μέχρι τα σύγχρονα αφγανικά «πολεμικά» χαλιά\, τα υφάσματα λειτουργούν ως σιωπηλοί αλλά εύγλωττοι φορείς νοήματος και μνήμης. Η έκθεση φέρνει την παράδοση της υφαντικής στο παρόν\, εξετάζοντας πώς σύγχρονοι καλλιτέχνες/ιδες από την Κύπρο υπερβαίνουν τις παραδοσιακές της συνδέσεις με την οικιακότητα\, μετατρέποντάς την σε χώρο πολιτικής\, πολιτισμικής και προσωπικής έκφρασης. Η διαδικασία της ύφανσης\, τα επαναλαμβανόμενα μοτίβα και η τελετουργική επανάληψη στη δημιουργία ενός υφαντού παρουσιάζονται ως εξίσου ουσιώδη στοιχεία. \nΏρες Επισκέψεων:\nΤετάρτη – Σάββατο: 10:00 – 20:00 \nΚυριακή: 10:00 – 18:00 \nΔευτέρα & Τρίτη: Κλειστά \n 
URL:https://www.visitcyprus.com/el/event/repetitive-acts-the-power-of-weaving-and-textile-in-contemporary-art-6-12-2024-26-4-2025/
LOCATION:NIMAC\, 19 Palaias Ilektrikis\, Lefkosia\, Nicosia\, 1016\, Cyprus
ATTACH;FMTTYPE=image/jpeg:https://www.visitcyprus.com/wp-content/uploads/2025/02/NiMAC_02.jpg
ORGANIZER;CN="%CE%9C%CE%B1%CF%81%CE%AF%CE%BA%CE%B1 %CE%99%CF%89%CE%AC%CE%BD%CE%BD%CE%BF%CF%85":MAILTO:marika@nimac.org
END:VEVENT
BEGIN:VEVENT
DTSTART;VALUE=DATE:20250111
DTEND;VALUE=DATE:20250602
DTSTAMP:20260424T031810
CREATED:20250107T103114Z
LAST-MODIFIED:20250107T103114Z
UID:637903-1736553600-1748822399@www.visitcyprus.com
SUMMARY:The Cyprus Strollers - Ιανουάριος - Ιούνιος 2025
DESCRIPTION:Το κείμενο αυτό απευθύνεται σε άτομα που δεν γνωρίζουν ικανοποιητικά Αγγλικά\, αλλά επιθυμούν να:\n• Γυμνάζονται το Σαββατοκυρίακο\, πεζοπορώντας\n• Ανακαλύψουν τις ομορφιές της Κυπριακής φύσης\n• Γνωρίσουν νέα άτομα και να συνάψουν νέες φιλίες. \nΟι Cyprus Strollers ταιριάζουν σε εσένα\, και η γλώσσα δεν θα σου είναι εμπόδιο. Οι Cyprus Strollers χρησιμοποιούν την Αγγλική ως γλώσσα γραπτής επικοινωνίας. Όμως\, στις συναντήσεις\, στις πεζοπορίες και στα γεύματα οι συμμετέχοντες μιλούν ελεύθερα όποια γλώσσα προτιμούν. Η συνηθέστερη πρακτική είναι να δημιουργούνται μικρές υποομάδες από συμμετέχοντες\, όπου η κάθε υποομάδα επιλέγει την γλώσσα που την βολεύει. \nΟι Cyprus Strollers είναι ένας πεζοπορικός όμιλος\, που δημιουργήθηκε από τον Ξενοφώντα Χασάπη και ξεκίνησε δραστηριότητα τον Οκτώβριο 2014. Το πλαίσιο δράσης των Cyprus Strollers στηρίζεται στο επιτυχημένο μοντέλο των Athens Strollers\, που ίδρυσε στην Αθήνα ο Ξενοφών το 2009. Ο Ξενοφών είναι λάτρης της πεζοπορίας\, που επέστρεψε στην Λευκωσία από την οποία κατάγεται το 2013\, μετά από 30 και πλέον χρόνια στο εξωτερικό. \nΟι Cyprus Strollers διοργανώνουν μία εξόρμηση την εβδομάδα\, από Οκτώβριο μέχρι και Μάιο. Οι πεζοπορίες γίνονται Σάββατο ή Κυριακή\, εκ περιτροπής\, για να είναι προσιτές σε άτομα που εργάζονται το Σάββατο. Οι πεζοπορίες ξεκινούν το πρωί και ολοκληρώνονται με γεύμα (προαιρετικό) σε γειτονική ταβέρνα ή συνδυάζονται με πικνίκ\, όταν οι συνθήκες το επιτρέπουν. \nΑρκετές πεζοπορίες έχουν διάρκεια μεταξύ 3 και 3 1/2 ωρών. Στην ανακοίνωση οδηγιών για κάθε πεζοπορία αναφέρεται ο βαθμός δυσκολίας. Οι πλείστες πεζοπορίες είναι κατάλληλες για άτομα που έχουν καλή υγεία\, καλή καρδιά και καλή φυσική κατάσταση. Μερικές πεζοπορίες διαρκούν περισσότερο από 3 ώρες και περιλαμβάνουν εντονότερη άσκηση\, που περιλαμβάνει ανηφόρες. Αυτές περιγράφονται με βαθμό δυσκολίας 3 και απευθύνονται σε άτομα που έχουν δοκιμαστεί σε αντίστοιχες εξορμήσεις και πολύ καλή υγεία και φυσική κατάσταση. Μελετήστε προσεκτικά την ενότητα ‘Hike Preparation’\, η οποία παραθέτει εκτενείς οδηγίες και προϋποθέσεις για τη συμμετοχή σας. \nΗ συμμετοχή στους Cyprus Strollers είναι χωρίς χρέωση. Πληρώνετε μόνο την κατανάλωση σας στην ταβέρνα\, εφόσον επιλέξετε να συμμετάσχετε. \nΓια να μάθετε το πρόγραμμα εξορμήσεων επισκεφθείτε τη διεύθυνση https://cyprus-strollers.org/activities-schedule/.\nΓια να διαβάσετε λεπτομερείς οδηγίες για κάθε πεζοπορία που σάς ενδιαφέρει\, επισκεφθείτε τη διεύθυνση https://cyprus-strollers.org/activities-description/.\nΓια να επικοινωνήσετε με τους διοργανωτές γράψτε στη διεύθυνση XenophondotHasapisatgmaildotcom\, δίνοντας οπωσδήποτε το κινητό σας τηλέφωνο. \nΜπορείτε επίσης να παρακολουθείτε τις δραστηριότητες μας στο facebook https://www.facebook.com/The-Cyprus-Strollers-101725088371476 \nΗ συμμετοχή στους Cyprus Strollers γίνεται με απόλυτη δική σας ευθύνη. Οι Cyprus Strollers είναι ένας όμιλος συναναστροφής και οι διοργανωτές και ο αρχηγός κάθε πεζοπορίας δεν φέρουν καμία ευθύνη για την ασφάλεια και υγεία των συμμετεχόντων.
URL:https://www.visitcyprus.com/el/event/the-cyprus-strollers-%ce%b9%ce%b1%ce%bd%ce%bf%cf%85%ce%ac%cf%81%ce%b9%ce%bf%cf%82-%ce%b9%ce%bf%cf%8d%ce%bd%ce%b9%ce%bf%cf%82-2025/
ATTACH;FMTTYPE=image/jpeg:https://www.visitcyprus.com/wp-content/uploads/2025/01/cyprustrollers.jpg
ORGANIZER;CN="Xenophon Hasapis":MAILTO:xenophondothasapis@gmail.com)
END:VEVENT
END:VCALENDAR