BEGIN:VCALENDAR
VERSION:2.0
PRODID:-//Visit Cyprus - ECPv6.15.20//NONSGML v1.0//EN
CALSCALE:GREGORIAN
METHOD:PUBLISH
X-ORIGINAL-URL:https://www.visitcyprus.com/el/
X-WR-CALDESC:Events for Visit Cyprus
REFRESH-INTERVAL;VALUE=DURATION:PT1H
X-Robots-Tag:noindex
X-PUBLISHED-TTL:PT1H
BEGIN:VTIMEZONE
TZID:Asia/Nicosia
BEGIN:DAYLIGHT
TZOFFSETFROM:+0200
TZOFFSETTO:+0300
TZNAME:EEST
DTSTART:20240331T010000
END:DAYLIGHT
BEGIN:STANDARD
TZOFFSETFROM:+0300
TZOFFSETTO:+0200
TZNAME:EET
DTSTART:20241027T010000
END:STANDARD
BEGIN:DAYLIGHT
TZOFFSETFROM:+0200
TZOFFSETTO:+0300
TZNAME:EEST
DTSTART:20250330T010000
END:DAYLIGHT
BEGIN:STANDARD
TZOFFSETFROM:+0300
TZOFFSETTO:+0200
TZNAME:EET
DTSTART:20251026T010000
END:STANDARD
BEGIN:DAYLIGHT
TZOFFSETFROM:+0200
TZOFFSETTO:+0300
TZNAME:EEST
DTSTART:20260329T010000
END:DAYLIGHT
BEGIN:STANDARD
TZOFFSETFROM:+0300
TZOFFSETTO:+0200
TZNAME:EET
DTSTART:20261025T010000
END:STANDARD
END:VTIMEZONE
BEGIN:VEVENT
DTSTART;TZID=Asia/Nicosia:20251207T100000
DTEND;TZID=Asia/Nicosia:20251207T170000
DTSTAMP:20260425T004359
CREATED:20251103T083543Z
LAST-MODIFIED:20251103T083543Z
UID:755094-1765101600-1765126800@www.visitcyprus.com
SUMMARY:Στη Λάνια Χριστούγεννα σημαίνουν… -7.12.2024
DESCRIPTION:Την Κυριακή 7 Δεκεμβρίου σας περιμένουμε στη Λάνια\, το όμορφο χωριό της Λεμεσού. Μέσα από διάφορες δραστηριότητες θα νιώσουμε το πνεύμα των Χριστουγέννων στέλνοντας το μήνυμα της αγάπης\, της προσφοράς και της συναδέλφωσης.\nΜαζί μας η ομάδα του Αγίου Βασίλη που θα μαζεύει χρήματα για το Funraising Charity Foundation και με πολλές άλλες εκπλήξεις. \nΓια το πρόγραμμα πατήστε εδώ
URL:https://www.visitcyprus.com/el/event/%cf%83%cf%84%ce%b7-%ce%bb%ce%ac%ce%bd%ce%b9%ce%b1-%cf%87%cf%81%ce%b9%cf%83%cf%84%ce%bf%cf%8d%ce%b3%ce%b5%ce%bd%ce%bd%ce%b1-%cf%83%ce%b7%ce%bc%ce%b1%ce%af%ce%bd%ce%bf%cf%85%ce%bd-7-12-2024/
LOCATION:Lania Village Square\, 4744\, Cyprus
CATEGORIES:Other
ORGANIZER;CN="Lania Community Board":MAILTO:laniacb@cytanet.com.cy
END:VEVENT
END:VCALENDAR