BEGIN:VCALENDAR
VERSION:2.0
PRODID:-//Visit Cyprus - ECPv6.15.20//NONSGML v1.0//EN
CALSCALE:GREGORIAN
METHOD:PUBLISH
X-ORIGINAL-URL:https://www.visitcyprus.com
X-WR-CALDESC:Events for Visit Cyprus
REFRESH-INTERVAL;VALUE=DURATION:PT1H
X-Robots-Tag:noindex
X-PUBLISHED-TTL:PT1H
BEGIN:VTIMEZONE
TZID:Asia/Nicosia
BEGIN:DAYLIGHT
TZOFFSETFROM:+0200
TZOFFSETTO:+0300
TZNAME:EEST
DTSTART:20250330T010000
END:DAYLIGHT
BEGIN:STANDARD
TZOFFSETFROM:+0300
TZOFFSETTO:+0200
TZNAME:EET
DTSTART:20251026T010000
END:STANDARD
BEGIN:DAYLIGHT
TZOFFSETFROM:+0200
TZOFFSETTO:+0300
TZNAME:EEST
DTSTART:20260329T010000
END:DAYLIGHT
BEGIN:STANDARD
TZOFFSETFROM:+0300
TZOFFSETTO:+0200
TZNAME:EET
DTSTART:20261025T010000
END:STANDARD
BEGIN:DAYLIGHT
TZOFFSETFROM:+0200
TZOFFSETTO:+0300
TZNAME:EEST
DTSTART:20270328T010000
END:DAYLIGHT
BEGIN:STANDARD
TZOFFSETFROM:+0300
TZOFFSETTO:+0200
TZNAME:EET
DTSTART:20271031T010000
END:STANDARD
END:VTIMEZONE
BEGIN:VEVENT
DTSTART;TZID=Asia/Nicosia:20260606T170000
DTEND;TZID=Asia/Nicosia:20260606T230000
DTSTAMP:20260424T024749
CREATED:20260421T105801Z
LAST-MODIFIED:20260421T105826Z
UID:785955-1780765200-1780786800@www.visitcyprus.com
SUMMARY:NICOSIA SUPPORTS THE CYPRUS WINE - 6.6.2026
DESCRIPTION:Long-standing institution taking place in Nicosia with the support of the lions club Nicosia within the walls for promoting the Cyprus wine and of our wineries.
URL:https://www.visitcyprus.com/event/nicosia-supports-the-cyprus-wine-6-6-2026/
LOCATION:ELEFTHERIA SQUARE NICOSIA\, Konstantinou Palaiologou 20e\, Nicosia\, 1010
CATEGORIES:Charity,Food & Drink
ATTACH;FMTTYPE=image/png:https://www.visitcyprus.com/wp-content/uploads/2026/04/wine.png
END:VEVENT
END:VCALENDAR