BEGIN:VCALENDAR
VERSION:2.0
PRODID:-//Visit Cyprus - ECPv6.15.20//NONSGML v1.0//EN
CALSCALE:GREGORIAN
METHOD:PUBLISH
X-ORIGINAL-URL:https://www.visitcyprus.com
X-WR-CALDESC:Events for Visit Cyprus
REFRESH-INTERVAL;VALUE=DURATION:PT1H
X-Robots-Tag:noindex
X-PUBLISHED-TTL:PT1H
BEGIN:VTIMEZONE
TZID:UTC
BEGIN:STANDARD
TZOFFSETFROM:+0000
TZOFFSETTO:+0000
TZNAME:UTC
DTSTART:20230101T000000
END:STANDARD
END:VTIMEZONE
BEGIN:VTIMEZONE
TZID:UTC
BEGIN:STANDARD
TZOFFSETFROM:+0000
TZOFFSETTO:+0000
TZNAME:UTC
DTSTART:20210101T000000
END:STANDARD
END:VTIMEZONE
BEGIN:VEVENT
DTSTART;VALUE=DATE:20241018
DTEND;VALUE=DATE:20241028
DTSTAMP:20260424T134620
CREATED:20241011T055036Z
LAST-MODIFIED:20241011T055522Z
UID:560506-1729209600-1730073599@www.visitcyprus.com
SUMMARY:WIP Arts & Technology Festival - 18-27.10.2024
DESCRIPTION:WIP24: De-Clouding Art & Technology in the Heart of Nicosia \nThe WIP (Work in Progress) Arts & Technology Festival returns for its fourth edition from the 18th to 27th of October\, 2024\, turning the old city of Nicosia into a dynamic space of creativity\, technology\, and innovation. Following the success of previous years\, WIP24 promises a unique experience where art\, technology\, and innovation come together to explore the challenges and opportunities of our present and future. \nThis year’s theme\, de____cloud\, reflects the tension between two perspectives: the Symbiocene\, which imagines a harmonious coexistence between humanity and nature\, and Hyperreality\, a concept from Jean Baudrillard that questions the blurred lines between reality and simulation. Through this theme\, the festival investigates the complexities of our techno-driven present while seeking to clear the beclouded visions of our potential futures. \nHosted at the newly renovated Old Municipal Market\, which now houses the CYENS Centre of Excellence\, WIP24 makes use of this unique venue to bring together artists from around the world who utilize new technologies to challenge the boundaries of reality. \nA Platform for Exchange and Exploration \nWIP24 offers a wide range of activities\, including exhibitions\, workshops\, talks\, and performances\, providing a platform for dialogue between artists\, scientists\, technologists\, and the public. Visitors can explore topics at the intersection of art and technology through the variety of engaging formats\, and the exciting opening party in the heart of the old city. \nKey Venues and Highlights WIP24 will take place across several venues in Nicosia\, including the CYENS Agora Building\, the Wood & Metal Workshop\, Dimarchou Lellou Demetriadi Square\, and Theatro Polis. The highlights of the festival are: \n· Opening Party on October 18th at Dimarchou Lellou Demetriadi Square\, with live music\, interactive displays\, and performances. \n· Workshops and Talks by international experts at the forefront of art\, science\, and technology. \n· Exhibitions from international artists working in interdisciplinary contexts. \nThe Future of Arts and Technology in the Mediterranean \nOrganized by the CYENS Centre of Excellence\, WIP24 is quickly becoming a key platform in the Eastern Mediterranean for scientists\, artists\, and technologists working at the intersection of these fields. It aims to be a reference point for those exploring the ever-evolving synergies between arts\, science\, and technology. \nJoin Us! \nWhether you’re a visitor\,artist\, scientist\, or technologist\, WIP24 welcomes you\, promising an inspiring journey! \n  \nVisiting Hours:   \n18.10.24 / 18:30-22:00 \n19-20.10.24 / 10:00-21:00 \n21-27.10.24 / 10:00 – 20:00
URL:https://www.visitcyprus.com/event/wip-arts-technology-festival-18-27-10-2024/
LOCATION:CYENS Centre of Excellence\, 23 Dimarchou Lellou Demetriadi (formerly Dimarchias Square)\, Lefkosia\, 1016
CATEGORIES:Business,Technology Festival
ORGANIZER;CN="CYENS Centre of Excellence":MAILTO:wip@cyens.org.cy
END:VEVENT
BEGIN:VEVENT
DTSTART;TZID=UTC:20241012T080000
DTEND;TZID=UTC:20241013T000000
DTSTAMP:20260424T134620
CREATED:20241010T050144Z
LAST-MODIFIED:20241010T051138Z
UID:560075-1728720000-1728777600@www.visitcyprus.com
SUMMARY:Discover Tylliria - 12-13.10.2024
DESCRIPTION:Interested for the excursion in Tylliria organised by the Nicosia Tourism Board?\n\n\n\n\n\n\n\nNicosia Tourism Board – Discover Tylliria \nNicosia Tourism Βoard\, in collaboration with the Deputy Ministry of Tourism\, is pleased to announce the launch of pilot excursions under the “Discover Tylliria” initiative. The aim of this program is to introduce the public to the rich history and traditions of the remote Tylliria region and to enhance its tourism appeal. \nThe first excursion will take place over the weekend of October 12-13\, 2024. Transportation to and from Tylliria from Nicosia\, as well as guided tours of the area’s points of interest\, will be sponsored by NTB and the Deputy Ministry of Tourism. \nThe excursion itinerary includes visits to various points of interest such as the Medieval Tower\, local churches\, the archaeological site “Avli\,” a visit to a workshop producing traditional Halitzi cheese\, traditional kilns\, and a photographic walk at the picturesque harbor of Kato Pyrgos. \nFor more information regarding departure and return points\, as well as reservations\, please contact info@ntb.org.cy or call 22889704. \n\nFor the reservations click here  \n\nFor the programme clich here
URL:https://www.visitcyprus.com/event/discover-tylliria-12-13-10-2024/
LOCATION:Tylliria
CATEGORIES:Other
END:VEVENT
BEGIN:VEVENT
DTSTART;TZID=UTC:20230601T180000
DTEND;TZID=UTC:20230601T200000
DTSTAMP:20260424T134620
CREATED:20230526T102801Z
LAST-MODIFIED:20230526T102801Z
UID:498741-1685642400-1685649600@www.visitcyprus.com
SUMMARY:Discover\, Bid and Celebrate! Info Day of WIP Arts & Technology Festival
DESCRIPTION:Υou’re invited to Discover\, Bid and Celebrate!\,the Info Day of WIP Arts & Technology Festival on June 1st from 6PM-8PM\, organized by CYENS Centre of Excellence.\n	 \n	Come and learn more about how you can take part in the Festival by showcasing your work or volunteering. In addition to valuable information\, we will also be hosting an exciting auction of Fabricated goodies from Thinker Maker Space.\n	 \n	You won’t want to miss out on the opportunity to bid on some amazing creations! “Auctioneer” Panayiotis Mina will get the bidding going along with a sound performance.\n	 \n	We will be offering free beer and snacks to all attendees\n	 \n	WIP Arts & Technology Festival\, organized annually by CYENS Centre of Excellence invites artists and researchers from around the world to showcase their work. This year’s festival with the title Modes of Creation\, embraces a range of mediums\, including media artworks\, interactive games\, installations\, live performances\, talks\, and workshops\, designed to showcase the intersection of art and technology.More \n	Venue:\n	CYENS Centre of Excellence\n	Name:  Discover\, Bid and Celebrate! Info Day of WIP Arts & Technology Festival\n	Postal address: 23 Dimarchou Lellou Demetriadi Street\, (Formerly Dimarchias Square)\, Nicosia 1016\n	Phone number:  +35722 747575  \n	Website: https://2023wip.cyens.org.cy/news/wip-info-day/?preview\n	Social media: Instagram: link\, Facebook: link \n\n	Start date/End date:   June 1st\, 2023 (only)\n	  \n\n	Start time/End time:  18:00 – 20:00\n	 \n	Entrance Price/Τicket: FREE\n	  \nOrganiser Contact Details \nName:  CYENS Centre of Excellence\nTelephone:  22 747569\nEmail:  wip@cyens.org.cy\n Postal Address: 23 Dimarchou Lellou Demetriadi Street\, (Formerly Dimarchias Square)\, Nicosia 1016
URL:https://www.visitcyprus.com/event/discover-bid-and-celebrate-info-day-of-wip-arts-technology-festival/
CATEGORIES:Other
ATTACH;FMTTYPE=image/jpeg:https://www.visitcyprus.com/wp-content/uploads/2023/05/647089a2c0aad2.42902736.jpeg
END:VEVENT
BEGIN:VEVENT
DTSTART;TZID=UTC:20230408T180000
DTEND;TZID=UTC:20230408T220000
DTSTAMP:20260424T134620
CREATED:20230406T050441Z
LAST-MODIFIED:20230406T050441Z
UID:498714-1680976800-1680991200@www.visitcyprus.com
SUMMARY:10th PRESENTATION FAIR OF CYPRUS WINES - FAMAGUSTA
DESCRIPTION:Annual presentation – fair of Cyprus wines. Is taking place alternately at Ayia Napa and Paralimni municipalities. This year is the 10th exhibition and is organized at the Laxia Venue in Paralimni. There is always participation of more than 30 Cypriot wineries and about 1\,000 visitors\, locals and foreigners. Our wine fair enriches the local tourist area in winter time with this massive event. Alongside with the update information for wine which is offered to foreigners\, the winemakers have the chance to promote their products to the local tourist market for the upcoming summer tourist season. Foreigners-tourists whom we transfer free with busses towards the venue area\, they assure as for their best impressions they get from tasting Cyprus wines\, especially from the sweet one Comandaria. \n		 \n\n		Vemue:\n		Name:  Laxia Restaurant – venue\n		Postal address: 40 Protara Kavo Greco\, 5292 Paralimni\n		Phone number: +357 23740320\n		Social media: Facebook – Laxia Restaurant – Venue  \n		Start Date/End Date: 8 April 2023 \n		Start time/ End time:  18:00 – 22:00\n\n		\n		Entrance: FREE\n\n		 \n\nSocial Media Channels of Event and/or of Event Organiser\n(e.g. Facebook\, Instagram etc.):  \nwww.facebook.com/OmilosOinofilwnAmmochostou\ninstagram.com/omilosoinofilonammochostou?igshid=ZDdkNTZiNTM= \nOrganiser Contact Details \nName:  Famagusta Wine Club “Vakchus” – Lefteris Theodorou\nTelephone:  99451360\nEmail:  L.f.theodorou@cytanet.com.cy
URL:https://www.visitcyprus.com/event/10th-presentation-fair-of-cyprus-wines-famagusta/
CATEGORIES:Other
ATTACH;FMTTYPE=image/jpeg:https://www.visitcyprus.com/wp-content/uploads/2023/04/642e52e3bc99c2.05278285.jpeg
END:VEVENT
BEGIN:VEVENT
DTSTART;VALUE=DATE:20221215
DTEND;VALUE=DATE:20221231
DTSTAMP:20260424T134620
CREATED:20221130T121949Z
LAST-MODIFIED:20221130T121949Z
UID:498664-1671062400-1672444799@www.visitcyprus.com
SUMMARY:Φετος Τα Χριστουγεννα Ολοι Παμε Στο «Μαγικο Παρκο Cablenet - Αγλαντζιας» !!
DESCRIPTION:Για δεύτερη συνεχή χρονιά\, Δήμος Αγλαντζιάς φορά τα γιορτινά του και από τις 15 μέχρι και τις 30 Δεκεμβρίου 2022 μετατρέπει το Πάρκο Σπύρος Κυπριανού σε «Μαγικό Πάρκο Cablenet-Αγλαντζιάς»\, προσφέροντας χαρά σε μικρούς και μεγάλους κατά την περίοδο των Χριστουγέννων. \n	Πολύχρωμα φώτα\, παιχνίδια\, ζωντανή μουσική και ποικίλες άλλες δραστηριότητες θα βάλουν στο πνεύμα των ημερών όλους τους επισκέπτες\, μεταφέροντας στους Δημότες της Αγλαντζιάς και της ευρύτερης Λευκωσίας λίγη από τη μαγεία των Χριστουγέννων. \n	Πλούσιο καλλιτεχνικό πρόγραμμα θα ομορφύνει τις μέρες και τις νύχτες μας\, ενώ στο «Μαγικό Πάρκο Cablenet- Αγλαντζιάς» θα λειτουργήσει μεγάλη χριστουγεννιάτικη αγορά με ποιοτικό φαγητό\, άφθονο ποτό και πολλές επιλογές για χριστουγεννιάτικα δώρα.\n	Αξίζει να σημειωθεί ότι η είσοδος θα είναι δωρεάν για όλους. \n	Το πρόγραμμα των χριστουγεννιάτικων εκδηλώσεων θα ανακοινωθεί μέσα από την ιστοσελίδα του Δήμου Αγλαντζιας και στη σελίδα του Δήμου στο Facebook. \n	Μέγας Χορηγός του «Μαγικού Πάρκου» είναι η Cablenet.  Χορηγός επικοινωνίας είναι ο MixFM.\n	  \n	Ημερομηνία έναρξης/Ημερομηνία λήξης:  15-30 Δεκεμβρίου 2022 \n	Ώρα έναρξης/Ώρα λήξης:  Καθημερινές 16:00-22:00 / Σαββατοκύριακα 10:00 – 22:00 \n	Για το πρόγραμμα πατήστε εδώ\n	 \nΔήμος Αγλαντζιάς\nΤηλ. 22462058\nηλ. διεύθυνση: maria.nicolaou@aglantzia.org.cy\nιστοσελίδα: www.aglantzia.org.cy
URL:https://www.visitcyprus.com/event/%cf%86%ce%b5%cf%84%ce%bf%cf%82-%cf%84%ce%b1-%cf%87%cf%81%ce%b9%cf%83%cf%84%ce%bf%cf%85%ce%b3%ce%b5%ce%bd%ce%bd%ce%b1-%ce%bf%ce%bb%ce%bf%ce%b9-%cf%80%ce%b1%ce%bc%ce%b5-%cf%83%cf%84%ce%bf-%ce%bc/
CATEGORIES:Other
ATTACH;FMTTYPE=image/jpeg:https://www.visitcyprus.com/wp-content/uploads/2022/11/63874a5c3cbb48.56278520.jpeg
END:VEVENT
BEGIN:VEVENT
DTSTART;TZID=UTC:20220619T180000
DTEND;TZID=UTC:20220619T220000
DTSTAMP:20260424T134620
CREATED:20220516T052242Z
LAST-MODIFIED:20220516T052242Z
UID:498562-1655661600-1655676000@www.visitcyprus.com
SUMMARY:Wine - Flavors of Cyprus
DESCRIPTION:“WINE – FLAVORS OF CYPRUS» event is addressed to all Cypriot wine lovers and foreigners who live in Cyprus as well as all foreign visitors who will be on the island during this period and is targeting:\n  \n\n\n		To project the Cypriot wine made from mainly indigenous but also various international grape varieties that are being cultivated in Cyprus\, to bring the visitor in direct contact with the wine producers/oenologists/winemakers and to exchange opinions and experiences\, to get to know and have the opportunity to taste the award winning wines of the 13th Cyprus Wine Competition.\n\n		To acknowledge the continuous development and rising path of the Cypriot wines through the simple and also the comparative tasting.\n\n		To provide the visitors the opportunity to participate in workshops and become aware of: \n\n\n				The proper way of serving the wines\n\n				The art of tasting the wines and the pairing of wines from the indigenous varieties and the Commandaria with various traditional products.\n\n				The process of producing ‘palouze’ which the visitor will have the chance to taste\n\n				The proper way of the production of the ‘Zivania’ as one of the noble wine products. During the ‘Zivania’ production\, information about the harmful effects of the higher alcohols which come from the first extraction of ‘Zivania’ will be shared with the visitors and they will also be informed that same must not be consumed.\n\n\n\nFor the programme click here \nLocation:\nLimassol Old Port Square\n21\, Spyrou Araouzou\, 3036 Lemesos\nPhone number: +357 25359707 \nStart date/End date: Sunday\, 19th of June\, 2022 \nStart time/ End time:  18:00 – 22:00 \nEntrance Price/Τicket: Free \n \nOrganiser Contact Details \nName:  CYPRUS OENOPHILE ASSOCIATION\nTelephone:  7007 9463\nEmail:  info@cyprusoenophileassociation.com \nPostal Address: P.O.BOX 56270\, 3304 Limassol
URL:https://www.visitcyprus.com/event/wine-flavors-of-cyprus/
CATEGORIES:Other
ATTACH;FMTTYPE=image/jpeg:https://www.visitcyprus.com/wp-content/uploads/2022/05/6281df43803b45.88090385.jpeg
END:VEVENT
END:VCALENDAR