BEGIN:VCALENDAR
VERSION:2.0
PRODID:-//Visit Cyprus - ECPv6.15.20//NONSGML v1.0//EN
CALSCALE:GREGORIAN
METHOD:PUBLISH
X-WR-CALNAME:Visit Cyprus
X-ORIGINAL-URL:https://www.visitcyprus.com
X-WR-CALDESC:Events for Visit Cyprus
REFRESH-INTERVAL;VALUE=DURATION:PT1H
X-Robots-Tag:noindex
X-PUBLISHED-TTL:PT1H
BEGIN:VTIMEZONE
TZID:Asia/Nicosia
BEGIN:DAYLIGHT
TZOFFSETFROM:+0200
TZOFFSETTO:+0300
TZNAME:EEST
DTSTART:20250330T010000
END:DAYLIGHT
BEGIN:STANDARD
TZOFFSETFROM:+0300
TZOFFSETTO:+0200
TZNAME:EET
DTSTART:20251026T010000
END:STANDARD
BEGIN:DAYLIGHT
TZOFFSETFROM:+0200
TZOFFSETTO:+0300
TZNAME:EEST
DTSTART:20260329T010000
END:DAYLIGHT
BEGIN:STANDARD
TZOFFSETFROM:+0300
TZOFFSETTO:+0200
TZNAME:EET
DTSTART:20261025T010000
END:STANDARD
BEGIN:DAYLIGHT
TZOFFSETFROM:+0200
TZOFFSETTO:+0300
TZNAME:EEST
DTSTART:20270328T010000
END:DAYLIGHT
BEGIN:STANDARD
TZOFFSETFROM:+0300
TZOFFSETTO:+0200
TZNAME:EET
DTSTART:20271031T010000
END:STANDARD
END:VTIMEZONE
BEGIN:VEVENT
DTSTART;TZID=Asia/Nicosia:20260121T100000
DTEND;TZID=Asia/Nicosia:20260418T170000
DTSTAMP:20260424T144730
CREATED:20260126T061103Z
LAST-MODIFIED:20260126T061103Z
UID:782097-1768989600-1776531600@www.visitcyprus.com
SUMMARY:Hambis Municipal Printamking Museum\, Nicosia - 21.1-18.4.2026
DESCRIPTION:The Evolution of Printmaking  in Europe from the 16th Century to the Present Day through Works from the Hambis Printmaking Museum Collection \nThe exhibition includes only the first two printmaking techniques\, Woodcut and Etching. \nOn the occasion of the Cyprus Presidency of the Council of Europe\, the Hambis Municipal Printmaking Museum in Nicosia\, presents an important exhibition of prints from its collection. The exhibition offers an overview of the two basic techniques of printmaking\, woodcut and etching  in Europe. The works have been selected based on the variety of periods in which they were created – from the 16th century to the present day – as well as the variety of themes. Emphasis is placed on presenting the different methods of the two techniques. \nThe aim of the exhibition is to highlight the creativity and inventiveness of printmakers in relation to painting. With the aim of highlighting the primary and essential role of Printmaking in the dissemination of images across all social spectrum\, the exhibition presents both independent works and book illustrations\, aimed at a wide audience. It also offers an overview of European artistic movements\, with works by the great names in painting and printmaking. The exhibition\, presents the many exchanges in the art world between European countries. \nA brief history of the two techniques \nPrintmaking appeared in the West World in the early 15th century and contributed significantly to the dissemination of texts and images. Woodcut\, the original form of printmaking\, was based on engraved wooden blocks that could be easily printed along with the typographic elements. In this technique\, only the raised\, unengraved parts of the wood retain the ink and are imprinted on the paper\, a process called Relief. The ability to reproduce works gave artists the opportunity to disseminate their designs to a wider audience. \nFrom the 15th century onwards\, woodcut began to compete with etchings. Engraving on metal plates\, mainly copper\, allowed for greater precision and detail\, as metal is more durable and uniform than wood. In copperplate printmaking\, ink is retained in the engraved lines\, while the smooth areas are cleaned\, a process called intaglio. \nAlthough printmaking made great strides\, it never gained the prestige of painting\, as it struggles to fully render the nuances of light and color. However\, many important artists were also printmakers\, creating original works of high artistic value that brought art closer to the general public. \n  \nΛεζαντες / captions \nJohann GRÜNINGER – Βεργιλίου Αινειάδα Η άλωση της Τροίας (5091 III) \nFrans MASEREEL La ville N° 13-42-72-100 (4918-21) \nΧΑΜΠΗΣ Η φραγκοεκκλησιά (4632) \nAuguste RODIN & Auguste LEPÈRE Buste de Balzac (5254) \nFrancisco José de GOYA y LUCIENTES Nadie nos ha visto(3943)   \nMarc CHAGALL L’âne chargé d’éponges et l’âne chargé de sel (3480) \n  \nCurator – Texts: Helen Reeb \nCollection: Hambis Printmaking Museum \nOPENING HOURS \nWEDNESDAY – SATURDAY  \n10:00 – 13:00 / 15:00 – 17:00
URL:https://www.visitcyprus.com/event/hambis-municipal-printamking-museum-nicosia-21-1-18-4-2026/
LOCATION:Hambis Municipal Printmaking Museum\, 55-59 Αmmochostou Str.\, Lefkosia\, 1016\, Cyprus
CATEGORIES:Art Exhibition
ATTACH;FMTTYPE=image/gif:https://www.visitcyprus.com/wp-content/uploads/2026/01/hambis.gif
END:VEVENT
END:VCALENDAR