BEGIN:VCALENDAR
VERSION:2.0
PRODID:-//Visit Cyprus - ECPv6.15.20//NONSGML v1.0//EN
CALSCALE:GREGORIAN
METHOD:PUBLISH
X-WR-CALNAME:Visit Cyprus
X-ORIGINAL-URL:https://www.visitcyprus.com
X-WR-CALDESC:Events for Visit Cyprus
REFRESH-INTERVAL;VALUE=DURATION:PT1H
X-Robots-Tag:noindex
X-PUBLISHED-TTL:PT1H
BEGIN:VTIMEZONE
TZID:UTC
BEGIN:STANDARD
TZOFFSETFROM:+0000
TZOFFSETTO:+0000
TZNAME:UTC
DTSTART:20200101T000000
END:STANDARD
END:VTIMEZONE
BEGIN:VEVENT
DTSTART;VALUE=DATE:20230401
DTEND;VALUE=DATE:20230501
DTSTAMP:20260425T233525
CREATED:20230329T090746Z
LAST-MODIFIED:20230329T090746Z
UID:498711-1680307200-1682899199@www.visitcyprus.com
SUMMARY:April at Rialto Theatre...
DESCRIPTION:April is the month with the most glamorous Film Festival in Cyprus and is almost here…\n	 \n	3/4 MONDAY20:30 (60’)\n	5 Lesbians eating a quiche –Andrew Hobgood & Evan Linder I FlashArt 2023 ON STAGE\n	Sharing a rather unusual passion for quiche\, five women gather in a church basement for the annual quiche competition. There\, they will confront their greatest fears\, as well as their sexual identity. A black absurd comedy – all for the love of quiche. In Greek.\n	€ 15 / 12\n	 \n	 \n	6\, 7/4 THURSDAY& FRIDAY20:30 (75’)\n	An Oak Tree – Tim Crouch ON STAGE \n	The Oak Treeis an actor’s worst nightmare. Together with Marina Argyridou\, Andreas Koutsoftas (6/4) and Lia Haraki (7/4) co-star in a daring theatrical challenge where the boundaries of reality are becoming constantly blurred. In Greek.\n	€ 15 / 12\n	 \n	8/4  SATURDAY20:30  (90’)\n	Tribute to Famagusta \n	A narrated performance set to music\, a journey across occupied Famagusta. A selected repertoire of songs will be accompanying the narration through a heart-warming presentation of the history of Famagusta. With the participation ofGreek Cypriot and Turkish Cypriot musicians.\n	€15 / 12\n	 \n	 \n	9/4 SUNDAY 11:00 (90’)\n	Peripato | Maria Varnakkidou and Konstantina Andreou   \n	This interactive sound walk around and across Heroes’ Square is dedicated to those people who lived it\, are currently living it and who will experience it in the future. In Greek.\n	€ 5\n	 \n	 \n	9/4 SUNDAY18:00 & 20:00 (70’) ON STAGE\n	Before theGerman’s Here by Marta Barceló ΙHAMM Broductions \n	A modern play on Alzheimer’s disease\, directed by Costas Silvestros. Acclaimed Cypriot actress Popi Avraam takes the lead\, accompanied by upcoming young actor Andreas Koutsoftas. In Greek.\n	€ 15 / 12\n	 \n	10/4 MONDAY20:30 (100’)\n	At Frynihou street… | Thodoris Voutsikakis\, Lina Nikolakopoulou\n	Radio station LOVE FM 100.7 presents a musical show curated by Lina Nikolakopoulou\, which has been greatly embraced by the Athenian audience at the legendary theatre ‘Theatro Technis’. Featuring Thodoris Voutsikakis (voice)\, Neoklis Neofytides (piano)\, Vangelis Machairas (oud\, mandolin).\n	€ 25 / 20\n	 \n	11/4 TUESDAY 20:30  (80’)                    \n	RED PETER / FRANTZ KAFKA\n	an adaption of the works A Report to an Academy\, The Judgment & Metamorphosis IAntilogosTheatre(12+) \n	Red Peter\, speaking before a scientific conference\, describes his former life as an ape. A theatrical play staged by Antilogos Theatre. With Greek and Turkish surtitles.\n	€13 / 10\n	 \n	21 – 29/4  FRIDAY– SATURDAY20:00\, 22:00 \n	Cyprus Film Days 2023 (18+) \n	The 21st Cyprus Film Days International Festival presents an eclectic programme of films in Limassol and Nicosia including an international competition section (Glocal Images)\, world-acclaimed film premieres (Viewfinder)\, Cypriot productions\, tributes and screenings for children and youth\, as well as multiple other events\, dedicated to fiction feature films. Cyprus Film Days also presents CFD for Children and Youth curated by artistic director Stavros Pamballis\, as well as the 4th Dot on the Map Industry Days headed by Danae Stylianou. All films will be screened in their original language with Greek and English subtitles.\n	€5 /30 (Festival Pass)\n	 \n	 \n	Venue:  \n\n	Rialto Theatre\n	Andrea Drousioti\, Str.Heroes Square 3040 Lemesos \n	Phone number: 77777745\n	Fax No.: 25749663\n	Website: www.rialto.com.cy \n\n	\n	Start date/End date:  1 – 30 April 2023 \n	Start time/End time:  For the programme and the time of the event click here \n	Visiting Hours:  Monday – Friday 10:00-15:00 \n	Entrance Price/Τicket: depends \n	Social Media\n	Rialto FB: Rialto Theatre – ΘέατροΡιάλτο(Rialto Theatre – ΘέατροΡιάλτο| Facebook) \n\n	  \n\n	  \n\n	\n	    \n	  \nOrganizer Contact Details \nName:  Olivia Christou\nTelephone:  97847273\nEmail:  marketing@rialto.com.cy
URL:https://www.visitcyprus.com/event/april-at-rialto-theatre/
CATEGORIES:Cinema
ATTACH;FMTTYPE=image/jpeg:https://www.visitcyprus.com/wp-content/uploads/2023/03/6423ffdb740f26.02317854.jpeg
END:VEVENT
BEGIN:VEVENT
DTSTART;TZID=UTC:20220726T210000
DTEND;TZID=UTC:20220726T224500
DTSTAMP:20260425T233525
CREATED:20220713T065651Z
LAST-MODIFIED:20220713T065651Z
UID:498605-1658869200-1658875500@www.visitcyprus.com
SUMMARY:A Taste of Hunger
DESCRIPTION:100’\, Denmark\, Sweden\, 2021\n	 \n	Maggi and Carsten are couple in work and in life. She is an anthropologist who has designed the extraordinary setting of their restaurant that aspires to become Copenhagen’s next best thing. Carsten is the chef. Daring\, full of ideas\, strict and a perfectionist\, he struggles to win the prestigious Michelin star\, sacrificing almost everything. A captivating film about ambition and human relationships\, backed by the powerful performances of its cast.\n	 \n	Screenplay: Christoffer Boe\, Tobias Lindholm\n	Directing: Christoffer Boe\n	Cast: Nikolaj Coster-Waldau\, Katrine Greis-Rosenthal\, Charlie Gustafsson\, Dag Malmberg\, Nicolas Bro\, Flora Augusta\, August Vinkel\n	 \n	  \n\n\n		The screening is part of the Rialto Summer Cinema\n\n\n	All films of Rialto Summer Cinema will be screened in the original language of production\, with greek and english subtitles.  \n\n	  \n\n	Venue: \n	Parking Place of SΕΚ (Behind of the Rialto Theatre) \n	Kyriakou Economou 21\, 3040 Limassol\n	Phone number: 77777745\n	Fax No.: 25749663\n	Website: www.rialto.com.cy \n	Start date/End date:  26 July 2022 \n	Start time/End time:  21:00-22:45 \n	Entrance Price/Τicket:  €8  \n	  \n\n	  \n\n	\n	    \n	  \nRialto Theatre\nTelephone No.: +357 25343902\nE-mail: niki@rialto.com.cy
URL:https://www.visitcyprus.com/event/a-taste-of-hunger/
CATEGORIES:Cinema
ATTACH;FMTTYPE=image/jpeg:https://www.visitcyprus.com/wp-content/uploads/2022/07/62ce6caf4019e1.75103621.jpeg
END:VEVENT
BEGIN:VEVENT
DTSTART;TZID=UTC:20220724T210000
DTEND;TZID=UTC:20220724T230000
DTSTAMP:20260425T233525
CREATED:20220713T065121Z
LAST-MODIFIED:20220713T065121Z
UID:498604-1658696400-1658703600@www.visitcyprus.com
SUMMARY:Today we Fix the World
DESCRIPTION:117’\, Argentina\, 2022\n	David Samaras\, known to everyone by his nickname “el Griego” (the Greek)\, is the producer of the popular talk show “Today we Fix the World”\, where supposedly ordinary people settle relationship conflicts with their partners\, friends\, workmates\, parents\, and children. His most enduring bond is with his 9-year-old son Benito\, the fruit of a brief fling for whom he feels a legal obligation rather than affection. Things get complicated when the boy’s mother reveals to him that Benito is not his son. El Griego decides to tell Benito the truth and help him find his biological father.\n	 \n	Screenplay: Mariano Vera\n	Directing: Ariel Winograd\n	Cast: Leonardo Sbaraglia\, Benjamín Otero\, Luis Luque\, Charo López\, Gabriel Corrado.\n	 \n	  \n\n\n		The screening is part of the Rialto Summer Cinema\n\n\n	All films of Rialto Summer Cinema will be screened in the original language of production\, with greek and english subtitles.  \n\n	  \n\n	  \n\n	Venue: \n	Parking Place of SΕΚ (Behind of the Rialto Theatre) \n	Kyriakou Economou 21\, 3040 Limassol\n	Phone number: 77777745\n	Fax No.: 25749663\n	Website: www.rialto.com.cy \n	Start date/End date:  24 July 2022 \n	Start time/End time:  21:00-23:00   \n	Entrance Price/Τicket:  €8  \n	  \n\n	  \n\n	\n	    \n	  \nRialto Theatre\nTelephone No.: +357 25343902\nE-mail: niki@rialto.com.cy
URL:https://www.visitcyprus.com/event/today-we-fix-the-world/
CATEGORIES:Cinema
ATTACH;FMTTYPE=image/jpeg:https://www.visitcyprus.com/wp-content/uploads/2022/07/62ce6b5e5c0323.29456672.jpeg
END:VEVENT
BEGIN:VEVENT
DTSTART;TZID=UTC:20220719T210000
DTEND;TZID=UTC:20220719T230000
DTSTAMP:20260425T233525
CREATED:20220713T064629Z
LAST-MODIFIED:20220713T064629Z
UID:498603-1658264400-1658271600@www.visitcyprus.com
SUMMARY:Parallel Mothers
DESCRIPTION:120’\, Spain\, 2021\n	 \n	Two single mothers give birth on the same day. Several months later\, and after randomly noticing the characteristics of one of the babies\, one of the two women realizes that she is not the baby’s biological mother. Desperately searching for the other woman\, she believes that a terrible mistake has been made.\n	 \n	Screenplay\, directing: Pedro Almodóvar\n	Cast: Penélope Cruz\, Milena Smit\, Israel Elejalde\, Aitana Sánchez-Gijón\, Rossy de Palma\, Julieta Serrano\n	 \n	Αwards: Best Actress Award (Penélope Cruz) – Venice Film Festival.\n	 \n	Pedro Almodovar:\n	The most internationally acclaimed Spanish filmmaker since Luis Buñuel was born in a small town (Calzada de Calatrava) in the impoverished Spanish region of La Mancha. He arrived in Madrid in 1968\, and survived by selling used items in the flea-market called El Rastro. Almodóvar couldn’t study filmmaking because he didn’t have the money to afford it. Besides\, the filmmaking schools were closed in early 70s by Franco’s government. Instead\, he found a job in the Spanish phone company and saved his salary to buy a Super 8 camera. From 1972 to 1978\, he devoted himself to make short films with the help of of his friends. The “premieres” of those early films were famous in the rapidly growing world of the Spanish counter-culture. In few years\, Almodóvar became a star of “La Movida”\, the pop cultural movement of late 70s Madrid. His first feature film\, Pepi\, Luci\, Bom and Other Girls Like Mom (1980)\, was made in 16 mm and blown-up to 35 mm for public release. In 1987\, he and his brother Agustín Almodóvar established their own production company: El Deseo\, S. A. The “Almodóvar phenomenon” has reached all over the world\, making his films very popular in many countries.\n	   \n\n\n		The screening is part of the Rialto Summer Cinema\n\n\n	All films of Rialto Summer Cinema will be screened in the original language of production\, with greek and english subtitles.  \n\n	  \n\n	Venue: \n	Parking Place of SΕΚ (Behind of the Rialto Theatre) \n	Kyriakou Economou 21\, 3040 Limassol\n	Phone number: 77777745\n	Fax No.: 25749663\n	Website: www.rialto.com.cy \n	Start date/End date:  19 July 2022 \n	Start time/End time:  21:00-23:00   \n	Entrance Price/Τicket:  €8  \n	  \n\n	  \n\n	\n	    \n	  \nRialto Theatre\nTelephone No.: +357 25343902\nE-mail: niki@rialto.com.cy
URL:https://www.visitcyprus.com/event/parallel-mothers/
CATEGORIES:Cinema
ATTACH;FMTTYPE=image/jpeg:https://www.visitcyprus.com/wp-content/uploads/2022/07/62ce6a392214a3.15106525.jpeg
END:VEVENT
BEGIN:VEVENT
DTSTART;TZID=UTC:20220718T210000
DTEND;TZID=UTC:20220718T223000
DTSTAMP:20260425T233525
CREATED:20220713T063845Z
LAST-MODIFIED:20220713T063845Z
UID:498602-1658178000-1658183400@www.visitcyprus.com
SUMMARY:The Man with the Answers
DESCRIPTION:85’\, Cyprus\, Greece\, Italy\, 2021\n	 \n	After his grandmother’s death\, Victor\, an ex-diving champion in his early 20s\, sets off for a road trip in his old dusty car\, from Patras to Bavaria. On the boat\, he meets Matthias\, an adventurous young German. They both head to Bavaria\, each for their own reasons. They are both looking for answers to their own questions. An “existential\, sensual\, revelatory pop road movie towards the Truth”.\n	 \n	Screenplay / Directing: Stelios Kammitsis\n	Cast: Vasilis Magouliotis\, Anton Weil\, Stela Fyrogeni\n	 \n	Stelios Kammitsiswas born and raised in Cyprus. He studied Cinema at SUNY Purchase in New York. He has worked alongside film director Theodoros Angelopoulos and choreographer Dimitris Papaioannou. He is the founder of Felony Film Productions.\n	 \n	Awards: \n	Audience Award – Meet the Neighbours competition – Thessaloniki IFF Greece 2021.\n	Best Screenplay Award\, KASHISH Mumbai International Queer Film Festival\, India 2021\n	Honorary Distinction – Cyprus Film Days Festival\, Cyprus 2022\n	 \n	Filmography:\n	2011 Jerks\n	2021 The Man with the Answers\n	 \n	 \n	·  The screening is part of the Rialto Summer Cinema\n	All films of Rialto Summer Cinema will be screened in the original language of production\, with greek and english subtitles.  \n	Venue: \n	Parking Place of SEK (Behind of the Rialto Theatre) \n	Kyriakou Economou 21\, 3040 Limassol \nPhone number: 77777745\nFax No.: 25749663\nWebsite: www.rialto.com.cy \nStart date/End date:  18 July 2022 \nStart time/End time:  21:00 – 22:30 \nEntrance Price/Τicket:  €8  \n  \n\n  \n\n	\n	    \n	  \nRialto Theatre\nTelephone No.: +357 25343902\nE-mail: niki@rialto.com.cy
URL:https://www.visitcyprus.com/event/the-man-with-the-answers/
CATEGORIES:Cinema
ATTACH;FMTTYPE=image/jpeg:https://www.visitcyprus.com/wp-content/uploads/2022/07/62ce686fd940f0.84468884.jpeg
END:VEVENT
BEGIN:VEVENT
DTSTART;TZID=UTC:20220716T210000
DTEND;TZID=UTC:20220716T223000
DTSTAMP:20260425T233525
CREATED:20220713T062234Z
LAST-MODIFIED:20220713T062234Z
UID:498601-1658005200-1658010600@www.visitcyprus.com
SUMMARY:Petite Maman
DESCRIPTION:72’\, France\, 2021\n	Eight-year-old Nelly has just lost her beloved grandmother and is helping her parents clean out her house. She explores the country house where her mother\, Marion\, was raised\, and the nearby forest where she built a treehouse. When her mother leaves the house\, Nelly meets a young girl her age building a treehouse in the woods. Her name is Marion\, just like her mother’s…\n	 \n	A beautiful film for all the family that travels the audience to their own childhood. A tribute to imagination and childhood friendship\, a film about love and healing wounds.\n	 \n	Screenplay / Directing: Céline Sciamma\n	Cast: Joséphine Sanz\, Gabrielle Sanz\, Nina Meurisse\, Stéphane Varupenne\n	 \n	Αwards:\n	The film premiered at Berlinale 2021 and won several awards at multiple festivals\, including at San Sebastian and Stockholm International Film Festivals.  \n	 \n	 The screening is part of the Rialto Summer Cinema \n\n	All films of Rialto Summer Cinema will be screened in the original language of production\, with greek and english subtitles.  \n\n	\n	Venue: \n	Parking Place of SΕΚ (Behind of the Rialto Theatre) \n	Kyriakou Economou 21\, 3040 Limassol\n	Phone number: 77777745\n	Fax No.: 25749663\n	Website: www.rialto.com.cy \n	Start date/End date:  16 July 2022 \n	Start time/End time:  21:00-22:30   \n	Entrance Price/Τicket:  €8  \n	  \n\n	  \n\n	\n	    \n	  \nRialto Theatre\nTelephone No.: +357 25343902\nE-mail: niki@rialto.com.cy
URL:https://www.visitcyprus.com/event/petite-maman/
CATEGORIES:Cinema
ATTACH;FMTTYPE=image/jpeg:https://www.visitcyprus.com/wp-content/uploads/2022/07/62ce64a2afa266.86886856.jpeg
END:VEVENT
BEGIN:VEVENT
DTSTART;TZID=UTC:20220713T213000
DTEND;TZID=UTC:20220713T233000
DTSTAMP:20260425T233525
CREATED:20220713T060905Z
LAST-MODIFIED:20220713T060905Z
UID:498600-1657747800-1657755000@www.visitcyprus.com
SUMMARY:Another round (In the framework of the Rialto Summer Cinema)
DESCRIPTION:Rialto’s Summer Cinema returns with great films and magical summery nights\n	 \n	Outdoor cinema of Rialto Theatrereturns to cool off our summer nights. After its great success of previous years\, Rialto’s open-air cinema is back with a diverse range of  awarded and recent films from Denmark\, Sweden\, France\, Spain\, Argentina\, and a co-production of Cyprus\, Greece and Italy.\n	 \n	Films filled with originality\, tenderness and humour which focus on human relationships and the complexity that determines them\, will offer us a delightful escape to the world of cinema.\n	 \n	This year’s line-up includes six recent films that stood out and received a great audience appeal. Each and every one deals with a fascinating story and is created by a well-known and highly admired director.  \n	117’\, Denmark\, 2020\n	A group of friends\, all high-school teachers\, decide to start drinking during the workday. They all embark on an experiment of keeping a constant low rate of alcohol in their bloodstream\, in order to prove that modest inebriation opens our minds to the world\, diminishes our problems and increases our creativity. While for some of them the experiment works wonders\, some others go off the rails.\n	 \n	Screenplay: Thomas Vinterberg\, Tobias Lindholm\n	Directing: Thomas Vinterberg\n	Cast: Mads Mikkelsen\, Thomas Bo Larsen\, Lars Ranthe\, Magnus Millang\, Maria Bonnevie\, Susse Wold\n	 \n	Awards:\n	Best International Feature Film\, Academy Awards\, 2021.\n	Best Foreign Film Award\, Bafta & César Awards\, 2021.\n	Best Film Award\, European Film Awards\, 2020.\n	 \n	Director’s comments about the film:\n	“We also wanted to make a movie about thinking on life\, not just being alive but living\,” says Vinterberg. “I hope it has become a celebration of life. I lost my daughter while making this film [19-year-old Ida died in a car accident in Belgium during the first week of the shoot]. It was nightmarish\, it will always be.\n	“The only reason I could continue making this movie was because a couple of months prior to her death\, she sent me a letter talking about how much she loved this project. And she was a pretty tough judge. The only possibility of continuing with this movie was by making it more than just a funny alcoholic story\, it had to be about being alive.”\n	The somewhat surprising best director nominations mean a lot to Vinterberg\, especially because Another Round is a film he so closely associates with Ida. “With this particular movie\, it means a lot to me\,” he says of the nominations. “I am so proud\, and also surprised. But I realise that people see a movie about a lot more than just drinking. That was the most important thing for me and my collaborators – to elevate this project from just being a project about drinking.”\n	  \n\n\n		The screening is part of the Rialto Summer Cinema\n\n\n	All films of Rialto Summer Cinema will be screened in the original language of production\, with greek and english subtitles.  \n\n	Venue:  \n\n	Parking Place of SEK (Behind of the Rialto Theatre) \n	Kyriakou Economou 21\, 3040 Limassol\n	Phone number: 77777745\n	Fax No.: 25749663\n	Website: www.rialto.com.cy \n	Start date/End date:  13 Ιουλίου 2022 \n	Start time/End time:  21:30 – 23:30 \n	Entrance Price/Τicket:  €8  \n	  \n\n	  \n\n	\n	    \n	  \nRialto Theatre\nTelephone No.: +357 25343902\nE-mail: niki@rialto.com.cy
URL:https://www.visitcyprus.com/event/another-round-in-the-framework-of-the-rialto-summer-cinema/
CATEGORIES:Cinema
ATTACH;FMTTYPE=image/jpeg:https://www.visitcyprus.com/wp-content/uploads/2022/07/62ce616d93a121.31634754.jpeg
END:VEVENT
BEGIN:VEVENT
DTSTART;TZID=UTC:20220408T200000
DTEND;TZID=UTC:20220416T000000
DTSTAMP:20260425T233525
CREATED:20220330T115244Z
LAST-MODIFIED:20220330T115244Z
UID:498539-1649448000-1650067200@www.visitcyprus.com
SUMMARY:20th Cyprus Film Days International Festival
DESCRIPTION:This 20th edition of Cyprus Film Days International Festival presents a variety of films\, screened at the Rialto Theatre in Limassol and Zena Palace Cinema in Nicosia. An eclectic international competition section (Glocal Images)\, world-acclaimed film premieres (Viewfinder)\, Cypriot productions\, screenings and events for children and youth make up this year’s official International Film Festival of Cyprus\, dedicated to fiction feature films.\nThe festival will also host\, for the first time in physical presence\, the 3rd Dot on the Map Industry Days\, a co-production\, education and networking platform\, organised online in collaboration with AGORA Thessaloniki International Film Festival\, Greece. Dot on the Map aims at encouraging film collaborations and synergies between producers\, directors and screenwriters from Mediterranean countries.\n \nOrganised by: Cultural Services – Ministry of Education\, Culture\, Sports and Youth & Rialto Theatre. \nAll films will be screened in their original language with English and Greek subtitles.   \nSuitable for ages 18+   \nFor more information: www.cyprusfilmdays.com \nVenue:\nRialto Theatre\nPostal address: Andrea Drousioti 19\, 3040 Limassol\nPhone number: 77777745\nFax: +357 25749663\nWebsite: www.rialto.com.cy \nStart date/End date:  8-16 April 2022 \nStart time/End time: 20:00-24:00 \nEntrance Price/Τicket:  €6/ €25 (festival pass) \n\nFor the children and youth programme (age 9-13 & 14-18) click here  (Free entrance to screenings and workshops)\nΑll films will be screened with Greek and English subtitles. \nSocial media:\nRialtoFB: RialtoTheatre- Θέατρο Ριάλτο\nRialto Instagram: rialto_theatre_cyprus\nYoutube: Rialto Theatre Limassol\nTwitter: Rialto Theatre
URL:https://www.visitcyprus.com/event/20th-cyprus-film-days-international-festival/
CATEGORIES:Cinema
ATTACH;FMTTYPE=image/jpeg:https://www.visitcyprus.com/wp-content/uploads/2022/03/62444485727580.69019588.jpeg
END:VEVENT
BEGIN:VEVENT
DTSTART;TZID=UTC:20211120T203000
DTEND;TZID=UTC:20211120T223000
DTSTAMP:20260425T233525
CREATED:20211104T105657Z
LAST-MODIFIED:20211104T105657Z
UID:498491-1637440200-1637447400@www.visitcyprus.com
SUMMARY:Schwesterlein | My Little Sister
DESCRIPTION:Lisa\, a once brilliant playwright\, no longer writes. She lives with her family in Switzerland\, but her heart remains in Berlin\, beating in time with that of her twin brother Sven\, the famous theatre actor. Since Sven has been suffering from an aggressive type of leukaemia\, the relationship between them has become even closer. Lisa does everything in her power to bring Sven back on stage. For her soulmate\, she neglects everything else and even risks losing her husband. Her marriage goes awry\, but Lisa only has eyes for her brother\, who reflects her deepest longings and awakens in her the desire to be creative\, to feel alive again.\n	 \n	In German with English subtitles.\n	The screening of the award-winning film is organised by the Embassy of Switzerland in Cyprus in the framework of the “Weeks of the German Language” events. \n	Venue: \n	Rialto Theatre \n	Andrea Drousioti 19\, 3040 Limassol\n	Phone number: 77777745\n	Fax No.: 25749663\n	Website: www.rialto.com.cy \n	Start date/End date: 20/11/2021   \n	Start time/End time: 20:30-22:30    \n	Entrance Price/Τicket:  Free entrance (A free pass must be booked in advance) \n	Social Media Channels:\n	Rialto FB: RialtoTheatre- Θέατρο Ριάλτο\n	Rialto Instagram: rialto_theatre_cyprus\n	You tube: Rialto Theatre Limassol\n	Twitter: Rialto Theatre \nRialto Theatre\nTelephone No.: +357 25343902\nE-mail: niki@rialto.com.cy
URL:https://www.visitcyprus.com/event/schwesterlein-my-little-sister/
CATEGORIES:Cinema
ATTACH;FMTTYPE=image/jpeg:https://www.visitcyprus.com/wp-content/uploads/2021/11/6183bc755bad43.51675503.jpeg
END:VEVENT
BEGIN:VEVENT
DTSTART;TZID=UTC:20210625T204500
DTEND;TZID=UTC:20210627T235959
DTSTAMP:20260425T233525
CREATED:20210617T083851Z
LAST-MODIFIED:20210617T083851Z
UID:498292-1624653900-1624838399@www.visitcyprus.com
SUMMARY:Paphos International Film Festival (PIFF)
DESCRIPTION:PIFF is committed to supporting authentically independent short films and it aims to research\, promote and develop the art of independent film making.\nThe program consists of amazing short films and documentaries from around the world under the stars. \nVenue: \n\n	Name:  Technopolis 20\n	Postal address: Νikolaou I. Nikolaidi Avenue 18\, 8010 Paphos\n	Phone number: 70002420 \n	Website: www.technopolis20.com\n	Social media: Facebook/Instagram Technopolis20\n	 \n	Start date/End date:  25-27/6/2021 \n	 Start time/End time: 20:45\n	 \n\n	Entrance: Free Entrance \n	Event Website and/or Organiser Website: http://www.piffcyprus.com/ \n	For the programme click here \n	  \nOrganiser Contact Details\nName:  Paphos International Film Festival (PIFF)\nEmail:  info@piffcyprus.com\nPostal Address: Nikolaou I. Nikolaidi 18
URL:https://www.visitcyprus.com/event/paphos-international-film-festival-piff/
CATEGORIES:Cinema
ATTACH;FMTTYPE=image/jpeg:https://www.visitcyprus.com/wp-content/uploads/2021/06/60cb0a06954d85.26040774.jpeg
END:VEVENT
END:VCALENDAR