BEGIN:VCALENDAR
VERSION:2.0
PRODID:-//Visit Cyprus - ECPv6.15.20//NONSGML v1.0//EN
CALSCALE:GREGORIAN
METHOD:PUBLISH
X-WR-CALNAME:Visit Cyprus
X-ORIGINAL-URL:https://www.visitcyprus.com
X-WR-CALDESC:Events for Visit Cyprus
REFRESH-INTERVAL;VALUE=DURATION:PT1H
X-Robots-Tag:noindex
X-PUBLISHED-TTL:PT1H
BEGIN:VTIMEZONE
TZID:UTC
BEGIN:STANDARD
TZOFFSETFROM:+0000
TZOFFSETTO:+0000
TZNAME:UTC
DTSTART:20240101T000000
END:STANDARD
END:VTIMEZONE
BEGIN:VEVENT
DTSTART;TZID=UTC:20250207T163000
DTEND;TZID=UTC:20250207T233000
DTSTAMP:20260425T210132
CREATED:20250207T075159Z
LAST-MODIFIED:20250207T075408Z
UID:651299-1738945800-1738971000@www.visitcyprus.com
SUMMARY:3rd Pafos International Open Chess Tournament - 11-17.4.2025
DESCRIPTION:The Paphos International Chess Tournament is the biggest chess event in Cyprus. It is a classic 9-round tournament following the standards of major international events. After the huge success of the first two tournaments and the rave reviews\, the tournament is expected to attract over 200 chess players\, including 100 athletes from abroad representing more than 25 different countries. Over 30 titled chess players will compete in the tournament\, among them chess players who hold the highest title in chess\, that of grandmaster. The tournament is twinned and connected with the Mikis Theodorakis International Tournament that takes place a few days later in Chania. \n  \nInformatio about the registration and fees click here
URL:https://www.visitcyprus.com/event/3rd-pafos-international-open-chess-tournament-11-17-4-2025/
LOCATION:Attikon and Palia Ilektriki Multicultural Spaces\, Evagora Pallikaridi\, Paphos\, 8010\, Cyprus
CATEGORIES:Other,Sports
ATTACH;FMTTYPE=image/jpeg:https://www.visitcyprus.com/wp-content/uploads/2025/02/chess.jpg
ORGANIZER;CN="Pafos Chess Club":MAILTO:info@pafoschess.com
END:VEVENT
END:VCALENDAR