BEGIN:VCALENDAR
VERSION:2.0
PRODID:-//Visit Cyprus - ECPv6.15.20//NONSGML v1.0//EN
CALSCALE:GREGORIAN
METHOD:PUBLISH
X-WR-CALNAME:Visit Cyprus
X-ORIGINAL-URL:https://www.visitcyprus.com
X-WR-CALDESC:Events for Visit Cyprus
REFRESH-INTERVAL;VALUE=DURATION:PT1H
X-Robots-Tag:noindex
X-PUBLISHED-TTL:PT1H
BEGIN:VTIMEZONE
TZID:UTC
BEGIN:STANDARD
TZOFFSETFROM:+0000
TZOFFSETTO:+0000
TZNAME:UTC
DTSTART:20230101T000000
END:STANDARD
END:VTIMEZONE
BEGIN:VEVENT
DTSTART;TZID=UTC:20241101T170000
DTEND;TZID=UTC:20241103T220000
DTSTAMP:20260426T071018
CREATED:20241029T095917Z
LAST-MODIFIED:20241029T100105Z
UID:598913-1730480400-1730671200@www.visitcyprus.com
SUMMARY:4th Motor Festival - 1-3.11.2024
DESCRIPTION:After the big success of the previous Motor Festivals\, Ayia Napa Municipality is organizing the 4th Festival this year. \nMotor vehicle fans will have the opportunity to admire the exhibition with more than 150 rare and hard-to-find models.  They will also have the opportunity to be informed as well as to be photographed with the motorized models. \nThe festival will be held in collaboration with collectors and friends of the old and new motor car and motorcycle. \nThe festival aims to extend the tourist season\, as well as to allow the visitor to meet both old and new era motor vehicles models. \nThe opening ceremony will take place on Friday 01/11/2024. \n 
URL:https://www.visitcyprus.com/event/4th-motor-festival-1-11-2024/
LOCATION:Ayia Napa Municipality\, parking lot of the Greek Lyceum
CATEGORIES:Festivals,Other
ATTACH;FMTTYPE=image/jpeg:https://www.visitcyprus.com/wp-content/uploads/2024/10/MOTORCYCLE-FESTIVAL.jpg
END:VEVENT
END:VCALENDAR