BEGIN:VCALENDAR
VERSION:2.0
PRODID:-//Visit Cyprus - ECPv6.15.20//NONSGML v1.0//EN
CALSCALE:GREGORIAN
METHOD:PUBLISH
X-ORIGINAL-URL:https://www.visitcyprus.com
X-WR-CALDESC:Events for Visit Cyprus
REFRESH-INTERVAL;VALUE=DURATION:PT1H
X-Robots-Tag:noindex
X-PUBLISHED-TTL:PT1H
BEGIN:VTIMEZONE
TZID:Asia/Nicosia
BEGIN:DAYLIGHT
TZOFFSETFROM:+0200
TZOFFSETTO:+0300
TZNAME:EEST
DTSTART:20240331T010000
END:DAYLIGHT
BEGIN:STANDARD
TZOFFSETFROM:+0300
TZOFFSETTO:+0200
TZNAME:EET
DTSTART:20241027T010000
END:STANDARD
BEGIN:DAYLIGHT
TZOFFSETFROM:+0200
TZOFFSETTO:+0300
TZNAME:EEST
DTSTART:20250330T010000
END:DAYLIGHT
BEGIN:STANDARD
TZOFFSETFROM:+0300
TZOFFSETTO:+0200
TZNAME:EET
DTSTART:20251026T010000
END:STANDARD
BEGIN:DAYLIGHT
TZOFFSETFROM:+0200
TZOFFSETTO:+0300
TZNAME:EEST
DTSTART:20260329T010000
END:DAYLIGHT
BEGIN:STANDARD
TZOFFSETFROM:+0300
TZOFFSETTO:+0200
TZNAME:EET
DTSTART:20261025T010000
END:STANDARD
END:VTIMEZONE
BEGIN:VEVENT
DTSTART;TZID=Asia/Nicosia:20250923T080000
DTEND;TZID=Asia/Nicosia:20251002T140000
DTSTAMP:20260425T033122
CREATED:20250716T101648Z
LAST-MODIFIED:20250716T101648Z
UID:749314-1758614400-1759413600@www.visitcyprus.com
SUMMARY:35th AIDA Freediving World Championship\, Limassol 2025 - 23.9-2.10.2025
DESCRIPTION:The 35th AIDA Freediving World Championships will take place in Limassol\, Cyprus\, in 2025\, marking the fourth time this world-class event returns to the island’s ideal deep-diving waters. Known for its exceptional visibility and warm and calm waters\, Limassol offers the perfect stage for star performances and record-breaking dives in the depth disciplines. The event is set to attract the world’s top freedivers\, with Alexey Molchanov and Petar Klovar expected to compete\, alongside many of the sport’s elite.
URL:https://www.visitcyprus.com/event/35th-aida-freediving-world-championship-limassol-2025-23-9-2-10-2025/
LOCATION:Free2dive\, AIDA\, 28 October Ave\, Limassol\, Cyprus
CATEGORIES:Diving,Sports
ATTACH;FMTTYPE=image/jpeg:https://www.visitcyprus.com/wp-content/uploads/2025/07/CWTB-Women.jpg
ORGANIZER;CN="Savvas Savva":MAILTO:info@freedivingcyprus.com
END:VEVENT
END:VCALENDAR