BEGIN:VCALENDAR
VERSION:2.0
PRODID:-//Visit Cyprus - ECPv6.15.20//NONSGML v1.0//EN
CALSCALE:GREGORIAN
METHOD:PUBLISH
X-ORIGINAL-URL:https://www.visitcyprus.com/fr/
X-WR-CALDESC:Évènements pour Visit Cyprus
REFRESH-INTERVAL;VALUE=DURATION:PT1H
X-Robots-Tag:noindex
X-PUBLISHED-TTL:PT1H
BEGIN:VTIMEZONE
TZID:UTC
BEGIN:STANDARD
TZOFFSETFROM:+0000
TZOFFSETTO:+0000
TZNAME:UTC
DTSTART:20230101T000000
END:STANDARD
END:VTIMEZONE
BEGIN:VEVENT
DTSTART;VALUE=DATE:20240101
DTEND;VALUE=DATE:20240701
DTSTAMP:20260426T055638
CREATED:20240124T090149Z
LAST-MODIFIED:20240124T090149Z
UID:500860-1704067200-1719791999@www.visitcyprus.com
SUMMARY:The Cyprus Strollers (January - June 2024)  
DESCRIPTION:Get some exercise at the weekend   \n\n			Explore the paths of the Cyprus countryside   \n\n			Meet people and make new friends.   \n\n\n	The Cyprus Strollers (http://cyprus-strollers.org) is organizing a hike in nature every weekend\, from October to May.     \n	The Cyprus Strollers welcome individuals and families (children and dogs welcome as well) living in Cyprus\, irrespective of nationality\, and equally visitors and tourists\, who love nature and search for hiking opportunities during their stay.    \n	The schedule for January through June is confirmed (http://cyprus-strollers.org/activities-schedule/). The Cyprus Strollers is a unique hiking club\, broad reaching\, with a dedicated website in English. It is offering walks mainly of moderate duration (2 1/2 -3 1/2 hours)\, suitable for families\, hikers and nature lovers with an average fitness and an appetite to discover the natural beauties of Cyprus. Each walk announcement includes reference to the degree of difficulty. Hikes are conducted in compliance with Government measures wrt covid-19. \n	  \n	To read the confirmed weekly schedule of hikes for January – June 2024 visit http://cyprus-strollers.org/activities-schedule/   \n	To read a full detailed description with all necessary instructions for each hike over  January – June 2024 visit http://cyprus-strollers.org/activities-description/
URL:https://www.visitcyprus.com/fr/event/the-cyprus-strollers-january-june-2024/
ATTACH;FMTTYPE=image/jpeg:https://www.visitcyprus.com/wp-content/uploads/2022/03/6151a4b899faa2.25741166.jpeg
END:VEVENT
BEGIN:VEVENT
DTSTART;TZID=UTC:20240606T203000
DTEND;TZID=UTC:20240607T235959
DTSTAMP:20260426T055638
CREATED:20240528T091614Z
LAST-MODIFIED:20240528T091614Z
UID:500585-1717705800-1717804799@www.visitcyprus.com
SUMMARY:Starlight 4 - Great Performers with CySO -  6-7.6.2024
DESCRIPTION: \n	Lefkosia: Thursday 6 June 2024 – Skali Amphitheatre\, Aglantzia\, 20:30\n	Lemesos: Friday 7 June 2024– Kourion Ancient Amphitheatre\, 20:30\n	 \n	Pyotr Ilyich Tchaikovsky: Piano concerto no.1 in B flat minor\, op. 23\n	Antonín Dvořák: Symphony no. 8 in G major\, op. 88\n	                                       \n	Anna Fedοrova piano\n	Charles Olivieri-Munroe conductor\n	 \n	The Cyprus Symphony Orchestra is thrilled to welcome on stage the internationally celebrated pianist Anna Fedorova\, a performer whose inspirational playing evokes a profound emotional connection with her listeners.Praised for her ‘beautiful sound and natural freedom in making music with total technical security’. Fedorova will interpret Pyotr Ilyich Tchaikovsky’s Piano concerto no. 1\, one of the most captivating in the pianistic oeuvre\, masterfully blending sweeping virtuosity and exquisite lyricism.\n	 \n	The evening is further brightened by Antonín Dvořák’s Symphony no. 8\, a masterpiece of rich orchestration and folk-inspired themes\, evoking a sense of pastoral beauty and joyous exuberance. Coming into life under the firm baton of Charles Olivieri-Munroe\, these timeless orchestral treasures\, are bound to captivate the audience.\n	 \n	Gold Sponsor: Perestroika (Cyprus) Ltd\n	 \n	Ticket prices:\n	Zone Α: €25 / €18 (concession) \n	Zone Β:€20 / €15 (concession)\n	Zone C: €17 / €12 (concession)\n	 \n	Concession tickets are available to:\n	Students\, soldiers\, pensioners\, large and five-member families on presentation of ID.\n	Free entrance for people with disabilities.\n	 \n	Ticket presales:\n	Online at cyso.interticket.comand 2 hrs before the concert.\n	 \n	Information: 22 463144\, www.cyso.org.cy\n	 \n	Institutional Sponsor: Republic of Cyprus\n	Grand Sponsor: OPAP (Cyprus) Ltd\n	Gold Sponsor (Starlight Series): Perestroika (Cyprus) Ltd\n	Media Sponsors:CyBC\, Cyprus Mail\n	For more information you may contact Constantia Elia at 22 463135\, email: c.elia@cyso.org.cy
URL:https://www.visitcyprus.com/fr/event/starlight-4-great-performers-with-cyso-6-7-6-2024/
ATTACH;FMTTYPE=image/jpeg:https://www.visitcyprus.com/wp-content/uploads/2024/05/6655a0bfe43d34.52037286.jpeg
END:VEVENT
END:VCALENDAR