BEGIN:VCALENDAR
VERSION:2.0
PRODID:-//Visit Cyprus - ECPv6.15.20//NONSGML v1.0//EN
CALSCALE:GREGORIAN
METHOD:PUBLISH
X-ORIGINAL-URL:https://www.visitcyprus.com/fr/
X-WR-CALDESC:Évènements pour Visit Cyprus
REFRESH-INTERVAL;VALUE=DURATION:PT1H
X-Robots-Tag:noindex
X-PUBLISHED-TTL:PT1H
BEGIN:VTIMEZONE
TZID:UTC
BEGIN:STANDARD
TZOFFSETFROM:+0000
TZOFFSETTO:+0000
TZNAME:UTC
DTSTART:20230101T000000
END:STANDARD
END:VTIMEZONE
BEGIN:VEVENT
DTSTART;TZID=UTC:20240922T183000
DTEND;TZID=UTC:20240922T193000
DTSTAMP:20260426T004741
CREATED:20240918T073306Z
LAST-MODIFIED:20240918T073332Z
UID:555335-1727029800-1727033400@www.visitcyprus.com
SUMMARY:Wind Ensemble “Empnevsta” - 22.9.2024
DESCRIPTION:The wind ensemble “Empnevsta”\, under the conducting of Yiannis Myralis\, presents works by Greek and Cypriot composers\, as well as film music.\nVenue/s\nName: Polydynamo Kentro\, Kato Amiandos\nPostal address: 4810\, Kato Amiandos\nPhone number: +357 99833944\nStart date/End date:  22 September 2024\n\nStart time/End time: 18:30 – 19:30 \nEntrance Price/Τicket: €10
URL:https://www.visitcyprus.com/fr/event/wind-ensemble/
LOCATION:Kato Amiantos\, Cyprus
ATTACH;FMTTYPE=image/jpeg:https://www.visitcyprus.com/wp-content/uploads/2024/09/yiannis-myralis.jpg
END:VEVENT
END:VCALENDAR