BEGIN:VCALENDAR
VERSION:2.0
PRODID:-//Visit Cyprus - ECPv6.15.20//NONSGML v1.0//EN
CALSCALE:GREGORIAN
METHOD:PUBLISH
X-ORIGINAL-URL:https://www.visitcyprus.com/fr/
X-WR-CALDESC:Évènements pour Visit Cyprus
REFRESH-INTERVAL;VALUE=DURATION:PT1H
X-Robots-Tag:noindex
X-PUBLISHED-TTL:PT1H
BEGIN:VTIMEZONE
TZID:UTC
BEGIN:STANDARD
TZOFFSETFROM:+0000
TZOFFSETTO:+0000
TZNAME:UTC
DTSTART:20230101T000000
END:STANDARD
END:VTIMEZONE
BEGIN:VTIMEZONE
TZID:UTC
BEGIN:STANDARD
TZOFFSETFROM:+0000
TZOFFSETTO:+0000
TZNAME:UTC
DTSTART:20230101T000000
END:STANDARD
END:VTIMEZONE
BEGIN:VEVENT
DTSTART;VALUE=DATE:20241005
DTEND;VALUE=DATE:20250101
DTSTAMP:20260425T212119
CREATED:20241003T055024Z
LAST-MODIFIED:20241004T065926Z
UID:559353-1728086400-1735689599@www.visitcyprus.com
SUMMARY:The Cyprus Strollers (October - December 2024)  
DESCRIPTION:Get some exercise at the weekend   \nExplore the paths of the Cyprus countryside   \nMeet people and make new friends.   \n\nThe Cyprus Strollers (http://cyprus-strollers.org) is organizing a hike in nature every weekend\, from October to May.\nThe Cyprus Strollers welcome individuals and families (children and dogs welcome as well) living in Cyprus\, irrespective of nationality\, and equally visitors and tourists\, who love nature and search for hiking opportunities during their stay.\nThe schedule for January through May is confirmed (http://cyprus-strollers.org/activities-schedule/). The Cyprus Strollers is a unique hiking club\, broad reaching\, with a dedicated website in English. It is offering walks mainly of moderate duration (2 1/2 -3 1/2 hours)\, suitable for families\, hikers and nature lovers with an average fitness and an appetite to discover the natural beauties of Cyprus. Each walk announcement includes reference to the degree of difficulty. Hikes are conducted in compliance with Government measures wrt covid-19. \nTo read the confirmed weekly schedule of hikes for October – December 2024 visit http://cyprus-strollers.org/activities-schedule/   \nTo read a full detailed description with all necessary instructions for each hike over October – December 2024 visit http://cyprus-strollers.org/activities-description/ 
URL:https://www.visitcyprus.com/fr/event/the-cyprus-strollers-october-december-2024/
ATTACH;FMTTYPE=image/jpeg:https://www.visitcyprus.com/wp-content/uploads/2022/03/6151a4b899faa2.25741166.jpeg
END:VEVENT
BEGIN:VEVENT
DTSTART;TZID=UTC:20241006T080000
DTEND;TZID=UTC:20241006T110000
DTSTAMP:20260425T212119
CREATED:20240918T085920Z
LAST-MODIFIED:20240918T085920Z
UID:555465-1728201600-1728212400@www.visitcyprus.com
SUMMARY:LIMASSOL TRIATHLON 2024 - 6.10.2024
DESCRIPTION:Sprint Triathlon is ideal for those competitors who are new to the sport or those who are just into speed. The venue in the beautiful sea front of Limassolpromenadeis made to order to offer just that. Also this distance offers a good opportunity for corporate relay participation.\nThe event is complemented by a Super Sprint triathlon which is a great introduction into the world of triathlons and bridges the gap between novice and Sprint triathlons. \nSprint Individual             750m swim\, 20Km bike\, 5Km run\nSprint Relay Team          750m swim\, 20Km bike\, 5Km run\nSuper Sprint Individual   300m swim\, 10Km bike\, 2.5Km run \nVenue:\nName: Limassol promenade\nTel. No.: +357 99444447\nWebsite: nireastriathlon.com/event/2024_limassol_triathlon/\nSocial media: facebook.com/NireasTriathlon/ \nStart date/End date: 6 October 2024 \nStart time/End time:  08:00 – 11:00 \nEntrance Price/Τicket: –
URL:https://www.visitcyprus.com/fr/event/limassol-triathlon-2024-6-10-2024/
LOCATION:Limassol Promenade
ATTACH;FMTTYPE=image/jpeg:https://www.visitcyprus.com/wp-content/uploads/2024/09/BTL34176.jpg
END:VEVENT
BEGIN:VEVENT
DTSTART;TZID=UTC:20241006T150000
DTEND;TZID=UTC:20241006T150000
DTSTAMP:20260425T212119
CREATED:20240918T090214Z
LAST-MODIFIED:20240926T091325Z
UID:555473-1728226800-1728226800@www.visitcyprus.com
SUMMARY:2nd Gastronomy Festival Potamious Village - 6.10.2024
DESCRIPTION:We are waiting for you in the village square Fader Leonidas.  Enjoy for free traditional trahanas\, cookies\, timithotes (pies)\, hot palouze (made from grape juice)\, wine and zivania.  Gastronomic workshops for the preparation of traditional Cyprus products\, pumpkin decoration. \n15:30  Easy bike wine route for kids and adults (bring your own bikes) \n16:30  Walking tour guide in the village. \n17:00  Interactive game in various spots of the village (for kids and adults) \nTraditional Music. \nFor more information: 99580630 (Sofi)\, 96401506 (Lenia) \nVenue/s \nName:  Potamiou village \nStart date/End date: 6 October 2024 at 15:00 \nEntrance Price/Τicket:  Free
URL:https://www.visitcyprus.com/fr/event/2nd-gastronomy-festival-potamious-village-6-10-2024/
ATTACH;FMTTYPE=image/jpeg:https://www.visitcyprus.com/wp-content/uploads/2024/09/palouzes.jpg
END:VEVENT
END:VCALENDAR