BEGIN:VCALENDAR
VERSION:2.0
PRODID:-//Visit Cyprus - ECPv6.15.20//NONSGML v1.0//EN
CALSCALE:GREGORIAN
METHOD:PUBLISH
X-WR-CALNAME:Visit Cyprus
X-ORIGINAL-URL:https://www.visitcyprus.com/fr/
X-WR-CALDESC:Évènements pour Visit Cyprus
REFRESH-INTERVAL;VALUE=DURATION:PT1H
X-Robots-Tag:noindex
X-PUBLISHED-TTL:PT1H
BEGIN:VTIMEZONE
TZID:UTC
BEGIN:STANDARD
TZOFFSETFROM:+0000
TZOFFSETTO:+0000
TZNAME:UTC
DTSTART:20230101T000000
END:STANDARD
END:VTIMEZONE
BEGIN:VTIMEZONE
TZID:UTC
BEGIN:STANDARD
TZOFFSETFROM:+0000
TZOFFSETTO:+0000
TZNAME:UTC
DTSTART:20230101T000000
END:STANDARD
END:VTIMEZONE
BEGIN:VEVENT
DTSTART;VALUE=DATE:20241005
DTEND;VALUE=DATE:20250101
DTSTAMP:20260425T212034
CREATED:20241003T055024Z
LAST-MODIFIED:20241004T065926Z
UID:559353-1728086400-1735689599@www.visitcyprus.com
SUMMARY:The Cyprus Strollers (October - December 2024)  
DESCRIPTION:Get some exercise at the weekend   \nExplore the paths of the Cyprus countryside   \nMeet people and make new friends.   \n\nThe Cyprus Strollers (http://cyprus-strollers.org) is organizing a hike in nature every weekend\, from October to May.\nThe Cyprus Strollers welcome individuals and families (children and dogs welcome as well) living in Cyprus\, irrespective of nationality\, and equally visitors and tourists\, who love nature and search for hiking opportunities during their stay.\nThe schedule for January through May is confirmed (http://cyprus-strollers.org/activities-schedule/). The Cyprus Strollers is a unique hiking club\, broad reaching\, with a dedicated website in English. It is offering walks mainly of moderate duration (2 1/2 -3 1/2 hours)\, suitable for families\, hikers and nature lovers with an average fitness and an appetite to discover the natural beauties of Cyprus. Each walk announcement includes reference to the degree of difficulty. Hikes are conducted in compliance with Government measures wrt covid-19. \nTo read the confirmed weekly schedule of hikes for October – December 2024 visit http://cyprus-strollers.org/activities-schedule/   \nTo read a full detailed description with all necessary instructions for each hike over October – December 2024 visit http://cyprus-strollers.org/activities-description/ 
URL:https://www.visitcyprus.com/fr/event/the-cyprus-strollers-october-december-2024/
ATTACH;FMTTYPE=image/jpeg:https://www.visitcyprus.com/wp-content/uploads/2022/03/6151a4b899faa2.25741166.jpeg
END:VEVENT
BEGIN:VEVENT
DTSTART;TZID=UTC:20241007T183000
DTEND;TZID=UTC:20241012T221500
DTSTAMP:20260425T212034
CREATED:20241008T022838Z
LAST-MODIFIED:20241008T023707Z
UID:559604-1728325800-1728771300@www.visitcyprus.com
SUMMARY:Tsakkisti elia (green olive) festival - 7-12.10.2024
DESCRIPTION:This year’s “Green Olive Festival” aims primarily to further promote the traditional product of the green cracked olive and its preparation method\, as well as to introduce the public to other products that feature olives as a key ingredient. Additionally\, through this festival\, we seek to highlight our cultural heritage\, the customs and traditions of our region\, as well as our traditional dances and songs. This year\, the entire event will be significantly upgraded and extended in duration. \nThe “Green Olive Festival” will take place from October 7 to October 12 this year. During the week\, experiential workshops will be held for the preparation of traditional olive pie and other baked goods at a local bakery\, as well as a screening of a film about olives at a local open-air cinema (there would be a parallel screening at the indoors cinema hall). On October 12\, the event program will begin with the opening of the traditional olive mill\, followed by a small artistic performance at the outdoor space of the mill and a contest for cracking green olives. Then\, accompanied by live traditional music\, there will be a “patinada”—a traditional procession where musicians and dancers parade through the streets\, performing lively folk music and dance— the the parking place of Protis Apriliou (1st of April) Square. There\, the event will continue with a traditional celebration including live music Vasiliki Hadjiadamou’s band and Cypriot folk dances performed by the “Othellos” dance group. \nAt the event main venue\, there will be stalls selling green cracked olives\, extra virgin olive oil\, traditional sweets made with olives\, olive paste\, various olive-based baked goods\, olive oil-based cosmetics and an experiential workshop on olive cracking. Upon entering the main menu\, each visitor will receive a traditional treat consisting of warm bread with olive oil\, cracked olives\, and wine\, as well as canapés where cracked olives will be used in a more contempory manner. Additionally\, there will be a publication available to the public that will include both the preparation process of green cracked olives\, as well as traditional and modern serving suggestions recommended by a professional baker and a professional chef\, along with recipes for dishes featuring olives as the main ingredient. Food\, drinks\, desserts and other traditional products would be available too. \n  \nEntrance is free for all the events. \nThe cost to purchase food during the traditional eveningis: Adults – €20\, Children (up to 12 years) – €12 \n  \nStart time/ End time: \nWorkshop: 18:30 – 20:30\nCinema: 20:15 – 22:15\nOpening event at the Traditional Olive Mill: 18:45 – 19:45\nTraditional evening : 20:00 – late \n\n 
URL:https://www.visitcyprus.com/fr/event/tsakkisti-elia-green-olive-festival-7-12-10-2024/
LOCATION:Traditional products laboratory Stylianos Ch. Athini\, Episkopi Limassol\, 13 Agias Paraskevis\, Limassol\, 4620\, Cyprus
ATTACH;FMTTYPE=image/jpeg:https://www.visitcyprus.com/wp-content/uploads/2024/10/elia.jpg
END:VEVENT
BEGIN:VEVENT
DTSTART;TZID=UTC:20241012T080000
DTEND;TZID=UTC:20241013T000000
DTSTAMP:20260425T212034
CREATED:20241010T050144Z
LAST-MODIFIED:20241010T051139Z
UID:560097-1728720000-1728777600@www.visitcyprus.com
SUMMARY:Discover Tylliria - 12-13.10.2024
DESCRIPTION:Interested for the excursion in Tylliria organised by the Nicosia Tourism Board?\n\n\n\n\n\n\n\nNicosia Tourism Board – Discover Tylliria \nNicosia Tourism Βoard\, in collaboration with the Deputy Ministry of Tourism\, is pleased to announce the launch of pilot excursions under the “Discover Tylliria” initiative. The aim of this program is to introduce the public to the rich history and traditions of the remote Tylliria region and to enhance its tourism appeal. \nThe first excursion will take place over the weekend of October 12-13\, 2024. Transportation to and from Tylliria from Nicosia\, as well as guided tours of the area’s points of interest\, will be sponsored by NTB and the Deputy Ministry of Tourism. \nThe excursion itinerary includes visits to various points of interest such as the Medieval Tower\, local churches\, the archaeological site “Avli\,” a visit to a workshop producing traditional Halitzi cheese\, traditional kilns\, and a photographic walk at the picturesque harbor of Kato Pyrgos. \nFor more information regarding departure and return points\, as well as reservations\, please contact info@ntb.org.cy or call 22889704. \n\nFor the reservations click here  \n\nFor the programme clich here
URL:https://www.visitcyprus.com/fr/event/discover-tylliria-12-13-10-2024/
LOCATION:Tylliria
CATEGORIES:Other
ATTACH;FMTTYPE=image/jpeg:https://www.visitcyprus.com/wp-content/uploads/2024/10/discovertylliria.jpg
END:VEVENT
BEGIN:VEVENT
DTSTART;TZID=UTC:20241012T190000
DTEND;TZID=UTC:20241019T000000
DTSTAMP:20260425T212034
CREATED:20241011T080741Z
LAST-MODIFIED:20241011T090128Z
UID:560569-1728759600-1729296000@www.visitcyprus.com
SUMMARY:Agia Napa 19th Medieval Festival - 12-19.10.2024
DESCRIPTION:The month October can rightly be called «Medieval October» for Agia Napa\, as these mysterious times are revived through its Medieval Festival. From the 12th to the 19th of October 2024\, Agia Napa time travels back to the Middle Ages. The 8-day long journey through the myths with the fair maidens\, the fairies and the iron-clad knights who battle dragons and villains\, transports us to a world of fantasy\, mystery and magic. Through the fantastic parades\, the re-enactments of events and the daily lives of people from another era\, the storytelling through music and song\, the Medieval Festival of Agia Napa leaves an indelible social and spiritual imprint of the legends.\nThe Medieval Festival was first celebrated in the year 2006\, and it has managed to become\, after 18 years of successful events and collaborations with other Medieval Festivals such as the Medieval Festival of Rhodes\, Malta – Mendina and the Carnival of Venice\, to become one of the largest in Europe. Music and dance performances\, street theaters and narrative tours by groups of dancers\, musicians\, artists and students from Cyprus and European countries\, follow the footsteps of medieval exploits. The festival also offers bazaars with handmade products and homemade food of that distant era and exhibitions of textiles\, weapons and embroidery\, which can be found along the passage of the Monastery of Agia Napa during the eight days. \nFor the programme click here
URL:https://www.visitcyprus.com/fr/event/agia-napa-19th-medieval-festival-12-19-10-2024/
LOCATION:Agia Napa Central Square\, Georgios Seferis Square (central square)\, Agia Napa
ATTACH;FMTTYPE=image/jpeg:https://www.visitcyprus.com/wp-content/uploads/2024/10/medievalfestival.jpg
END:VEVENT
END:VCALENDAR