BEGIN:VCALENDAR
VERSION:2.0
PRODID:-//Visit Cyprus - ECPv6.15.20//NONSGML v1.0//EN
CALSCALE:GREGORIAN
METHOD:PUBLISH
X-WR-CALNAME:Visit Cyprus
X-ORIGINAL-URL:https://www.visitcyprus.com/fr/
X-WR-CALDESC:Évènements pour Visit Cyprus
REFRESH-INTERVAL;VALUE=DURATION:PT1H
X-Robots-Tag:noindex
X-PUBLISHED-TTL:PT1H
BEGIN:VTIMEZONE
TZID:UTC
BEGIN:STANDARD
TZOFFSETFROM:+0000
TZOFFSETTO:+0000
TZNAME:UTC
DTSTART:20230101T000000
END:STANDARD
END:VTIMEZONE
BEGIN:VEVENT
DTSTART;VALUE=DATE:20241206
DTEND;VALUE=DATE:20250427
DTSTAMP:20260425T142705
CREATED:20250213T064021Z
LAST-MODIFIED:20250213T064247Z
UID:673840-1733443200-1745711999@www.visitcyprus.com
SUMMARY:Repetitive Acts The Power of Weaving and Textile in Contemporary Art - 6.12.2024-26.4.2025
DESCRIPTION:The exhibition “Repetitice Acts: The power of weaving and textile in contemporary art” explores the enduring power of weaving as a medium of communication\, storytelling\, and resistance. From ancient Peruvian textiles to contemporary Afghan “War Rugs”\, textiles have served as a silent yet eloquent transmitter of meaning and memory. This exhibition brings weaving’s legacy into the present\, showing how contemporary artists from Cyprus transcend its domestic associations to become a space for political\, cultural\, and personal expression. The act of making\, the repetitive patterns\, and the ritual of repetition in the process are all equally significant. \nVisiting Hours: \nWednesday – Saturday: 10:00 – 20:00 \nSunday: 10:00 – 18:00 \nMonday & Tuesday: Closed \n 
URL:https://www.visitcyprus.com/fr/event/repetitive-acts-the-power-of-weaving-and-textile-in-contemporary-art-6-12-2024-26-4-2025/
LOCATION:NIMAC\, 19 Palaias Ilektrikis\, Lefkosia\, Nicosia\, 1016\, Cyprus
ATTACH;FMTTYPE=image/jpeg:https://www.visitcyprus.com/wp-content/uploads/2025/02/NiMAC_02.jpg
ORGANIZER;CN="Marika Ioannou":MAILTO:marika@nimac.org
END:VEVENT
BEGIN:VEVENT
DTSTART;VALUE=DATE:20250111
DTEND;VALUE=DATE:20250602
DTSTAMP:20260425T142705
CREATED:20250107T103114Z
LAST-MODIFIED:20250107T103114Z
UID:637899-1736553600-1748822399@www.visitcyprus.com
SUMMARY:The Cyprus Strollers - Jan-June 2025
DESCRIPTION:Get some exercise at the weekend\nExplore the paths of the Cyprus countryside\nMeet people and make new friends.\n\nThe Cyprus Strollers (http://cyprus-strollers.org) is organizing a hike in nature every weekend\, from October to May.\nThe Cyprus Strollers welcome individuals and families (children and dogs welcome as well) living in Cyprus\, irrespective of nationality\, and equally visitors and tourists\, who love nature and search for hiking opportunities during their stay.\nThe schedule for January through June is confirmed (http://cyprus-strollers.org/activities-schedule/). The Cyprus Strollers is a unique hiking club\, broad reaching\, with a dedicated website in English. It is offering walks mainly of moderate duration (2 1/2 -3 1/2 hours)\, suitable for families\, hikers and nature lovers with an average fitness and an appetite to discover the natural beauties of Cyprus. Each walk announcement includes reference to the degree of difficulty. \nTo read the confirmed weekly schedule of hikes for January – June 2025 visit http://cyprus-strollers.org/activities-schedule/\nTo read a full detailed description with all necessary instructions for each hike over January – June 2025 visit http://cyprus-strollers.org/activities-description/
URL:https://www.visitcyprus.com/fr/event/the-cyprus-strollers-jan-june-2025/
ATTACH;FMTTYPE=image/jpeg:https://www.visitcyprus.com/wp-content/uploads/2025/01/cyprustrollers.jpg
ORGANIZER;CN="Xenophon Hasapis":MAILTO:xenophondothasapis@gmail.com)
END:VEVENT
BEGIN:VEVENT
DTSTART;TZID=UTC:20250404T080000
DTEND;TZID=UTC:20250406T170000
DTSTAMP:20260425T142705
CREATED:20241206T045958Z
LAST-MODIFIED:20241206T045958Z
UID:635993-1743753600-1743958800@www.visitcyprus.com
SUMMARY:3rd International Coastal Rowing Beach Sprints LNC Competition - 4-6.4.2025
DESCRIPTION:A Beach Sprint Coastal rowing race\, is an exciting and dynamic rowing race that takes place in the sea near a beach. Unlike traditional rowing races that take place in calm waters\, coastal rowing races add an extra level of excitement by wading through waves\, currents and potentially rough weather.\nHere is a description of what such a race might entail: \n**Location:**\nThe race is usually run along a scenic coastline\, incorporating the natural elements of the open sea. The start and finish points are located on the beach and rowers launch their boats directly from the shore. \n** Boats:**\nCoastal rowing boats are designed to handle the unpredictable nature of the sea. These boats are sturdier than their calm water counterparts\, often featuring wider hulls\, reinforced construction and greater stability. \n**What does Beach Sprints mean?**\nThe race starts from the beach\, 30-50 meters away from where the wave breaks. The rowers (two athletes at a time) start from the beach sprinting\, enter the boat and row between buoys for 250 meters\, make the final turn (360 degrees)\, return to the beach and sprint out of the boat to finish before from their teammate who has done exactly the same course on parallel buoys. \n**Challenges:**\nRowers face challenges such as changing winds and potentially choppy waters\, making the race both physically demanding and mentally engaging. Adaptability to ever-changing coastal conditions becomes a critical aspect of success.\nIn other words\, a sprint race on the beach combines the athleticism and teamwork of traditional rowing with the unpredictable and exciting elements of coastal waters\, creating an exciting and visually captivating sporting event.
URL:https://www.visitcyprus.com/fr/event/3rd-international-coastal-rowing-beach-sprints-lnc-competition-4-6-4-2025-2/
LOCATION:Parekklisia Beach / Malindi Beach\, St. Raphael Marina\, Limassol\, Cyprus
CATEGORIES:Rowing
ATTACH;FMTTYPE=image/jpeg:https://www.visitcyprus.com/wp-content/uploads/2024/12/rowing.jpg
END:VEVENT
BEGIN:VEVENT
DTSTART;TZID=UTC:20250404T180000
DTEND;TZID=UTC:20250412T000000
DTSTAMP:20260425T142705
CREATED:20250331T042326Z
LAST-MODIFIED:20250331T042405Z
UID:715516-1743789600-1744416000@www.visitcyprus.com
SUMMARY:23RD CYPRUS FILM DAYS INTERNATIONAL FESTIVAL 2025 - 4-12.4.2025 (Lemessos)
DESCRIPTION:Cyprus Film Days International Festival (CFD IFF) is the official competition festival of Cyprus dedicated to the art of the full-length fiction film. The Festival is organised by the Department of Contemporary Culture of the Deputy Ministry of Culture and the Rialto Theatre and is held annually in the two major cities of Cyprus: the coastal city of Limassol\, which also serves as the festival’s guest office/centre\, and Nicosia\, the capital city of Cyprus\, where most of the industry-related activities take place. First established in 2001\, CFD (formerly known as the Cinema Horizons Cyprus Festival) has since then set the objective of offering to Cypriot cinephiles and festival visitors a quality selection of the best of festival cinema. \n  \nFor the programme click here
URL:https://www.visitcyprus.com/fr/event/23rd-cyprus-film-days-international-festival-2025-4-12-4-2025-lemessos/
LOCATION:Rialto Theatre\, Andrea Drousioti Street 19\, Plateia Iroon\, Lemesos\, state\, 3603\, Cyprus
ATTACH;FMTTYPE=image/jpeg:https://www.visitcyprus.com/wp-content/uploads/2025/03/filmfestival.jpg
ORGANIZER;CN="Doros Demetriou":MAILTO:cfd.manager@rialto.com.cy
END:VEVENT
BEGIN:VEVENT
DTSTART;TZID=UTC:20250405T180000
DTEND;TZID=UTC:20250405T220000
DTSTAMP:20260425T142705
CREATED:20250320T050304Z
LAST-MODIFIED:20250331T020940Z
UID:714987-1743876000-1743890400@www.visitcyprus.com
SUMMARY:12th PRESENTATION FAIR OF CYPRUS WINES - FAMAGUSTA - 5.4.2025
DESCRIPTION:Annual presentation – fair of Cyprus wines. Is taking place alternately at Ayia Napa and Paralimni municipalities. This year is the 12th exhibition and is organized at the LAXIA VENUE Paralimni. There is always participation of more than 30 Cypriot wineries and about 1\,000 visitors\, locals and foreigners. Our wine fair enriches the local tourist area in winter time with this massive event. Alongside with the update information for wine which is offered to foreigners\, the winemakers have the chance to promote their products to the local tourist market for the upcoming summer tourist season. Foreigners-tourists whom we transfer free with busses towards the venue area\, they assure as for their best impressions they get from tasting Cyprus wines\, especially from the sweet one Comandaria. \n  \nFor the buses timetable to Laxia Venue click here \nFor the invitation click here
URL:https://www.visitcyprus.com/fr/event/12th-presentation-fair-of-cyprus-wines-famagusta-5-4-2025/
LOCATION:LAXIA PALACE PROTARAS\, LEOFOROS PROTARA CAVO GRECO 40\, Protaras\, Cyprus
ATTACH;FMTTYPE=image/jpeg:https://www.visitcyprus.com/wp-content/uploads/2025/03/geusignosies_cat.jpgbak-Z8OC5Q.tmp_.jpg
ORGANIZER;CN="FAMAGUSTA WINE CLUB %E2%80%9CVAKCHUS%E2%80%9D %E2%80%93 LEFTERIS THEODOROU":MAILTO:L.F.THEODOROU@CYTANET.COM.CY
END:VEVENT
BEGIN:VEVENT
DTSTART;TZID=UTC:20250405T180000
DTEND;TZID=UTC:20250411T000000
DTSTAMP:20260425T142705
CREATED:20250331T041948Z
LAST-MODIFIED:20250331T041948Z
UID:715510-1743876000-1744329600@www.visitcyprus.com
SUMMARY:23RD CYPRUS FILM DAYS INTERNATIONAL FESTIVAL 2025 - 5-11.4.2025 (Lefkosia)
DESCRIPTION:Cyprus Film Days International Festival (CFD IFF) is the official competition festival of Cyprus dedicated to the art of the full-length fiction film. The Festival is organised by the Department of Contemporary Culture of the Deputy Ministry of Culture and the Rialto Theatre and is held annually in the two major cities of Cyprus: the coastal city of Limassol\, which also serves as the festival’s guest office/centre\, and Nicosia\, the capital city of Cyprus\, where most of the industry-related activities take place. First established in 2001\, CFD (formerly known as the Cinema Horizons Cyprus Festival) has since then set the objective of offering to Cypriot cinephiles and festival visitors a quality selection of the best of festival cinema. \n  \nFor the programme click here
URL:https://www.visitcyprus.com/fr/event/23rd-cyprus-film-days-international-festival-2025-5-11-4-2025-lefkosia/
LOCATION:Zena Palace\, Theofani Theodotou 18\, Lefkosia\, Lefkosia\, 1065\, Cyprus
ATTACH;FMTTYPE=image/jpeg:https://www.visitcyprus.com/wp-content/uploads/2025/03/filmfestival.jpg
ORGANIZER;CN="Doros Demetriou":MAILTO:cfd.manager@rialto.com.cy
END:VEVENT
BEGIN:VEVENT
DTSTART;TZID=UTC:20250405T203000
DTEND;TZID=UTC:20250405T220000
DTSTAMP:20260425T142705
CREATED:20250321T040417Z
LAST-MODIFIED:20250321T040417Z
UID:715032-1743885000-1743890400@www.visitcyprus.com
SUMMARY:STARLIGHT 4 with CySO and the world-class oboist Céline Moinet - 5.4.2025
DESCRIPTION:The concerts take place under the auspices of the President of the Republic of Cyprus\, Mr. Nikos Christodoulides \nFrancis Poulenc: Sinfonietta\, FP 141 \nJean Francaix: L’ horloge de flore for oboe and orchestra \nGeorge Bizet: Symphony no. 1 in C major \nCeline Moinet oboe \nPatrick Gallois conductor \nPart of Francophonie month 2025\, the STARLIGHT 4 concerts of the Cyprus Symphony Orchestra invite the audience to an enchanting evening of French artistry and elegance with two superb French artists. The Orchestra anticipates with much joy its first collaboration with the world-class oboist Céline Moinet\, who has been praised as “…flawless throughout: her sound is a delight\, her technique impeccable and her stamina…superhuman”. At the podium we welcome back the amazing conductor Patrick Gallois\, renowned for his commanding brilliance and outstanding recordings with NAXOS. \nFrancis Poulenc’s Sinfonietta opens the programme with its playful wit and lyrical grace\, a delightful piece of neoclassical brilliance. Oboist Céline Moinet will enchant us with Jean Françaix’s L’horloge de flore\, a whimsical and evocative musical depiction of flowers blooming through the hours of the day\, brimming with colour and subtlety. The concert will conclude with yet more French elegance with George Bizet’s masterful First Symphony\, a tribute to his teacher\, Charles Gounod. \nΤhe concerts are held under the auspices of the President of the Republic of Cyprus\, Mr. Nikos Christodoulides. \nGold Sponsor: Perestroika (Cyprus) Ltd \nSupporters: French Embassy in Cyprus\, Institut Français de Chypre \n  \nTicket prices: \nZone Α: €25 / €18 (concession) \nZone Β: €20 / €15 (concession) \nZone C: €17 / €12 (concession) \nConcession tickets are available to:  \nStudents\, soldiers\, pensioners\, large and five-member families on presentation of ID.  Free entrance for people with disabilities. \nTicket presales: \nPattihio Limassol Municipal Theatre (Ayias Zonis 4\, 3027 Lemesos\, 25 377277): \nOnline at www.soldouttickets.com.cy\, at the Box Office: Mon-Fri: 10:00-13:00 and 16:00-19:00\, Sat. 10:00-13:00 and 2 hours before the concert. \n  \nStay informed about the Artistic Programme of the Cyprus Symphony Orchestra and the Cyprus Youth Symphony Orchestra! \nConcerts Programmes \nhttps://www.cyso.org.cy/?cat=48 \n Digital Season Brochure  \nDownload in PDF or browse \nhttps://www.cyso.org.cy/?page_id=2379 \n  \n Join our Newsletter \nhttps://www.cyso.org.cy/?page_id=9302 \n Follow us on social media \nFacebook: Cyprus Symphony Orchestra\, Cyprus Youth Symphony Orchestra \nInstagram: cyprussymphony\, cyprusyouthsymphonyorchestra \nYouTube: CYSO Channel\, CyYSO Channel \nFor more information you may contact Constantia Elia at 22 463135\, \nemail: c.elia@cyso.org.cy
URL:https://www.visitcyprus.com/fr/event/starlight-4-with-cyso-and-the-world-class-oboist-celine-moinet-5-4-2025/
LOCATION:Pattihio Municipal Theatre\, Agias Zonis 4\, Limassol\, 3031\, Cyprus
ATTACH;FMTTYPE=image/jpeg:https://www.visitcyprus.com/wp-content/uploads/2025/03/Celine-Moinet_Francois-Sechet-4.jpg
ORGANIZER;CN="Cyprus Symphony Orchestra":MAILTO:info@cyso.org.cy
END:VEVENT
END:VCALENDAR