BEGIN:VCALENDAR
VERSION:2.0
PRODID:-//Visit Cyprus - ECPv6.15.20//NONSGML v1.0//EN
CALSCALE:GREGORIAN
METHOD:PUBLISH
X-ORIGINAL-URL:https://www.visitcyprus.com/fr/
X-WR-CALDESC:Évènements pour Visit Cyprus
REFRESH-INTERVAL;VALUE=DURATION:PT1H
X-Robots-Tag:noindex
X-PUBLISHED-TTL:PT1H
BEGIN:VTIMEZONE
TZID:UTC
BEGIN:STANDARD
TZOFFSETFROM:+0000
TZOFFSETTO:+0000
TZNAME:UTC
DTSTART:20240101T000000
END:STANDARD
END:VTIMEZONE
BEGIN:VTIMEZONE
TZID:Asia/Nicosia
BEGIN:DAYLIGHT
TZOFFSETFROM:+0200
TZOFFSETTO:+0300
TZNAME:EEST
DTSTART:20240331T010000
END:DAYLIGHT
BEGIN:STANDARD
TZOFFSETFROM:+0300
TZOFFSETTO:+0200
TZNAME:EET
DTSTART:20241027T010000
END:STANDARD
BEGIN:DAYLIGHT
TZOFFSETFROM:+0200
TZOFFSETTO:+0300
TZNAME:EEST
DTSTART:20250330T010000
END:DAYLIGHT
BEGIN:STANDARD
TZOFFSETFROM:+0300
TZOFFSETTO:+0200
TZNAME:EET
DTSTART:20251026T010000
END:STANDARD
BEGIN:DAYLIGHT
TZOFFSETFROM:+0200
TZOFFSETTO:+0300
TZNAME:EEST
DTSTART:20260329T010000
END:DAYLIGHT
BEGIN:STANDARD
TZOFFSETFROM:+0300
TZOFFSETTO:+0200
TZNAME:EET
DTSTART:20261025T010000
END:STANDARD
END:VTIMEZONE
BEGIN:VEVENT
DTSTART;VALUE=DATE:20250111
DTEND;VALUE=DATE:20250602
DTSTAMP:20260425T180347
CREATED:20250107T103114Z
LAST-MODIFIED:20250107T103114Z
UID:637899-1736553600-1748822399@www.visitcyprus.com
SUMMARY:The Cyprus Strollers - Jan-June 2025
DESCRIPTION:Get some exercise at the weekend\nExplore the paths of the Cyprus countryside\nMeet people and make new friends.\n\nThe Cyprus Strollers (http://cyprus-strollers.org) is organizing a hike in nature every weekend\, from October to May.\nThe Cyprus Strollers welcome individuals and families (children and dogs welcome as well) living in Cyprus\, irrespective of nationality\, and equally visitors and tourists\, who love nature and search for hiking opportunities during their stay.\nThe schedule for January through June is confirmed (http://cyprus-strollers.org/activities-schedule/). The Cyprus Strollers is a unique hiking club\, broad reaching\, with a dedicated website in English. It is offering walks mainly of moderate duration (2 1/2 -3 1/2 hours)\, suitable for families\, hikers and nature lovers with an average fitness and an appetite to discover the natural beauties of Cyprus. Each walk announcement includes reference to the degree of difficulty. \nTo read the confirmed weekly schedule of hikes for January – June 2025 visit http://cyprus-strollers.org/activities-schedule/\nTo read a full detailed description with all necessary instructions for each hike over January – June 2025 visit http://cyprus-strollers.org/activities-description/
URL:https://www.visitcyprus.com/fr/event/the-cyprus-strollers-jan-june-2025/
ATTACH;FMTTYPE=image/jpeg:https://www.visitcyprus.com/wp-content/uploads/2025/01/cyprustrollers.jpg
ORGANIZER;CN="Xenophon Hasapis":MAILTO:xenophondothasapis@gmail.com)
END:VEVENT
BEGIN:VEVENT
DTSTART;VALUE=DATE:20250407
DTEND;VALUE=DATE:20250808
DTSTAMP:20260425T180347
CREATED:20250513T045450Z
LAST-MODIFIED:20250513T050246Z
UID:740634-1743984000-1754611199@www.visitcyprus.com
SUMMARY:Tekton exhibition - 7.4-7.8.2025
DESCRIPTION:The PSI Foundation is proud to announce the opening of the Tekton exhibition in its premises to be visited from April 7\, 2025. The exhibition will be the first to showcase the visionary work of Andreas Papadopoulos and Phoebus Polydorides\, a pioneering engineer-architect duo active in Limassol in the late 1950s and early 1960s. \nAndreas Papadopoulos (1922–2009) was a skilled engineer and an active advocate for the independence of Cyprus\, later serving as the Minister of Transport and Works in the country’s first independent government. \nPhoebus Polydorides (1926–2019) played a key role in defining Limassol’s urban aesthetic\, designing several iconic buildings\, including Aktaia\, which became a landmark of the city’s modernist transformation. \nThe Tekton exhibition delves into the evolution of Modernist architecture in Cyprus\, highlighting its role as a powerful symbol of the country’s newfound sovereignty and as a response to the colonial architectural style of the first half of the 20th century. It examines the achievements of Papadopoulos and Polydorides\, who introduced innovative architectural forms into the Cypriot landscape and proposed important urban solutions that shaped the identity of the evolving country. Unpublished archival materials offer a rare glimpse into the duo’s contributions to Cyprus’ cultural and architectural heritage. \nThe revolutionary approach is further developed by a site-specific installation by British artist Matt Collishaw Aftermath. Specially created for the dramatic modernist interior of the PSI Foundation in 2024 it serves as a bridge between the past and the future via the unique dialogue on cultural transformation that incorporates artificial intelligence. \nTekton is curated by Dimitri Ozerkov\, Chief Curator of PSI Foundation and former director of the Contemporary Art Department at the Hermitage Museum\, and Danila Parniouk\, acclaimed photographer and Art Director of PSI Foundation. The exhibition will run through August 2025 and will be open to the public free of charge in the working hours available at https://psi.art. \nThe Parallel Program to the exhibition kicks off on March 22\, at 18:00\, with an Artist Talk “The Body in Excess\, Zombies\, Cyborgs & Chimeras\,” by renowned Limassol-born performance artist Stelarc. \nThe non-profit PSI Foundation was established in Limassol in 2024 with the mission to support and cultivate the thriving artistic landscape of Cyprus. Central to its vision is the promotion of contemporary art in dialogue with technology. Through curated exhibitions\, collaborative projects\, and creative sessions\, the Foundation strives to challenge perceptions about the convergence of art and technology and inspire audiences to explore new realms of possibility. As part of its dedication to showcasing the rich tapestry of Cypriot art\, the Foundation proudly supported the Cyprus National Pavilion at the 60th Venice Biennale and hosted several networking events. In 2024 PSI Foundation commissioned Casts of an Island 2024\, an exhibition to commemorate the 50th anniversary of the division of the island of Cyprus. \nAnother mission of the Foundation consists of preserving the historic Carob Warehouse of Limassol and envisaging its future use. The Tekton exhibition presents the results of deep archival research of the building and proposes to envisage its future. \nOperation hours: \n\nThursday – Friday: 17:00–22:00\nSaturday: 11:00–14:00 & 17:00–22:00\n\nTours:\n From Saturday 26th of April.  Free guided tours in Greek and English begin. Visitors can book a place by phone or by email at info@psi.art for the following times: \n\nThursday: 18:00 (Eng)\, 19:00 (Eng)\nFriday: 19:00 (Gr)\, 20:00 (Eng)\nSaturday: 11:30 (Eng)\, 12:30 (Gr)\, 18:00 (Gr)\, 19:00 (Eng)\, 20:00 (Eng)
URL:https://www.visitcyprus.com/fr/event/tekton-exhibition-7-4-7-8-2025/
LOCATION:Old Carob Warehouse\, 27 Synergatismou Str.\, Limassol\, 3010\, Cyprus
ATTACH;FMTTYPE=image/jpeg:https://www.visitcyprus.com/wp-content/uploads/2025/05/TEKTON.jpg
ORGANIZER;CN="Psi Foundation":MAILTO:es@psi.art
END:VEVENT
BEGIN:VEVENT
DTSTART;VALUE=DATE:20250427
DTEND;VALUE=DATE:20250531
DTSTAMP:20260425T180347
CREATED:20250508T063515Z
LAST-MODIFIED:20250508T063810Z
UID:740517-1745712000-1748649599@www.visitcyprus.com
SUMMARY:International Museum Day Events - 27.4-30.5.2025
DESCRIPTION:PROGRAMME OF EVENTS CELEBRATING INTERNATIONAL MUSEUM DAY AND THE EUROPEAN NIGHT OF MUSEUMS 2025 \nThe Department of Antiquities of the Deputy Ministry of Culture and the Cyprus National Committee of the International Council of Museums (ICOM)\, announce that\, within the framework of International Museum Day\, 2025 (18th May)\, under the theme “The future of Museums in Rapidly Changing Communities” and the European Night of Museums\, numerous events will be organised\, most with free entrance. \nFor all the International Museum Day Events click here
URL:https://www.visitcyprus.com/fr/event/international-museum-day-events-27-4-30-5-2025/
ATTACH;FMTTYPE=image/jpeg:https://www.visitcyprus.com/wp-content/uploads/2025/05/international-museum-day-1.jpg
END:VEVENT
BEGIN:VEVENT
DTSTART;TZID=Asia/Nicosia:20250527T203000
DTEND;TZID=Asia/Nicosia:20250531T220000
DTSTAMP:20260425T180347
CREATED:20250514T102004Z
LAST-MODIFIED:20250514T102346Z
UID:740746-1748377800-1748728800@www.visitcyprus.com
SUMMARY:24th International Pharo Chamber Music Festival 27.5-31.5.2025
DESCRIPTION:The International Pharos Chamber Music Festival has firmly established itself as a beacon of artistic excellence and cultural significance\, both in Europe and beyond. Recognised internationally as one of the most important annual classical music events\, the Festival continues to enrich the cultural landscape of Cyprus with its uncompromising dedication to quality and innovation. Over its remarkable history\, spanning more than two decades\, the Festival has hosted some of the most legendary soloists and music ensembles in the world\, bringing chamber music to the forefront of cultural life in Cyprus\, while elevating the island’s standing on the global artistic stage. \nYear after year\, the International Pharos Chamber Music Festival presents a compelling and richly diverse programme of chamber music\, spanning from the baroque to the 21st century\, offering audiences a profound and ever-evolving musical journey. At the same time\, it remains deeply rooted in its mission to serve the community\, opening the world of chamber music to a broader audience and offering transformative educational opportunities to students across the island. \nHeld annually in the Royal Manor House of Kouklia – a remarkable testament to Frankish architecture and a UNESCO World Heritage site – the Festival adapts this historic venue into a space where tradition and artistic expression converge. The intimacy of chamber music\, performed by the best musicians in the world\, blending seamlessly with the enchanted atmosphere of the surroundings\, make the International Pharos Chamber Music Festival a cornerstone of the international classical music calendar and a source of inspiration for all who attend. \nThe 24th International Pharos Chamber Music Festival comprises five chamber concerts\, from 27 until 31 May at the Royal Manor House in Kouklia\, performed by 19 of the world’s leading virtuosos. The Festival will culminate on 1 June at the Pharos Arts Foundation’s open-air venue\, the idyllic The Olive Grove\, which will feature four of the Festival’s soloists alongside the Cyprus Youth Symphony Orchestra. \nTHE ARTISTS:  \nPiano: Nikita Mndoyants\, Enrico Pace\, Ashley Wass \nViolin:  Daishin Kashimoto\, Kristine Balanas\, Boris Brovtsyn\, Svetlin Roussev\, Fabiana D’Auria \nViola: Timothy Ridout\, Diemut Poppen\, David Abrahamyan\, Samuel Barsegyan \nCello: Danjulo Ishizaka\, Julian Steckel\, Alexander Chaushian \nDouble-Bass: Niek de Groot \nClarinet: Paul Meyer \nHorn: Radovan Vlatkovic \nMarimba: Ria Ideta \nCyprus Youth Symphony Orchestra \nConductor: Yiorgos Kountouris \n  \nFor the programme click here
URL:https://www.visitcyprus.com/fr/event/24th-international-pharo-chamber-music-festival-27-5-1-6-2025/
LOCATION:Royal Manor House\, Kouklia\, within the archeological site of Kouklia\, Paphos\, Kouklia\, Cyprus
ATTACH;FMTTYPE=image/jpeg:https://www.visitcyprus.com/wp-content/uploads/2025/05/pharos.jpg
ORGANIZER;CN="Pharos Arts Foundation":MAILTO:info@pharosartsfoundation.org
END:VEVENT
BEGIN:VEVENT
DTSTART;TZID=Asia/Nicosia:20250530T200000
DTEND;TZID=Asia/Nicosia:20250530T213000
DTSTAMP:20260425T180347
CREATED:20250430T055108Z
LAST-MODIFIED:20250430T055346Z
UID:740360-1748635200-1748640600@www.visitcyprus.com
SUMMARY:Orchestra 4 All 3 - Community outreach concerts - 30.5.2025
DESCRIPTION:Galata: Friday 30 May 2025 \nGalata Cultural Centre\, 20:00 \nBringing the joy of music close to the people in villages and communities is a mission close to the heart of the Cyprus Symphony Orchestra! This May\, the Orchestra tours six amazing venues around Cyprus performing a fantastic programme! \nUnder the direction of the uprising Greek maestro Ioanna Vlagkouli\, the CySO musicians will present a gorgeous\, varied “musical bouquet” of zestful\, whimsical\, energising and passionate music! From the wittiness and vivaciousness of opera overtures\, to Bizet’s passionate Spanish Seguidilla and Habanera from Carmen\, from entertaining orchestral hits by Leroy Anderson to the sultry rhythms of Piazzolla’s Libertango and spirited traditional dances of Europe and Cyprus\, this festive programme promises to spread invigorating vibes and get you up on your feet! \nEntrance free \n  \nIn collaboration with Tala Community Council\, the Dromolaxia – Meneou Municipality\, the Paralimni – Deryneia Municipality\, Peristerona Community Council\, the South Nicosia – Idalion  Municipality and Galata Community Council and the Communities of the Solea Complex \nWolfgang Amadeus Mozart: La Clemenza  di Tito: Overture \nJuan Crisóstomo Arriaga: Los esclavos felices: Overture \nLudwig van Beethoven: Symphony no. 7 in A major\, op. 92\, 1st movement \nGeorges Bizet: Seguidilla from Carmen Suite no. 1 \nGeorges Bizet: Habanera from Carmen Suite no. 2 \nLeroy Anderson: Fiddle – Faddle \nLeroy Anderson: Plink\, Plank\, Plunk! \nAstor Piazzolla: Libertango \nScott Joplin: The Easy Winners \nEdward Grieg: Norwegian Dance no. 2\, op. 35 \nJohannes Brahms: Hungarian Dance no. 5 in G minor \nCypriot traditional song: “Psintri vasilitzia mou”\, (orch./arr.: A. Baltas) \nYiannis Hadjiloizou: “Servikos” dance \n  \nIoanna Vlagkouli conductor \n  \nSTAY CONNECTED WITH THE CYPRUS SYMPHONY ORCHESTRA FOUNDATION \n There are many ways to stay up to date with the concert programmes and the broader activities of the Cyprus Symphony Orchestra and the Cyprus Youth Symphony Orchestra: \nVisit our official website: www.cyso.org.cy  whereby you can: \n Download our Season Brochure: https://www.cyso.org.cy/?page_id=2379 \n\nClick on Concerts to see our events: https://www.cyso.org.cy/?cat=48\nJoin our Newsletter: https://www.cyso.org.cy/?page_id=9302\n\nFollow us on social media: \nFacebook: Cyprus Symphony Orchestra & Cyprus Youth Symphony Orchestra \nInstagram: cyprussymphony & cyprusyouthsymphonyorchestra \nYouTube: CYSO Channel & CyYSO Channel \n  \nInstitutional Sponsor: Republic of Cyprus \nGrand Sponsor: OPAP Cyprus \nGold Sponsor (Starlight Series): Perestroika (Cyprus) Ltd \nSponsor: KEO Mallia Winery \nMedia Sponsors: CYBC\, Cyprus Mail \n  \nFor more information you may contact Constantia Elia at 22 463135\, \nemail: c.elia@cyso.org.cy
URL:https://www.visitcyprus.com/fr/event/orchestra-4-all-3-community-outreach-concerts-29-5-2025-2/
LOCATION:Galata Cultural Centre\, Arch. Makariou III\, 120\, Galata\, 2827
ATTACH;FMTTYPE=image/jpeg:https://www.visitcyprus.com/wp-content/uploads/2025/04/3-Ioanna-Vlagkouli.jpg
ORGANIZER;CN="Cyprus Symphony Orchestra":MAILTO:info@cyso.org.cy
END:VEVENT
END:VCALENDAR