BEGIN:VCALENDAR
VERSION:2.0
PRODID:-//Visit Cyprus - ECPv6.15.20//NONSGML v1.0//EN
CALSCALE:GREGORIAN
METHOD:PUBLISH
X-WR-CALNAME:Visit Cyprus
X-ORIGINAL-URL:https://www.visitcyprus.com/fr/
X-WR-CALDESC:Évènements pour Visit Cyprus
REFRESH-INTERVAL;VALUE=DURATION:PT1H
X-Robots-Tag:noindex
X-PUBLISHED-TTL:PT1H
BEGIN:VTIMEZONE
TZID:Asia/Nicosia
BEGIN:DAYLIGHT
TZOFFSETFROM:+0200
TZOFFSETTO:+0300
TZNAME:EEST
DTSTART:20240331T010000
END:DAYLIGHT
BEGIN:STANDARD
TZOFFSETFROM:+0300
TZOFFSETTO:+0200
TZNAME:EET
DTSTART:20241027T010000
END:STANDARD
BEGIN:DAYLIGHT
TZOFFSETFROM:+0200
TZOFFSETTO:+0300
TZNAME:EEST
DTSTART:20250330T010000
END:DAYLIGHT
BEGIN:STANDARD
TZOFFSETFROM:+0300
TZOFFSETTO:+0200
TZNAME:EET
DTSTART:20251026T010000
END:STANDARD
BEGIN:DAYLIGHT
TZOFFSETFROM:+0200
TZOFFSETTO:+0300
TZNAME:EEST
DTSTART:20260329T010000
END:DAYLIGHT
BEGIN:STANDARD
TZOFFSETFROM:+0300
TZOFFSETTO:+0200
TZNAME:EET
DTSTART:20261025T010000
END:STANDARD
BEGIN:DAYLIGHT
TZOFFSETFROM:+0200
TZOFFSETTO:+0300
TZNAME:EEST
DTSTART:20270328T010000
END:DAYLIGHT
BEGIN:STANDARD
TZOFFSETFROM:+0300
TZOFFSETTO:+0200
TZNAME:EET
DTSTART:20271031T010000
END:STANDARD
END:VTIMEZONE
BEGIN:VEVENT
DTSTART;VALUE=DATE:20250901
DTEND;VALUE=DATE:20260701
DTSTAMP:20260426T023433
CREATED:20250901T103917Z
LAST-MODIFIED:20250901T104223Z
UID:750930-1756684800-1782863999@www.visitcyprus.com
SUMMARY:Free E-Mountain Bikes for 2 Hours — Discover Solea Valley! - 1.9.2025-30.6.2026
DESCRIPTION:SOLEA Bicycle organizes for the third consecutive year the Annual Cycling Program in Solea.\nFrom September 2025 until June 2026\, with 2–3 rides every month\, participants enjoy easy family rides\, themed routes\, charity events\, cultural tours\, and training rides up to 80 km.\nAll rides start and finish in Linou\, with free e-bikes provided by the Linou Community Council. \nExperience Solea Valley in a whole new way! In the Linou community — a bike-friendly village — we offer free e-mountain bike rentals for 2 hours\, so you can explore the trails\, villages\, and hidden gems of the area in the most eco-friendly and enjoyable way possible. \nCommunity of Linou is the first village in Cyprus to install and operate an automated Bike Sharing System for free use. Through this innovative green initiative\, Linou is taking the next step toward sustainable development. With a charging station\, a digital booking platform\, and routes that pass through the historic villages of Solea\, this new system aims to change the way we travel and discover the beauty of the Cypriot countryside. \nBook your ride through the app and enjoy free 2-hour trips with electric bikes! \nOur routes are designed for everyone\, from beginners to experienced riders. We provide maps\, local tips\, and ideas for secret trails. All you need is a sense of adventure! \n🌳 What we offer: \n\nFree e-mountain bike rental for 2 hours\nMaps and recommended routes\nLocal tips for stops at cafés and scenic viewpoints\nCharging station & basic bike service\n\n🚴 Why try it: \n\n100% free for 2 hours\nAn eco-friendly way to explore the region\nPerfect for families\, couples\, or solo travelers\nA unique experience you’ll always remember!\n\nFor the programme and time table click here
URL:https://www.visitcyprus.com/fr/event/free-e-mountain-bikes-for-2-hours-discover-solea-valley/
LOCATION:SOLEA Bicycle\, Linou - Solea\, 2845
ATTACH;FMTTYPE=image/jpeg:https://www.visitcyprus.com/wp-content/uploads/2025/09/solea-bicycle.jpg
ORGANIZER;CN="Solea Bicycle- Coommunity Counceling Linous":MAILTO:soleabicycle@gmail.com
END:VEVENT
BEGIN:VEVENT
DTSTART;VALUE=DATE:20250914
DTEND;VALUE=DATE:20251231
DTSTAMP:20260426T023433
CREATED:20251003T114416Z
LAST-MODIFIED:20251003T114416Z
UID:753300-1757808000-1767139199@www.visitcyprus.com
SUMMARY:Nicosia International Festival 2025 - 14.9-30.12.2025
DESCRIPTION:FESTIVAL PHILOSOPHY \nThe proposals submitted should be in line with the philosophy of the Festival\, which in turn is aligned with the long-term strategy of the Nicosia Municipality for culture and which includes the following objectives: \n1. To support and promote young professional creators\, to showcase Cyprus’ talent of all ages and to keep our cultural heritage alive.\n2. To propose a wide range of cultural and artistic expression with the aim of bringing citizens into contact with internationally reputable artists and cultural organisations.\n3. To propose cultural activities that promote acceptance and inclusion regardless of nationality\, age\, gender\, colour\, religion\, sexual orientation\, etc.\n4. To honour freedom in all its forms: individual and national freedom\, freedom of thought and freedom of speech. \n  \nhttps://nicosiaforart.cy/en-gb/nicosia-international-festival/2025/ – Programme
URL:https://www.visitcyprus.com/fr/event/nicosia-international-festival-2025-14-9-30-12-2025/
LOCATION:Nicosia Municipal Theatre\, Mouseiou 4\, Lefkosia\, 1097\, Cyprus
ATTACH;FMTTYPE=image/jpeg:https://www.visitcyprus.com/wp-content/uploads/2025/10/niciosia-international-festival-2025.jpg
END:VEVENT
BEGIN:VEVENT
DTSTART;TZID=Asia/Nicosia:20250919T200000
DTEND;TZID=Asia/Nicosia:20250919T220000
DTSTAMP:20260426T023433
CREATED:20250910T063135Z
LAST-MODIFIED:20250910T064302Z
UID:751474-1758312000-1758319200@www.visitcyprus.com
SUMMARY:Orchestra 4 All  - 1 ‘MUSIC IN THE CITY’ - 19.9.2025
DESCRIPTION:Lefkosia: Friday 19 September 2025 – Eleftheria Square\, 20:00 \nAdolf Fredrik Lindblad: Symphony no. 2 in D major\, Ι. Maestoso – Allegro molto \nJean Sibelius:     Andante festivo \nValse triste\, op. 44. no. 1 \nJohann Strauss II: \nChampagne Polka \nSport Polka \nKünstlerleben (Artist’s Life Waltz)\, op. 316 \nPizzicato Polka \nThe Blue Danube Waltz\, op. 314 \nEU Anthem (from the last movement of Beethoven’s 9th Symphony) \n  \nMUSIC IN THE CITY: a one-of-a-kind musical experience in the heart of Lefkosia\, against the backdrop of the illuminated medieval walls! The Cyprus Symphony Orchestra under the baton of the rising Cypriot conductor Andreas Asiikkis promises to spread romanticism\, elegance and magic\, performing popular works and waltzes by Adolf Fredrik Lindblad\, Jean Sibelius and Johann Strauss Jr! \nΤhis year’s concert is part of the 30th anniversary celebration of the accession of Austria\, Sweden and Finland to the European Union\, and it is held in collaboration with the respective Embassies of the three countries. \nThis well-established\, much-awaited musical event is co-organised by the “Friends of Nicosia” Association and the Cyprus Symphony Orchestra Foundation. The concert will be broadcast live on RIK 2 television channel. \nAndreas Asiikkis conductor \nEntrance free \nIn collaboration with the Embassies of Austria\, Sweden and Finland\, within the 30th anniversary celebration of the accession of their countries to the European Union. \nOrganised by the “Friends of Nicosia” Association & the Cyprus Symphony Orchestra Foundation \nANDREAS ASIIKKIS conductor \n  \nAndreas Asiikkis is a Cypriot conductor based in The Netherlands. Since September 2024\, he is enrolled at the prestigious NMO (National Master in Orchestral Conducting) where he is mentored by Jac van Steen\, Ed Spanjaard\, and Antony Hermus. In The Netherlands he has collaborated with the Ballet Orchestra in a production of Cinderella for families\, and with the Dutch National Opera Academy conducting Rossini at the Bredeweg Festival. \n  \nPreviously\, he studied Conducting at the Royal Northern College of Music (UK) and Ionian University (GR). In the UK\, he has conducted new works\, family concerts and has assisted conductors such as Martyn Brabbins\, Sir Andrew Davis\, Juanjo Mena\, John Storgårds\, and Joshua Weilerstein. In Greece\, he served as assistant conductor to Alkis Baltas at the Philharmonic Society of Corfu Symphony Orchestra and created a youth orchestra at the Ionian Conservatory focusing on film music. \n  \nHe has conducted orchestras such as the BBC Philharmonic\, Royal Liverpool Philharmonic Orchestra\, Cyprus Symphony Orchestra\, Cyprus Youth Symphony Orchestra\, and Athens State Orchestra. Most notably\, in June 2024\, he conducted a programme of Andronikou\, Ye and Skalkottas with the BBC Philharmonic\, recorded for BBC Radio 3. \nInformation: 22 463144\, www.cyso.org.cy \n Stay informed about the Artistic Programme of the Cyprus Symphony Orchestra and the Cyprus Youth Symphony Orchestra! \n Cyprus Symphony Orchestra Foundation Website \nwww.cyso.org.cy \ninfo@cyso.org.cy \n22 463144 \n  \nConcerts Programmes \nhttps://www.cyso.org.cy/?cat=48 \n Join our Newsletter \nhttps://www.cyso.org.cy/?page_id=9302 \n  \nFollow us on social media \nFacebook: Cyprus Symphony Orchestra\, Cyprus Youth Symphony Orchestra \nInstagram: cyprussymphony\, cyprusyouthsymphonyorchestra \nYouTube: CYSO Channel\, CyYSO Channel \n  \nFor more information you may contact Constantia Elia at 22 463135\, \nemail: c.elia@cyso.org.cy
URL:https://www.visitcyprus.com/fr/event/orchestra-4-all-1-music-in-the-city-19-9-2025/
LOCATION:ELEFTHERIA SQUARE NICOSIA\, Konstantinou Palaiologou 20e\, Nicosia\, 1010
ATTACH;FMTTYPE=image/jpeg:https://www.visitcyprus.com/wp-content/uploads/2025/09/musiccity-1.jpg
ORGANIZER;CN="Cyprus Symphony Orchestra":MAILTO:info@cyso.org.cy
END:VEVENT
END:VCALENDAR