BEGIN:VCALENDAR
VERSION:2.0
PRODID:-//Visit Cyprus - ECPv6.15.20//NONSGML v1.0//EN
CALSCALE:GREGORIAN
METHOD:PUBLISH
X-WR-CALNAME:Visit Cyprus
X-ORIGINAL-URL:https://www.visitcyprus.com/fr/
X-WR-CALDESC:Évènements pour Visit Cyprus
REFRESH-INTERVAL;VALUE=DURATION:PT1H
X-Robots-Tag:noindex
X-PUBLISHED-TTL:PT1H
BEGIN:VTIMEZONE
TZID:UTC
BEGIN:STANDARD
TZOFFSETFROM:+0000
TZOFFSETTO:+0000
TZNAME:UTC
DTSTART:20230101T000000
END:STANDARD
END:VTIMEZONE
BEGIN:VEVENT
DTSTART;VALUE=DATE:20240101
DTEND;VALUE=DATE:20240701
DTSTAMP:20260426T023435
CREATED:20240124T090149Z
LAST-MODIFIED:20240124T090149Z
UID:500860-1704067200-1719791999@www.visitcyprus.com
SUMMARY:The Cyprus Strollers (January - June 2024)  
DESCRIPTION:Get some exercise at the weekend   \n\n			Explore the paths of the Cyprus countryside   \n\n			Meet people and make new friends.   \n\n\n	The Cyprus Strollers (http://cyprus-strollers.org) is organizing a hike in nature every weekend\, from October to May.     \n	The Cyprus Strollers welcome individuals and families (children and dogs welcome as well) living in Cyprus\, irrespective of nationality\, and equally visitors and tourists\, who love nature and search for hiking opportunities during their stay.    \n	The schedule for January through June is confirmed (http://cyprus-strollers.org/activities-schedule/). The Cyprus Strollers is a unique hiking club\, broad reaching\, with a dedicated website in English. It is offering walks mainly of moderate duration (2 1/2 -3 1/2 hours)\, suitable for families\, hikers and nature lovers with an average fitness and an appetite to discover the natural beauties of Cyprus. Each walk announcement includes reference to the degree of difficulty. Hikes are conducted in compliance with Government measures wrt covid-19. \n	  \n	To read the confirmed weekly schedule of hikes for January – June 2024 visit http://cyprus-strollers.org/activities-schedule/   \n	To read a full detailed description with all necessary instructions for each hike over  January – June 2024 visit http://cyprus-strollers.org/activities-description/
URL:https://www.visitcyprus.com/fr/event/the-cyprus-strollers-january-june-2024/
ATTACH;FMTTYPE=image/jpeg:https://www.visitcyprus.com/wp-content/uploads/2022/03/6151a4b899faa2.25741166.jpeg
END:VEVENT
BEGIN:VEVENT
DTSTART;TZID=UTC:20240524T203000
DTEND;TZID=UTC:20240601T235959
DTSTAMP:20260426T023435
CREATED:20240515T052741Z
LAST-MODIFIED:20240917T040938Z
UID:500625-1716582600-1717286399@www.visitcyprus.com
SUMMARY:23rd International Pharos Chamber Music Festival - 24.5-1.6.2024
DESCRIPTION:The International Pharos Chamber Music Festival has earned a distinguished reputation as a premier music event in Europe\, celebrated for its exceptional performances\, rich and diverse programme\, and enchanting setting. By steadfastly upholding standards of artistic excellence\, the Pharos Festival has played a pivotal role in introducing chamber music to Cyprus\, establishing the island as a significant player on the global cultural scene. Drawing enthusiasts from across the globe\, its extraordinary concerts offer a unique and uplifting musical experience that resonates far beyond its borders. For over two decades\, the Festival has showcased a diverse array of world-renowned soloists\, captivating audiences with unforgettable performances. Additionally\, the Festival remains committed to its ethos of community outreach\, striving to make chamber music accessible to all and providing invaluable educational opportunities to students throughout Cyprus. Held annually at The Royal Manor House of Kouklia\, a remarkable testament to Frankish architecture and a UNESCO World Heritage site\, the Pharos Festival transforms this historic venue into an atmospheric chamber music hall\, and sets the stage for one of the most eagerly anticipated events on the international music calendar.\n	 \n	The 23rd International Pharos Chamber Music Festival\, which takes place at the Royal Manor House in Kouklia\, encompasses seven concerts during the last week of May and first day of June – specifically on 24\, 25\, 26\, 28\, 29\, 31 May & 1 June 2024.  As always\, the Festival will offer a stunning array of chamber music repertoire\, performed by some of the world’s leading virtuosos. The Festival maintains a core of musicians who return every year\, while also welcoming guest soloists who visit our island for the very first time\, infusing each concert with a fresh and unique perspective.\n	 \n	The Pharos Arts Foundation is proud to announce that all the concerts of the 23rd International Pharos Chamber Music Festival will be recorded by the world’s leading classical music label NAXOS\, which is travelling to Cyprus for the first time especially to cover the Festival.\n	 \n	THE ARTISTS: \n	Piano: Yeol Eum Son\, José Gallardo\, Dmitry Ishkhanov\n	Violin: Svetlin Roussev\, Diana Tishchenko\, Mohamed Hiber\, Clara-Jumi Kang\, Boris Brovtsyn\n	Viola:Gareth Lubbe\, Diemut Poppen\, Samuel Barsegian\, David Abrahamyan\n	Cello:Jens Peter Maintz\, Tim Park\, Alexander Chaushian\n	Double-Bass:Nabil Shehata\n	Oboe:Céline Moinet\n	Clarinet:Chen Halevi\n	Bassoon: Mavroudes Troullos \n	Venue:\n	Name:  Royal Manor House\, Kouklia\n	Postal address: within the archeological site of Kouklia\n	Phone number: +357 26432155\n	Website: https://www.visitcyprus.com/index.php/el/discovercyprus/rural/sites-monuments/item/708-palaipafos-kouklia-archaeological-site \n\n	Start Date/End Date:  24 May 2024 – 1 June 2024 \n	Start time/End time: 20:30\n\n\n	Entrance Price/Τicket:  €20 / €15 (Concessions\, Members of the Pharos Arts Foundation)\n	Festiva pass: Buy tickets for all 7 concerts at the price of 6! \n	For the programme click here \n	Event Website and/or Organiser Website:   www.pharosartsfoundation.org \n	Social Media Channels of Event and/or of Event Organiser:\n	Facebook: https://www.facebook.com/PharosArtsFoundation\n	Instagram:   https://www.instagram.com/pharosartsfoundation/\n	YouTube: https://www.youtube.com/user/Pharosartsfoundation\nOrganiser Contact Details \nName:  Pharos Arts Foundation \nTelephone:  22663871\nEmail:  info@pharosartsfoundation.org\nPostal Address: 304 Ermou\, 1017\, Nicosia
URL:https://www.visitcyprus.com/fr/event/23rd-international-pharos-chamber-music-festival-24-5-1-6-2024/
ATTACH;FMTTYPE=image/jpeg:https://www.visitcyprus.com/wp-content/uploads/2024/05/664447c96bc487.01531982.jpeg
END:VEVENT
BEGIN:VEVENT
DTSTART;TZID=UTC:20240606T203000
DTEND;TZID=UTC:20240607T235959
DTSTAMP:20260426T023435
CREATED:20240528T091614Z
LAST-MODIFIED:20240528T091614Z
UID:500585-1717705800-1717804799@www.visitcyprus.com
SUMMARY:Starlight 4 - Great Performers with CySO -  6-7.6.2024
DESCRIPTION: \n	Lefkosia: Thursday 6 June 2024 – Skali Amphitheatre\, Aglantzia\, 20:30\n	Lemesos: Friday 7 June 2024– Kourion Ancient Amphitheatre\, 20:30\n	 \n	Pyotr Ilyich Tchaikovsky: Piano concerto no.1 in B flat minor\, op. 23\n	Antonín Dvořák: Symphony no. 8 in G major\, op. 88\n	                                       \n	Anna Fedοrova piano\n	Charles Olivieri-Munroe conductor\n	 \n	The Cyprus Symphony Orchestra is thrilled to welcome on stage the internationally celebrated pianist Anna Fedorova\, a performer whose inspirational playing evokes a profound emotional connection with her listeners.Praised for her ‘beautiful sound and natural freedom in making music with total technical security’. Fedorova will interpret Pyotr Ilyich Tchaikovsky’s Piano concerto no. 1\, one of the most captivating in the pianistic oeuvre\, masterfully blending sweeping virtuosity and exquisite lyricism.\n	 \n	The evening is further brightened by Antonín Dvořák’s Symphony no. 8\, a masterpiece of rich orchestration and folk-inspired themes\, evoking a sense of pastoral beauty and joyous exuberance. Coming into life under the firm baton of Charles Olivieri-Munroe\, these timeless orchestral treasures\, are bound to captivate the audience.\n	 \n	Gold Sponsor: Perestroika (Cyprus) Ltd\n	 \n	Ticket prices:\n	Zone Α: €25 / €18 (concession) \n	Zone Β:€20 / €15 (concession)\n	Zone C: €17 / €12 (concession)\n	 \n	Concession tickets are available to:\n	Students\, soldiers\, pensioners\, large and five-member families on presentation of ID.\n	Free entrance for people with disabilities.\n	 \n	Ticket presales:\n	Online at cyso.interticket.comand 2 hrs before the concert.\n	 \n	Information: 22 463144\, www.cyso.org.cy\n	 \n	Institutional Sponsor: Republic of Cyprus\n	Grand Sponsor: OPAP (Cyprus) Ltd\n	Gold Sponsor (Starlight Series): Perestroika (Cyprus) Ltd\n	Media Sponsors:CyBC\, Cyprus Mail\n	For more information you may contact Constantia Elia at 22 463135\, email: c.elia@cyso.org.cy
URL:https://www.visitcyprus.com/fr/event/starlight-4-great-performers-with-cyso-6-7-6-2024/
ATTACH;FMTTYPE=image/jpeg:https://www.visitcyprus.com/wp-content/uploads/2024/05/6655a0bfe43d34.52037286.jpeg
END:VEVENT
BEGIN:VEVENT
DTSTART;VALUE=DATE:20240607
DTEND;VALUE=DATE:20240630
DTSTAMP:20260426T023435
CREATED:20240516T050704Z
LAST-MODIFIED:20240516T050704Z
UID:500620-1717718400-1719705599@www.visitcyprus.com
SUMMARY:Anna Achilleos Staeubli "Mesogeios" - 7-29.6.2024
DESCRIPTION:Solo Art Exhibition in Encaustic\, first presented at the National Archaeological Museum in Athens in August 2023 and NOW 7th of June 2024 at Marginalia Gallery in Nicosia at 19 :30 until 29 June 2024 and. Opening by his Excellency the Swiss Ambassador Mr Chrisoph Buergener. The theme is the mediterranean sea as is best described in the text below in an ancient greek technique\, Encaustic with beeswax\, damar and pigments on wood with the use of fire. \n	The Sea as a bodily substance in the works of Anna Achilleos-Staeubli \n	ἅλς (A)\, ᾰος[ᾰ]\, ὁ\, dat. plur. ἅλασιν· Lat. SAL\, piece of salt\, in Herod.; generally\,\n	salt\, often in the plur.\, in Homer. etc.; ἁλὸς μεταλλον\, salt mine\, in Herod.\,\n	Homer etc. \n	ἅλς (B)\, ἁλός [ᾰ]\, ἡ sea\, in Homer\n	ἅλσις\, -εως\, ἡ (ἅλλομαι)\, leap\, bounce\, in Arist. \n	Forty paintings created with encaustic technique by the international artist Anna Achilleos-Staeubli especially for the recreation area of the National Archaeological Museum in Athens\, attempt to spell out and give meaning both symbolically and literally to the sea in its Homeric substance: ἅλς with a windy alpha of beginning\, a fluid lambda of continuity\, a serene sigma of saltiness. Sea\, as a shell and living palimpsest with magical content. As a triumphant primordial source of life\, as an eternal nurturer but also as a live crossing of cultures\, a vibrant claimer of borders and a dynamic mean of communication. To understand and sing it as a deep sea and an ocean\, as a magical myrrh and a pelagos\, as a faraway poros and as an nexhaustible pontos\, as chaos and as vibration\, as dizziness and peace. They attempt to measure it mentally\, taking us on a journey through the Mediterranean of the entire Greek civilization\, from the Ionian and the Aegean\, the Propontis and the Black Sea\, to the Myrtle and the Libyan Sea. To capture it as the primordial raw material that permeates and defines so many of the precious\n	exhibits of the National Archaeological Museum. \n	In this original installation by the painter\, the sea expressed as a dotted organic body\, as a rainbow of innumerable shades of blue and as a mysterious shell of creatures and myths\, is presented triumphantly\, without the need for narrative means. Created with a fascinating spectrum of different and unexpected colors and tones that go back to ancient Greek painting\, it is treated as a first-of-its-kind find and creates a mythical plain of successive psychographic instants and eternal oceanic coordinates. Driven by her imperative need to render the majesty of colors\, the rhythm of shape\, the desire of touch\, the ecstatic moisture\, the permanence\, the inexhaustible dept and breadth and the primordial secret undulation\, Anna Achilleos-Staeubli has\n	devoted herself for decades to both inherent difficulties of the technique and the exciting possibilities of encaustic art. \n	Within her yet unexplored seas\, we discover the possibility of a new execution carried out with unerring technique and transcendent artistic quality. Thus illuminating the multiple layers of history\, the expressionist emotion of the fluid and improvised pigment\, the extreme materiality\, the imperceptible shading and the expressive gesture of painting in its finest.\n	Approaching this dominant timeless Greek symbol in a non-narrative and inventive way\, Anna Achilleos-Staeubli creates from the beginning an excellent sparse but densely tangible painting semiology that captivates the viewer from its first sparkle to its very depth. \n	Iris Kritikou\n	Archaeologist & Art Historian Curator of the exhibition \n	ARTIST BIO\n	Has been active painting between Paphos\, Bern and Athens since the year 2000. Graduated the Cyprus Tourist Guide‘s school where she studied History of Art\, History\, Archaeology\, Byzantine Art\, Fauna\, Flora and Geology. Art lessons in Bern\, Switzerland\, Athens\, Greece\n	and Boston\, USA. Inspired by the Sea\, Nature\, Flowers\, Mines and Byzantine art\, she produces works in Encaustic\, an ancient technique with beeswax and pigments\, Acrylics and Oil. Anna has had solo exhibitions and has participated in numerous group exhibitions in Museums\, Art Institutions and Foundations as well as Galleries in Switzerland\, France\, Greece and Cyprus Her works have been acquired by Museums\, public and private collections in Switzerland\, Germany\, Austria\, UK\, Spain\, Malta\, Greece and Cyprus. \n	Contact : Anna Achilleos Staeubli\n	Webpage: www.anna-as.com\n	Email: artist.anna.as@gmail.com\n	Facebook: AnnaAchilleosStaeubli\n	Instagram : anna_achilleos_staeubli \n	  \n\n	Venue:\n	Marginalia Gallery\n	Postal address: 15 D.E. Arch. Kyprianou\, 2059 Strovolos\, Nicosia\n	Phone number: +357 99657080\n	Website: www.marginalia.com\n	Social media: facebook : Marginalia Gallery\n	Instagram: marginalia_gallery\n	   \n	Start date/End date: 7-29 June 2024\n\nStart time/End time: 19:30-22:00\nTuesday-Friday 10:00-13:00 & 17:30-20:00 and Saturday 10:00-13:00 \n \nEntrance Price/Τicket:  Free \nOrganiser Website: marginaliagallery.com \nOrganiser Contact Details \nName:  Michalis Anastasiadi\nTelephone:  +357 99657080\nEmail:  marginalia.gallery@gmail.com\nPostal Address: 15 D.E. Arch. Kyprianou\, 2059 Strovolos\, Nicosia
URL:https://www.visitcyprus.com/fr/event/anna-achilleos-staeubli-mesogeios-7-29-6-2024/
ATTACH;FMTTYPE=image/jpeg:https://www.visitcyprus.com/wp-content/uploads/2024/05/6645944e0b4bb9.80594973.jpeg
END:VEVENT
BEGIN:VEVENT
DTSTART;TZID=UTC:20240613T203000
DTEND;TZID=UTC:20240613T235959
DTSTAMP:20260426T023435
CREATED:20240523T044703Z
LAST-MODIFIED:20240523T044703Z
UID:500590-1718310600-1718323199@www.visitcyprus.com
SUMMARY:A Night in Havana -Jazz Fusion - 13.6.2024
DESCRIPTION:TELETHON and the Embassy of Cuba in Cyprus with the Support of the Cyprus Symphony Orchestra are delighted to announce the musical concert:\n	A Night in Havana – Jazz Fusion\n	 \n	A magical evening with a well-known repertoire of jazz\, Latin jazz and jazz fusión.  Timeless melodies\, flowing rhythms interpreted by two amazing\, internationally reneowned Cuban artists that Will transport you to exotic Havana!\n	 \n	Rolando Luna is a world-class pianist\, composer and arranger whose inventiveness\, virtuosity and musicality make him a standout artista. The cuban vocalist and soloist Singer Marjorie Montero captivates the hearts of audiences with her sensuous\, warm voice and unique style of interpretation.  Rolando Luna made the arrangements for the Sympony Orchestra\, especially for the Telethon concert.  The Conductor is Yiorgos Kountouris.\n	 \n	All proceeds will go to TELETHON. \n	TELETHON is organised by the Cyprus Institute of Neurology and Genetics and the Cyprus Muscular Dystrophy Association and all proceeds Support people with muscular dystrophy and the research programs of the CING.\n	 \n	For ticket purchase at Sold Out tickets www.soldoutticketbox \n	Venue/s  \n	Name: Skali Amphitheatre\, Aglantzia\n	Postal address*: Agiou Georgiou 15\, Aglantzia\, P.C.2108 Nicosia\n	When: 13 June 2024\n	Start time/End time: 20:30 \n	Website:  en.skaliaglantzias.com \n	Entrance Price/Τicket:  €20\, €25\, €30 \n	Website:  www.cing.ac.cy\nTELETHON\, The Cyprus Institute of Neurology and Genetics and the Cyprus Muscular Dystrophy Association\nTelephone:  22 392608\nEmail:  telethon@cing.ac.cy
URL:https://www.visitcyprus.com/fr/event/a-night-in-havana-jazz-fusion-13-6-2024/
ATTACH;FMTTYPE=image/jpeg:https://www.visitcyprus.com/wp-content/uploads/2024/05/664eca3570ff83.34125650.jpeg
END:VEVENT
END:VCALENDAR