BEGIN:VCALENDAR
VERSION:2.0
PRODID:-//Visit Cyprus - ECPv6.15.20//NONSGML v1.0//EN
CALSCALE:GREGORIAN
METHOD:PUBLISH
X-ORIGINAL-URL:https://www.visitcyprus.com/fr/
X-WR-CALDESC:Évènements pour Visit Cyprus
REFRESH-INTERVAL;VALUE=DURATION:PT1H
X-Robots-Tag:noindex
X-PUBLISHED-TTL:PT1H
BEGIN:VTIMEZONE
TZID:UTC
BEGIN:STANDARD
TZOFFSETFROM:+0000
TZOFFSETTO:+0000
TZNAME:UTC
DTSTART:20230101T000000
END:STANDARD
END:VTIMEZONE
BEGIN:VTIMEZONE
TZID:UTC
BEGIN:STANDARD
TZOFFSETFROM:+0000
TZOFFSETTO:+0000
TZNAME:UTC
DTSTART:20230101T000000
END:STANDARD
END:VTIMEZONE
BEGIN:VEVENT
DTSTART;TZID=UTC:20240913T080000
DTEND;TZID=UTC:20240913T170000
DTSTAMP:20260425T212148
CREATED:20240913T043212Z
LAST-MODIFIED:20240913T043212Z
UID:526965-1726214400-1726246800@www.visitcyprus.com
SUMMARY:NEW EVENT
DESCRIPTION:
URL:https://www.visitcyprus.com/fr/event/new-event/
END:VEVENT
BEGIN:VEVENT
DTSTART;TZID=UTC:20240921T183000
DTEND;TZID=UTC:20240921T193000
DTSTAMP:20260425T212148
CREATED:20240918T083852Z
LAST-MODIFIED:20240918T084012Z
UID:555383-1726943400-1726947000@www.visitcyprus.com
SUMMARY:Ρεσιτάλ για βιολί και πιάνο - 21.9.2024
DESCRIPTION:Ο Wolfgang Schroder και η HelenaSchroder παρουσιάζουν σε ένα ρεσιτάλ για βιολί και πιάνο έργα των Schumann\, Brahms\, Paert και Kalamenios. \nΧώρος/οι\nΌνομα:  Θεατράκι Δάσους\nΤαχυδρομική διεύθυνση: Ιωάννη Κυριακίδη\, 4810\, Κάτω Αμίαντος\nΤηλ:   +357 99580982 \nΗμερομηνία έναρξης/Ημερομηνία λήξης:  21 Σεπτεμβρίου 2024 \nΏρα έναρξης/Ώρα λήξης:  18:30-19:30 \nΕίσοδος: €15 / €10
URL:https://www.visitcyprus.com/fr/event/recital-for-violin-and-piano-21-9-2024/
LOCATION:Kato Amiantos\, Cyprus
CATEGORIES:Music
ATTACH;FMTTYPE=image/jpeg:https://www.visitcyprus.com/wp-content/uploads/2024/09/violinpiano.jpg
END:VEVENT
BEGIN:VEVENT
DTSTART;TZID=UTC:20240922T183000
DTEND;TZID=UTC:20240922T193000
DTSTAMP:20260425T212148
CREATED:20240918T073306Z
LAST-MODIFIED:20240918T073332Z
UID:555335-1727029800-1727033400@www.visitcyprus.com
SUMMARY:Wind Ensemble “Empnevsta” - 22.9.2024
DESCRIPTION:The wind ensemble “Empnevsta”\, under the conducting of Yiannis Myralis\, presents works by Greek and Cypriot composers\, as well as film music.\nVenue/s\nName: Polydynamo Kentro\, Kato Amiandos\nPostal address: 4810\, Kato Amiandos\nPhone number: +357 99833944\nStart date/End date:  22 September 2024\n\nStart time/End time: 18:30 – 19:30 \nEntrance Price/Τicket: €10
URL:https://www.visitcyprus.com/fr/event/wind-ensemble/
LOCATION:Kato Amiantos\, Cyprus
ATTACH;FMTTYPE=image/jpeg:https://www.visitcyprus.com/wp-content/uploads/2024/09/yiannis-myralis.jpg
END:VEVENT
BEGIN:VEVENT
DTSTART;TZID=UTC:20240928T183000
DTEND;TZID=UTC:20240928T193000
DTSTAMP:20260425T212148
CREATED:20240918T073905Z
LAST-MODIFIED:20240918T073905Z
UID:555359-1727548200-1727551800@www.visitcyprus.com
SUMMARY:Recital for voice and piano - 28.9.2024
DESCRIPTION:Manolis Neophytou and Laden Incepresent arias by Puccini\, Verdi\, Strauss\, Gounod as well as cypriot songs in a recital for voice and piano.This is a bicommunal recital that aims to emphasize the importance of arts and the peaceful co-living of Greek-Cypriots and Turkish-Cypriots.\n\nVenue/s\nName: Forest Theatre\nPostal address: Ioanni Kyriakides\, 4810\, Kato Amiandos\nPhone number: +357 99580982\n\nStart date/End date:  28 September 2024\n\nStart time/End time: 18:30 – 19:30 \nEntrance Price/Τicket: €15 / €10
URL:https://www.visitcyprus.com/fr/event/recital-for-voice-and-piano-28-9-2024/
LOCATION:Kato Amiantos\, Cyprus
ATTACH;FMTTYPE=image/jpeg:https://www.visitcyprus.com/wp-content/uploads/2024/09/Recital-for-voice-and-piano.jpg
END:VEVENT
BEGIN:VEVENT
DTSTART;TZID=UTC:20240928T190000
DTEND;TZID=UTC:20241006T000000
DTSTAMP:20260425T212148
CREATED:20240926T092550Z
LAST-MODIFIED:20240926T092551Z
UID:558238-1727550000-1728172800@www.visitcyprus.com
SUMMARY:WINE FESTIVAL 2024 - 28.9-6.10.2024
DESCRIPTION:From the 28th of September until the 6th of October\, the Municipality of Limassol organizes the Wine Festival in the Limassol Public Garden from 19.00 to 00.00 every night. During these events the public will have the opportunity to experience the hospitaly of the Cypriots\, enjoy  shows with traditional songs\, dances and taste the local wine and traditional delicacies.\nFor further information: www.limassolmunicipal.com.cy \n\nVenue: \n\nLemesos Municipal Gardens\n28th October Avenue\nLemesos\, Cyprus \nDates:  28 September 2024 – 6 October 2024 \nTime: 19:00 – 00:00 \nTickets:\nAdults: over 18 years old: €5\nTeenagers from 13– 18 years old: €3 \nFor the programme click here \nOrganiser Contact Details \n  \n  \nName:  SKEVI ANTONIADOU \nTelephone: 25745919 \nEmail:  santoniadou@limassol.org.cy \nPostal Address: ST. ANDREW 253\, 3035 LIMASSOL \n 
URL:https://www.visitcyprus.com/fr/event/wine-festival-2024-28-9-6-10-2024/
ATTACH;FMTTYPE=image/jpeg:https://www.visitcyprus.com/wp-content/uploads/2024/09/winefestival2024.jpg
END:VEVENT
BEGIN:VEVENT
DTSTART;TZID=UTC:20240928T200000
DTEND;TZID=UTC:20240928T213000
DTSTAMP:20260425T212148
CREATED:20240918T084923Z
LAST-MODIFIED:20240918T085145Z
UID:555423-1727553600-1727559000@www.visitcyprus.com
SUMMARY:YURY REVICH - Violin Concert with Orchestra: Vivaldi and Piazzola - 28.9.2024
DESCRIPTION:Celebrity Gala invites you to join an evening of classical music with Yury Revich and a string chamber orchestra from Austria. \nExperience an unforgettable night of classical music as the world-renowned violinist Yury Revich graces the stage with his Guarneri violin (est. 1747)\, accompanied by a distinguished chamber string orchestra. This magical event will take place on the night of September 28th at the ancient Kourion Theatre in Cyprus\, beautifully illuminated by stars and countless candles. \nYury Revich\, acclaimed for his virtuosic performances and profound musicality\, will enchant you with the well-known masterpieces written by Vivaldi and Piazzola. Set against the historic and picturesque backdrop of the ancient Kourion Amphitheatre\, this concert promises an unforgettable experience.\nThe combination of Yury’s unparalleled talent\, the exquisite sound of the Guarneri\, accompanied by a string chamber orchestra and the enchanting ambiance of the candlelit theatre will create a truly magical evening. \nVenue:\nName: CURIUM ANCIENT THEATRE\nAddress: Episkopi Lemesou 4620\, Cyprus\nInformation: +357 25934250 \nStart date/End date: 28 September 2024 \nStart time/End time:   20:00 – 21:30 \nEntrance Price/Τicket: €50 \nEvent Website and/or Organiser Website:  https://celebritygala.eu/ \nSocial Media Channels of Event and/or of Event Organiser: FB https://www.facebook.com/profile.php?id=100087905268315\nInstagram https://www.instagram.com/celebrity.gala/
URL:https://www.visitcyprus.com/fr/event/yury-revich-violin-concert-with-orchestra-vivaldi-and-piazzola-28-9-2024/
LOCATION:Curium Ancient Theatre
ATTACH;FMTTYPE=image/jpeg:https://www.visitcyprus.com/wp-content/uploads/2024/09/violin.jpg
END:VEVENT
BEGIN:VEVENT
DTSTART;TZID=UTC:20240929T110000
DTEND;TZID=UTC:20240929T163000
DTSTAMP:20260425T212148
CREATED:20240918T085515Z
LAST-MODIFIED:20240918T085515Z
UID:555450-1727607600-1727627400@www.visitcyprus.com
SUMMARY:KATO DRYS TRADITIONAL DELICACIES FESTIVAL- 29.9.2024
DESCRIPTION:The purpose of the event is to introduce the public to the local architecture and traditional products. \nThe event will start at the Folklore Museum at 11:00\, where the public will participate in grape pressing\, zivania distillation\, and the preparation of palouze and trachanas. Traditional delicacies will be offered to the participants. \nAt the Bee and Embroidery Museum\, visitors will observe the preparation of carob syrup and zivania\, and taste 14 local products. \nAdmission to both museums is free. \nAt  Ktima Christoudia \, visitors will have the opportunity to take a vineyard tour\, visit the winery\, and taste the various wines and delicacies they have to offer. Transportation to and from the winery will be provided by bus.\nThe event will conclude with a performance by the Perkallos Dance Ensemble. \nVenue/s \nName:  Koinotiko Symvoulio Kato Dry\nPostal address: 7714 Kato Drys\, Larnaca\nPhone number: +357 24342833\nFax: +357 24342199\nWebsite: https://www.katodrys.org/\nSocial media: facebook: Symvoylio Kato Dry\, ΚοινότηταΚάτωΔρυ\nInstagram: katodryscommunity_official \nStart date/End date: 29 September 2024 \nStart time/End time:  11:00-16:30 \nEntrance Price/Τicket:  FREE \nEvent Program click here
URL:https://www.visitcyprus.com/fr/event/kato-drys-traditional-delicacies-festival-29-9-2024/
LOCATION:Kato Drys
ATTACH;FMTTYPE=image/jpeg:https://www.visitcyprus.com/wp-content/uploads/2024/09/KATODRYS.jpg
END:VEVENT
END:VCALENDAR