BEGIN:VCALENDAR
VERSION:2.0
PRODID:-//Visit Cyprus - ECPv6.15.20//NONSGML v1.0//EN
CALSCALE:GREGORIAN
METHOD:PUBLISH
X-ORIGINAL-URL:https://www.visitcyprus.com/fr/
X-WR-CALDESC:Évènements pour Visit Cyprus
REFRESH-INTERVAL;VALUE=DURATION:PT1H
X-Robots-Tag:noindex
X-PUBLISHED-TTL:PT1H
BEGIN:VTIMEZONE
TZID:UTC
BEGIN:STANDARD
TZOFFSETFROM:+0000
TZOFFSETTO:+0000
TZNAME:UTC
DTSTART:20230101T000000
END:STANDARD
END:VTIMEZONE
BEGIN:VTIMEZONE
TZID:UTC
BEGIN:STANDARD
TZOFFSETFROM:+0000
TZOFFSETTO:+0000
TZNAME:UTC
DTSTART:20230101T000000
END:STANDARD
END:VTIMEZONE
BEGIN:VEVENT
DTSTART;VALUE=DATE:20241005
DTEND;VALUE=DATE:20250101
DTSTAMP:20260425T162119
CREATED:20241003T055024Z
LAST-MODIFIED:20241004T065926Z
UID:559353-1728086400-1735689599@www.visitcyprus.com
SUMMARY:The Cyprus Strollers (October - December 2024)  
DESCRIPTION:Get some exercise at the weekend   \nExplore the paths of the Cyprus countryside   \nMeet people and make new friends.   \n\nThe Cyprus Strollers (http://cyprus-strollers.org) is organizing a hike in nature every weekend\, from October to May.\nThe Cyprus Strollers welcome individuals and families (children and dogs welcome as well) living in Cyprus\, irrespective of nationality\, and equally visitors and tourists\, who love nature and search for hiking opportunities during their stay.\nThe schedule for January through May is confirmed (http://cyprus-strollers.org/activities-schedule/). The Cyprus Strollers is a unique hiking club\, broad reaching\, with a dedicated website in English. It is offering walks mainly of moderate duration (2 1/2 -3 1/2 hours)\, suitable for families\, hikers and nature lovers with an average fitness and an appetite to discover the natural beauties of Cyprus. Each walk announcement includes reference to the degree of difficulty. Hikes are conducted in compliance with Government measures wrt covid-19. \nTo read the confirmed weekly schedule of hikes for October – December 2024 visit http://cyprus-strollers.org/activities-schedule/   \nTo read a full detailed description with all necessary instructions for each hike over October – December 2024 visit http://cyprus-strollers.org/activities-description/ 
URL:https://www.visitcyprus.com/fr/event/the-cyprus-strollers-october-december-2024/
ATTACH;FMTTYPE=image/jpeg:https://www.visitcyprus.com/wp-content/uploads/2022/03/6151a4b899faa2.25741166.jpeg
END:VEVENT
BEGIN:VEVENT
DTSTART;TZID=UTC:20241101T000000
DTEND;TZID=UTC:20241214T000000
DTSTAMP:20260425T162119
CREATED:20241024T020803Z
LAST-MODIFIED:20241024T020803Z
UID:566412-1730419200-1734134400@www.visitcyprus.com
SUMMARY:“Nachtland” by Marius von Mayenburg - 1.11-14.12.2024
DESCRIPTION:THOC New Stage: “Nachtland” by Marius von Mayenburg\, directed by Athina Xenidou\nFrom November 1st\, 2024 \nRehearsals for the premiere of “Nachtland”\, a play by Marius von Mayenburg\, are in full swing. The production will be presented at the New Stage of THOC starting from November 1st\, 2024. \nWritten in 2022\, Nachtland is a witty and provocative comedy. It offers a daring commentary on the gray areas of the past\, our roots and legacies\, the manipulation of history\, and the intersection of art and money. How do we manage the past? Can a work of art be separated from the life of its creator? \nThe story follows two siblings who\, after the recent death of their father\, reunite in their family home to resolve various matters. While sorting through their inheritance\, they discover a watercolor painting in the attic. This unexpected discovery raises moral dilemmas and leads to precarious conclusions and ambiguous decisions. The narrative unfolds around this painting and its possible creator. Is the signature A. Hiller or A. Hitler? The painting opens up conflicts\, forcing the family to confront both their own dark sides and the shadow cast by Nazism and the Holocaust on recent German history. \nCreative Team: \n\nDirector: Athina Xenidou\nTranslator: Konstantinos Kritsis\nSet and Costume Design: Stavros Antonopoulos\nMusic and Sound Design: Andis Skordis\nVideo Projection Design: Anna Fotiadou\nLighting Design: Georgios Koukoumas\nIntimacy Coordination: Elle McAlpine\nAssistant Director: Andreani Constanti\n\nCast: \n\nChristos Grozos\nElena Kallinikou\nKristi Papadopoulou\nAlexandros Parisis\nChristina Pavlidou\n\n  \nPERFORMANCE SCHEDULE: \nFirst Performance: November 1st\nAnd every Friday (20:00)\, Saturday (20:00)\, and Sunday (18:00) until December 1st\, 2024. \nOfficial Premiere: November 9th\, 2024\nFriday\, November 15th\, 2024: (Y) With English and Turkish surtitles\nSaturday\, November 16th\, 2024: (YE) With Greek surtitles \n  \nTOUR DATES \nStart Time for Tours: 20:30 \nLarnaca Municipal Theater G. Lykourgos\nWednesday\, December 4th\, 2024 \nSotira Municipal Theater\nSaturday\, December 7th\, 2024 \nPattichion Municipal Theater Limassol\nThursday\, December 12th\, 2024 – (Y) With English and Turkish surtitles \nMarkideio Theater Paphos\nSaturday\, December 14th\, 2024 \nThe schedule may change\, with the possibility of additional performances. \nFor more information and ticket reservations\, visit the THOC website or call the public information line. \nhttps://tickets.thoc.org.cy/event/thoc-nachtland/?lang=el \n 
URL:https://www.visitcyprus.com/fr/event/nachtland-by-marius-von-mayenburg-1-11-14-12-2024/
LOCATION:THOC New Theatre Building\, 9 Gregori Afxentiou\, Lefkosia\, state\, 1096\, Cyprus
ATTACH;FMTTYPE=image/gif:https://www.visitcyprus.com/wp-content/uploads/2024/10/Nachtland_main.gif
END:VEVENT
BEGIN:VEVENT
DTSTART;TZID=UTC:20241101T073000
DTEND;TZID=UTC:20241103T133000
DTSTAMP:20260425T162119
CREATED:20231213T101531Z
LAST-MODIFIED:20240918T064532Z
UID:500895-1730446200-1730640600@www.visitcyprus.com
SUMMARY:OCEANMAN - 1-3.11.2024
DESCRIPTION:OCEANMAN Cyprus is an International Open Water Swimming race in Cyprus Building on previous successful events\, on 1 to 3 November 2024 Oceanman Cyprus will be held\, promoting again Cyprus on 5 continents!Oceanman is organized in many countries including Mexico\, Italy\, Malaysia\, Russia\, Spain\, Ukraine\, Thailand\, France\, Switzerland\, Turkey\, Colombia\, Russia\, Argentina and Greece. \nThe size of the promotion is huge\, since every swimming race is shown by the means of communication of the rest of the countries. Therefore\, there is an international visibility of it Cyprus as a destination in all partnering events.Oceanman Cyprus attracts a large number of participants\, visitors and spectators from Cyprus and abroad\, the race is now an institution and undeniably\, the biggest swimming event in Cyprus. \nThe dynamics of the visibility and its growth rates are thus confirmed\, which the make it one of the leading sports tourism events in the country\, since organization of Oceanman Cyprus will now be a world station championship\, with the winners able to secure their place in the world championship final! \nOceanman Cyprus is proud of the organization and in every cooperation\, it seeks harmony\, balance and reciprocity between cooperating parties. Also\, the ecological approach of each organization as well as the long-term perspective of partnerships are our goals. Alternative sports tourism is constantly expanding and this is due to the fact that the sports that are organized in nature prompt athletes to seek new challenges to try their endurance and harmonize with the natural environment. \nOn the 1st to 3rd of November 2024\, in addition to the 5 different races of 10km\, 5km\, 2km\, the relay race and the children’s race\, group tours are organized to attractions and landmarks of Ayia Napa such as the Musan Museum\, the Sculpture Park\, the Cape Greco peninsula \, the medieval monastery of Ayia Napa\, but also we organise demonstrations of Cypriot dances\, Cypriot tasting and much more.Venue:Name: OCEANMAN CYPRUSAddress: 51 Agiou Georgiou\, 2540 Dhali \nWebsite: https://oceanmanswim.com/ayianapa-cyprus/ \nhttps://www.facebook.com/OCEANMANCyprushttps://www.instagram.com/oceanman_cyprus/ \nStart date/End date: 1 – 3 November 20224 \nStart time/End time:  7:30 – 13:30 \nEntrance Price/Τicket: N/A \nEvent website: https://oceanmanswim.com/ayianapa-cyprus/http://www.sas-sports.com/
URL:https://www.visitcyprus.com/fr/event/oceanman/
ATTACH;FMTTYPE=image/jpeg:https://www.visitcyprus.com/wp-content/uploads/2023/12/65798412ae3739.06712486.jpeg
END:VEVENT
BEGIN:VEVENT
DTSTART;TZID=UTC:20241101T170000
DTEND;TZID=UTC:20241103T220000
DTSTAMP:20260425T162119
CREATED:20241029T095917Z
LAST-MODIFIED:20241029T100106Z
UID:598922-1730480400-1730671200@www.visitcyprus.com
SUMMARY:4th Motor Festival - 1-3.11.2024
DESCRIPTION:After the big success of the previous Motor Festivals\, Ayia Napa Municipality is organizing the 4th Festival this year. \nMotor vehicle fans will have the opportunity to admire the exhibition with more than 150 rare and hard-to-find models.  They will also have the opportunity to be informed as well as to be photographed with the motorized models. \nThe festival will be held in collaboration with collectors and friends of the old and new motor car and motorcycle. \nThe festival aims to extend the tourist season\, as well as to allow the visitor to meet both old and new era motor vehicles models. \nThe opening ceremony will take place on Friday 01/11/2024. \n 
URL:https://www.visitcyprus.com/fr/event/4th-motor-festival-1-11-2024/
LOCATION:Ayia Napa Municipality\, parking lot of the Greek Lyceum
ATTACH;FMTTYPE=image/jpeg:https://www.visitcyprus.com/wp-content/uploads/2024/10/MOTORCYCLE-FESTIVAL.jpg
END:VEVENT
BEGIN:VEVENT
DTSTART;TZID=UTC:20241107T203000
DTEND;TZID=UTC:20241108T000000
DTSTAMP:20260425T162119
CREATED:20241009T022353Z
LAST-MODIFIED:20241009T024733Z
UID:559703-1731011400-1731024000@www.visitcyprus.com
SUMMARY:Starlight 2 with CySO - 7-8.11.2024
DESCRIPTION:Lemesos: Thursday 7 November 2024 – Pattichio Municipal Theatre\, 20:30 \nLefkosia: Friday 8 November 2024 – Nicosia Municipal Theatre\, 20:30 \n  \nSamuel Barber: Adagio for strings\, op. 11 \nWolfgang Amadeus Mozart: ‘Porgi amor’ and ‘Dove sono’ from Le nozze di Figaro \nGeorges Bizet: Adagietto from L’ Arlésienne suite no. 1 \nWolfgang Amadeus Mozart: ‘Come scoglio’ from Così fan tutte \nEdvard Grieg: Solveig’s song from Peer Gynt Suite no. 2\, op. 55 \nJean Sibelius: Pélleas et Mélisande Suite\, op. 46 \n  \nCamilla Tilling soprano \nMichalis Economou conductor \nWith performances in such legendary venues as Covent Garden and La Scala\, soprano Camilla Tilling has established herself as a world-class opera singer. Possessing a “beguiling tone and unfailing musicality” (Gramophone\, 2020)\, Tilling will mesmerize the audience with exquisite arias from Mozart’s Le nozze di Figaro and Cosi fan tutte\, and the nostalgic Solveig’s song from Grieg’s Peer Gynt Suite. \nUnder the firm baton of the superb maestro Michalis Economou\, the concert holds more enchanting musical gems that transport us to imaginative lands: from the dramatic intensity and tranquil beauty of Barber’s Adagio for strings\, to Sibelius’ evocative lyricism in Pélleas et Mélisande\, and Bizet’s serene depiction of the Provence landscapes in the Adagietto from L’ Arlésienne suite. \n  \nGold Sponsor: Perestroika (Cyprus) Ltd \nTicket prices: \nZone Α: €25 / €18 (concession) \nZone Β: €20 / €15 (concession) \nZone C: €17 / €12 (concession) \n  \nConcession tickets are available to: \nStudents\, soldiers\, pensioners\, large and five-member families on presentation of ID. \nFree entrance for people with disabilities. \n  \nTicket presales: \nPattihio Limassol Municipal Theatre: \nOnline at www.soldouttickets.com.cy\, at the Box Office: Mon-Fri: 10:00-13:00 and 16:00-19:00\, Sat. 10:00-13:00 and 2 hours before the concert. \nNicosia Municipal Theatre:  \nOnline at cyso.interticket.com and 2 hours before the concert. \n  \nStay informed about the Artistic Programme of the Cyprus Symphony Orchestra and the Cyprus Youth Symphony Orchestra! \n Cyprus Symphony Orchestra Foundation Website \nwww.cyso.org.cy \ninfo@cyso.org.cy \n22 463144 \n  \nConcerts Programmes \nhttps://www.cyso.org.cy/?cat=48 \n  \nDigital Season Brochure  \nDownload in PDF or browse \nhttps://www.cyso.org.cy/?page_id=2379 \n  \nJoin our Newsletter \nhttps://www.cyso.org.cy/?page_id=9302 \n  \nFollow us on social media \nFacebook: Cyprus Symphony Orchestra\, Cyprus Youth Symphony Orchestra \nInstagram: cyprussymphony\, cyprusyouthsymphonyorchestra \nYouTube: CYSO Channel\, CyYSO Channel \n  \nFor more information you may contact Constantia Elia at 22 463135\, \nemail: c.elia@cyso.org.cy
URL:https://www.visitcyprus.com/fr/event/starlight-2-with-cyso-7-8-11-2024/
ATTACH;FMTTYPE=image/jpeg:https://www.visitcyprus.com/wp-content/uploads/2024/10/2-Camilla-Tilling-c-Maria-Ostlin-1.jpg
ORGANIZER;CN="Cyprus Symphony Orchestra":MAILTO:info@cyso.org.cy
END:VEVENT
BEGIN:VEVENT
DTSTART;TZID=UTC:20241114T203000
DTEND;TZID=UTC:20241115T000000
DTSTAMP:20260425T162119
CREATED:20241009T022904Z
LAST-MODIFIED:20241009T024313Z
UID:559717-1731616200-1731628800@www.visitcyprus.com
SUMMARY:PREMIERE 2  - Chopin&Schumann with CySO - 14-15.11.2024
DESCRIPTION:  \nLarnaka: Thursday 14 November 2024 – Municipal Theatre G. Lycourgos\, 20:30 \nLefkosia: Friday 15 November 2024 – Pallas Theatre\, Pafos Gate\, 20:30 \n  \nFrédéric Chopin: Piano concerto no. 2 in F minor\, op. 21 \nRobert Schumann: Symphony no. 2 in C major\, op. 61 \n  \nVanessa Benelli Mosell pianist & conductor \n  \nThe poetic sensitivity of Chopin meets Schumann’s dramatic lyricism! The Cyprus Symphony Orchestra is delighted to share the stage with Vanessa Benelli Mosell\, a pianist and conductor of remarkable talent. Her exceptional artistry will bring to life the two romantic masterpieces of this programme. \nChopin’s Piano Concerto no. 2 is a work of sublime emotional depth and expressive range. It takes the listener on a profound musical journey\, highlighting the composer’s genius in blending poetic introspection with dazzling pianistic fireworks. \nSchumann’s Symphony no. 2 was composed during a period of intense personal struggle and triumph. This gem of the Romantic repertoire stands as a testament to the German composer’s resilience and creative spirit. \n  \nSupporter: Larnaka Municipality \n  \nTicket prices: \nZone Α: €18 / €14 (concession) \nZone Β: €13 / €10 (concession) \n  \nConcession tickets are available to: \nStudents\, soldiers\, pensioners\, large and five-member families on presentation of ID. \nFree Entrance for people with disabilities. \nTicket presales: \nOnline at cyso.interticket.com and 2 hrs before the concert. \n  \nStay informed about the Artistic Programme of the Cyprus Symphony Orchestra and the Cyprus Youth Symphony Orchestra! \n  \nCyprus Symphony Orchestra Foundation Website \nwww.cyso.org.cy \ninfo@cyso.org.cy \n22 463144 \n  \nConcerts Programmes \nhttps://www.cyso.org.cy/?cat=48 \n Digital Season Brochure  \nDownload in PDF or browse \nhttps://www.cyso.org.cy/?page_id=2379 \n Join our Newsletter \nhttps://www.cyso.org.cy/?page_id=9302 \n  \nFollow us on social media \nFacebook: Cyprus Symphony Orchestra\, Cyprus Youth Symphony Orchestra \nInstagram: cyprussymphony\, cyprusyouthsymphonyorchestra \nYouTube: CYSO Channel\, CyYSO Channel \n  \nFor more information you may contact Constantia Elia at 22 463135\, \nemail: c.elia@cyso.org.cy
URL:https://www.visitcyprus.com/fr/event/premiere-2-chopinschumann-with-cyso-14-15-11-2024/
ATTACH;FMTTYPE=image/jpeg:https://www.visitcyprus.com/wp-content/uploads/2024/10/3-VanessaBenelliMosell_@AntonioNieddu-2.jpg
ORGANIZER;CN="Cyprus Symphony Orchestra":MAILTO:info@cyso.org.cy
END:VEVENT
BEGIN:VEVENT
DTSTART;TZID=UTC:20241120T190000
DTEND;TZID=UTC:20241124T220000
DTSTAMP:20260425T162119
CREATED:20241118T084303Z
LAST-MODIFIED:20241118T084744Z
UID:600431-1732129200-1732485600@www.visitcyprus.com
SUMMARY:Coastlines - 20-24.11.2024
DESCRIPTION:Theme:\nIn the Coastlines exhibition\, artist Ioanna Epaminondou invites viewers to encounter the shorelines of her island\, framing coastal landscapes as a sanctuaries – spaces for empathy\, renewal\, and undisturbed connection. Through her work\, Ioanna draws upon the lines and colors of the coast and sea as metaphors for life’s fluidity: boundaries that are ever-present but never fixed. The sea\, always in motion\, becomes a symbol of endless possibility and change.\nIt is\, after all\, “the sea that saves me”\, as she whispers—a quiet force calling anyone to embrace tranquility\, to meet ourselves and others in peace. \nArtwork description:\nThe exhibition will include a series of paintings and prints created with oil paints. \nVisiting hours: \nWednesday 20/11 Opening Day : 19:00-22:00\nThursday 21/11 : 15:00-22:00\nFriday 22/11 : 15:00-22:00\nSaturday 23/11 : 15:00-22:00\nSunday 24/11 : 10:00-18:00
URL:https://www.visitcyprus.com/fr/event/coastlines-20-24-11-2024/
LOCATION:Prozak (Common Room)\, Medontos 3A\, Lefkosia\, 1060\, Cyprus
ATTACH;FMTTYPE=image/jpeg:https://www.visitcyprus.com/wp-content/uploads/2024/11/epaminondou.jpg
ORGANIZER;CN="Ioanna Epaminondou":MAILTO:Ioanna.epaminodou@gmail.com
END:VEVENT
BEGIN:VEVENT
DTSTART;TZID=UTC:20241121T200000
DTEND;TZID=UTC:20241122T000000
DTSTAMP:20260425T162119
CREATED:20241009T023354Z
LAST-MODIFIED:20241009T023354Z
UID:559731-1732219200-1732233600@www.visitcyprus.com
SUMMARY:Chamber Music 2 - Fusionia String Quartet - 21-22.11.2024
DESCRIPTION:Lefkosia: Thursday 21 November 2024 – Pallas Theatre\, Pafos Gate\, 20:00 \nPafos: Friday 22 November 2024 – Markideio Municipal Theatre\, 20:00 \n  \nAn adventurous combination of works by Johann Sebastian Bach\, Claude Debussy\, as well as arrangements by the Fusionia string quartet! \n  \nFusionia String Quartet:  \nMarios Ioannou\, Savvas Lagou – violins\, \nSorin Alexandru Horlea – viola\, Robertas Grod – cello \n  \nSupporter: Pafos Municipality \n  \nTicket price: \n€12 / €7 (concession) \n  \nConcession tickets are available to: \nStudents\, soldiers\, pensioners\, large and five-member families on presentation of ID. \nFree Entrance for people with disabilities. \n  \nTicket presales: \nOnline at cyso.interticket.com and 2 hrs before the concert.
URL:https://www.visitcyprus.com/fr/event/chamber-music-2-fusionia-string-quartet-21-22-11-2024/
ATTACH;FMTTYPE=image/jpeg:https://www.visitcyprus.com/wp-content/uploads/2024/10/4-Fusionia-String-Quartet-1.jpg
ORGANIZER;CN="Cyprus Symphony Orchestra":MAILTO:info@cyso.org.cy
END:VEVENT
BEGIN:VEVENT
DTSTART;TZID=UTC:20241122T100000
DTEND;TZID=UTC:20241124T200000
DTSTAMP:20260425T162119
CREATED:20240927T070716Z
LAST-MODIFIED:20241004T073336Z
UID:558743-1732269600-1732478400@www.visitcyprus.com
SUMMARY:Limassol International Book Fair - 22-24.11.2024
DESCRIPTION:Limassol International Book Fair is a leading cultural initiative focusing on the Book Industry and Letters. It is a private\, grassroots\, non-profit organization born from industry professionals. It aspires to become a regional hub where neighboring stakeholders (Europe and MENA) can meet and share insights on mutual issues concerning Letters\, Books\, and Culture. At the same time\, it aims at stimulating all areas of the local book industry\, such as publishing\, bookselling\, printing and production\, online and offline marketing\, editorial and other literary areas. \nModelled after the leading international book fairs\, the organization hosts the annual Book Fair in Limassol which consists of the Limassol Int’l Book Fair Conference and the General Fair. The annual Conference caters to agents\, academics\, booksellers\, authors\, translators\, marketeers\, distributors and other industry professionals. This is the first industry specific conference ever held on the island and it has already attracted international interest as it grows in both scope and length. The General Fair caters to publishers\, booksellers\, authors\, academics\, state entities\, embassies\, municipalities\, cultural institutions\, book lovers and artists\, both local\, regional\, and international. \nThe Fair takes place from 2022 with over 10.000 attendees\, over 200 international and Cypriot speakers\, over 200 events\, over 150 exhibitors from Cyprus and abroad\, over 20.000 book titles and is returning this November (22-24) with its 3rd edition. \nThe aim of Limassol International Book Fair is to lead as cultural influencer on the island and a cultural beacon for our region. Culture is a major business industry on to itself\, it is sustainable\, environmentally neutral and it promotes core democratic values such as social inclusion\, freedom of expression\, multiculturalism\, strengthening of one’s identity. Cyprus culture diplomacy at its finest. \n  \nFor the programme click here \n  \nOrganiser Contact Details\nName: Anna Ioannidou\nTelephone: 99 58 74 51\nPostal Address: anna@limassolbookfair.com \n  \nSocial Media: \nhttps://www.facebook.com/limassolbookfair \nhttps://www.instagram.com/limassolbookfair/ \nhttps://www.linkedin.com/company/limassol-book-fair/ \nhttps://www.youtube.com/@limassolbookfair
URL:https://www.visitcyprus.com/fr/event/limassol-international-book-fair-22-24-11-2024/
LOCATION:Carob Mills\, Vasilissis Street\, Limassol\, Cyprus
ATTACH;FMTTYPE=image/jpeg:https://www.visitcyprus.com/wp-content/uploads/2024/09/limassolbook.jpg
END:VEVENT
BEGIN:VEVENT
DTSTART;TZID=UTC:20241127T203000
DTEND;TZID=UTC:20241129T000000
DTSTAMP:20260425T162119
CREATED:20241009T023920Z
LAST-MODIFIED:20241009T023920Z
UID:559745-1732739400-1732838400@www.visitcyprus.com
SUMMARY:PREMIERE 3 with CySO - 27-29.11.2024
DESCRIPTION:  \nLefkosia: Wednesday 27 November 2024 – Pallas Theatre\, Pafos Gate\, 20:30 \nLemesos: Thursday 28 November 2024 – Rialto Theatre\, 20:30 \nLarnaka: Friday 29 November 2024 – Municipal Theatre G. Lycourgos\, 20:30 \n  \nWolfgang Amadeus Mozart: Don Giovanni: Overture \nWolfgang Amadeus Mozart: Rondo for piano and orchestra in D major\, K. 382 \nFrédéric Chopin: Variations on ‘Là ci darem la mano’ for piano and orchestra\, op. 2 \nFelix Mendelssohn:  Symphony no. 4 in A major\, op. 90 (‘Italian’) \n  \nPaolo Restani piano \nZoe Zeniodi conductor \n  \nUnder the masterful baton of Zoe Zeniodi\, the Cyprus Symphony Orchestra presents four exciting works composed by masters recognized as young geniuses: Wolfgang Amadeus Mozart\, Frédéric Chopin and Felix Mendelssohn! \nThe concert opens with the intensely dramatic Overture to Mozart’s Don Giovanni followed by his delightful and virtuosic Rondo for Piano and Orchestra. After Schumann heard 17-year-old Chopin’s Variations on ‘Là ci darem la mano’ for piano and orchestra\, he exclaimed: ‘Hats off\, gentlemen\, a genius!’ The piece is a dazzling showcase of lyrical beauty and technical prowess. The Orchestra is delighted to share the stage with the renowned pianist Paolo Restani\, a true piano master\, as the soloist in both these works. \nMendelssohn’s vibrant and picturesque Symphony no. 4\, known as the ‘Italian’\, a work bursting with joy and the warmth of the Mediterranean concludes this magical musical evening. \n  \nSupporters: Rialto Theatre\, Larnaka Municipality \n  \nTicket prices: \nZone Α: €18 / €14 (concession) \nZone Β: €13 / €10 (concession) \n  \nConcession tickets are available to: \nStudents\, soldiers\, pensioners\, large and five-member families on presentation of ID. \nFree Entrance for people with disabilities. \n  \nTicket presales: \nConcerts at Pallas Theatre & Larnaka Municipal Theatre: \nOnline at cyso.interticket.com and 2 hrs before the concert. \nConcert at Rialto Theatre: \nOnline at www.rialto.com.cy\, at the Box Office\, Mon-Fri: 10:00-15:00 and 1 hr before the concert. \n  \n Stay informed about the Artistic Programme of the Cyprus Symphony Orchestra and the Cyprus Youth Symphony Orchestra! \n  \nCyprus Symphony Orchestra Foundation Website \nwww.cyso.org.cy \ninfo@cyso.org.cy \n22 463144 \n  \nConcerts Programmes \nhttps://www.cyso.org.cy/?cat=48 \n  \nDigital Season Brochure  \nDownload in PDF or browse \nhttps://www.cyso.org.cy/?page_id=2379 \n  \nJoin our Newsletter \nhttps://www.cyso.org.cy/?page_id=9302 \n  \nFollow us on social media \nFacebook: Cyprus Symphony Orchestra\, Cyprus Youth Symphony Orchestra \nInstagram: cyprussymphony\, cyprusyouthsymphonyorchestra \nYouTube: CYSO Channel\, CyYSO Channel \n  \nFor more information you may contact Constantia Elia at 22 463135\, \nemail: c.elia@cyso.org.cy
URL:https://www.visitcyprus.com/fr/event/premiere-3-with-cyso-27-29-11-2024/
ORGANIZER;CN="Cyprus Symphony Orchestra":MAILTO:info@cyso.org.cy
END:VEVENT
END:VCALENDAR