BEGIN:VCALENDAR
VERSION:2.0
PRODID:-//Visit Cyprus - ECPv6.15.20//NONSGML v1.0//EN
CALSCALE:GREGORIAN
METHOD:PUBLISH
X-ORIGINAL-URL:https://www.visitcyprus.com/fr/
X-WR-CALDESC:Évènements pour Visit Cyprus
REFRESH-INTERVAL;VALUE=DURATION:PT1H
X-Robots-Tag:noindex
X-PUBLISHED-TTL:PT1H
BEGIN:VTIMEZONE
TZID:UTC
BEGIN:STANDARD
TZOFFSETFROM:+0000
TZOFFSETTO:+0000
TZNAME:UTC
DTSTART:20230101T000000
END:STANDARD
END:VTIMEZONE
BEGIN:VEVENT
DTSTART;VALUE=DATE:20241206
DTEND;VALUE=DATE:20250427
DTSTAMP:20260425T142730
CREATED:20250213T064021Z
LAST-MODIFIED:20250213T064247Z
UID:673840-1733443200-1745711999@www.visitcyprus.com
SUMMARY:Repetitive Acts The Power of Weaving and Textile in Contemporary Art - 6.12.2024-26.4.2025
DESCRIPTION:The exhibition “Repetitice Acts: The power of weaving and textile in contemporary art” explores the enduring power of weaving as a medium of communication\, storytelling\, and resistance. From ancient Peruvian textiles to contemporary Afghan “War Rugs”\, textiles have served as a silent yet eloquent transmitter of meaning and memory. This exhibition brings weaving’s legacy into the present\, showing how contemporary artists from Cyprus transcend its domestic associations to become a space for political\, cultural\, and personal expression. The act of making\, the repetitive patterns\, and the ritual of repetition in the process are all equally significant. \nVisiting Hours: \nWednesday – Saturday: 10:00 – 20:00 \nSunday: 10:00 – 18:00 \nMonday & Tuesday: Closed \n 
URL:https://www.visitcyprus.com/fr/event/repetitive-acts-the-power-of-weaving-and-textile-in-contemporary-art-6-12-2024-26-4-2025/
LOCATION:NIMAC\, 19 Palaias Ilektrikis\, Lefkosia\, Nicosia\, 1016\, Cyprus
ATTACH;FMTTYPE=image/jpeg:https://www.visitcyprus.com/wp-content/uploads/2025/02/NiMAC_02.jpg
ORGANIZER;CN="Marika Ioannou":MAILTO:marika@nimac.org
END:VEVENT
BEGIN:VEVENT
DTSTART;VALUE=DATE:20250111
DTEND;VALUE=DATE:20250602
DTSTAMP:20260425T142730
CREATED:20250107T103114Z
LAST-MODIFIED:20250107T103114Z
UID:637899-1736553600-1748822399@www.visitcyprus.com
SUMMARY:The Cyprus Strollers - Jan-June 2025
DESCRIPTION:Get some exercise at the weekend\nExplore the paths of the Cyprus countryside\nMeet people and make new friends.\n\nThe Cyprus Strollers (http://cyprus-strollers.org) is organizing a hike in nature every weekend\, from October to May.\nThe Cyprus Strollers welcome individuals and families (children and dogs welcome as well) living in Cyprus\, irrespective of nationality\, and equally visitors and tourists\, who love nature and search for hiking opportunities during their stay.\nThe schedule for January through June is confirmed (http://cyprus-strollers.org/activities-schedule/). The Cyprus Strollers is a unique hiking club\, broad reaching\, with a dedicated website in English. It is offering walks mainly of moderate duration (2 1/2 -3 1/2 hours)\, suitable for families\, hikers and nature lovers with an average fitness and an appetite to discover the natural beauties of Cyprus. Each walk announcement includes reference to the degree of difficulty. \nTo read the confirmed weekly schedule of hikes for January – June 2025 visit http://cyprus-strollers.org/activities-schedule/\nTo read a full detailed description with all necessary instructions for each hike over January – June 2025 visit http://cyprus-strollers.org/activities-description/
URL:https://www.visitcyprus.com/fr/event/the-cyprus-strollers-jan-june-2025/
ATTACH;FMTTYPE=image/jpeg:https://www.visitcyprus.com/wp-content/uploads/2025/01/cyprustrollers.jpg
ORGANIZER;CN="Xenophon Hasapis":MAILTO:xenophondothasapis@gmail.com)
END:VEVENT
BEGIN:VEVENT
DTSTART;TZID=UTC:20250111T080000
DTEND;TZID=UTC:20250111T213000
DTSTAMP:20260425T142730
CREATED:20250107T035614Z
LAST-MODIFIED:20250107T035614Z
UID:637726-1736582400-1736631000@www.visitcyprus.com
SUMMARY:Chamber Music 4 Prometheas String Quartet ‘WINTER DREAMS’ - CYSO - 11.1.2025
DESCRIPTION:Pafos: Saturday 11 January 2025 – Markideio Municipal Theatre\, 20:00 \n“Prometheas” String Quartet is made up of four young renowned and highly distinguished Cypriot artists: Nikos Pittas\, violin\, Iraklis Mitellas\, violin\, Miranda Papaneocleous\, cello – members of the Cyprus Symphony Orchestra – and Nicolas Papageorgio\, viola – frequent collaborator with the Orchestra. \n‘Winter Dreams’ is one of their four projects focusing on the four seasons. In this programme they will take us on a dreamlike journey into the colours\, moods and sensations of Winter\, starting from Antonio Vivaldi’s ‘Winter’ concerto and ending with Astor Piazzolla’s ‘Winter’ (Invierno porteno)\, whilst ‘travelling’ through popular works by Mozart\, Dvořák\, Brahms\, Rachmaninov\, Granados\, Sibelius\, Ravel\, Anderson\, Phanos Dymiotis and Hadjidakis! \nTo give you a glimpse\, these include Brahms’ Hungarian Dance no. 1\, Rachmaninov’s Vocalise\, Spanish Dance no. 5 by Granados and Sibelius’ Valse triste\, arranged for string quartet. This is a truly inspired programme that will keep you mesmerized! \n“PROMETHEAS” STRING QUARTET \n Nikos Pittas violin\, Iraklis Mitellas violin \nNicolas Papageorgio viola\, Miranda Papaneocleous cello \n “Prometheas” String Quartet is active in the field of classical music and has performed with great success many Pancyprian premieres. \nSome of the works they have presented include Mozart’s piano concertos for quartet and piano\, with distinguished pianists Elena Mouzala\, Manolis Neophytou\, and Nicholas Melis\, as well as works by Cypriot composers such as Andreas Argyrou\, Alkis Baltas and Solon Michailides. \nFuture performances of “Prometheas” String Quartet include concerts in Cyprus as well as abroad in Munich\, Cologne\, Austria\, Athens\, Minsk\, Serbia\, and Spain. \nSupporter: Pafos Municipality \nTicket price: €12 / €7 (concession) \nConcession tickets are available to: \nStudents\, soldiers\, pensioners\, large and five-member families on presentation of ID. \nFree Entrance for people with disabilities. \nTicket presales: \nMarkideio Municipal Theatre (Andrea Geroudi 27\, 8010 Pafos\, 26 222286): \nPallas Theatre\, Pafos Gate (Rigainis and Arsinois corner\, 1010 Lefkosia\, 22 410181): \nOnline at cyso.interticket.com and 1\,5 hrs before the concert. \n  \nCyprus Symphony Orchestra Foundation Website \nwww.cyso.org.cy \ninfo@cyso.org.cy \nTel.: +357 22 463144 \n  \nConcerts Programmes \nhttps://www.cyso.org.cy/?cat=48 \n Digital Season Brochure  \nDownload in PDF or browse \nhttps://www.cyso.org.cy/?page_id=2379 \n Join our Newsletter \nhttps://www.cyso.org.cy/?page_id=9302 \n Follow us on social media \nFacebook: Cyprus Symphony Orchestra\, Cyprus Youth Symphony Orchestra \nInstagram: cyprussymphony\, cyprusyouthsymphonyorchestra \nYouTube: CYSO Channel\, CyYSO Channel \n  \nFor more information you may contact Constantia Elia at 22 463135\, \nemail: c.elia@cyso.org.cy
URL:https://www.visitcyprus.com/fr/event/chamber-music-4-prometheas-string-quartet-winter-dreams-cyso-11-1-2025/
LOCATION:Markideio Municipal Theatre\, 18 Andrea Geroudi\, Paphos\, 8010\, Cyprus
ATTACH;FMTTYPE=image/jpeg:https://www.visitcyprus.com/wp-content/uploads/2025/01/CYSO-CHAMBER-MUSIC.jpg
ORGANIZER;CN="Cyprus Symphony Orchestra":MAILTO:info@cyso.org.cy
END:VEVENT
BEGIN:VEVENT
DTSTART;TZID=UTC:20250112T080000
DTEND;TZID=UTC:20250112T213000
DTSTAMP:20260425T142730
CREATED:20250107T043453Z
LAST-MODIFIED:20250107T043658Z
UID:637737-1736668800-1736717400@www.visitcyprus.com
SUMMARY:Chamber Music 4 Prometheas String Quartet ‘WINTER DREAMS’ - CYSO - 12.1.2025
DESCRIPTION:“Prometheas” String Quartet is made up of four young renowned and highly distinguished Cypriot artists: Nikos Pittas\, violin\, Iraklis Mitellas\, violin\, Miranda Papaneocleous\, cello – members of the Cyprus Symphony Orchestra – and Nicolas Papageorgio\, viola – frequent collaborator with the Orchestra. \n‘Winter Dreams’ is one of their four projects focusing on the four seasons. In this programme they will take us on a dreamlike journey into the colours\, moods and sensations of Winter\, starting from Antonio Vivaldi’s ‘Winter’ concerto and ending with Astor Piazzolla’s ‘Winter’ (Invierno porteno)\, whilst ‘travelling’ through popular works by Mozart\, Dvořák\, Brahms\, Rachmaninov\, Granados\, Sibelius\, Ravel\, Anderson\, Phanos Dymiotis and Hadjidakis! \nTo give you a glimpse\, these include Brahms’ Hungarian Dance no. 1\, Rachmaninov’s Vocalise\, Spanish Dance no. 5 by Granados and Sibelius’ Valse triste\, arranged for string quartet. This is a truly inspired programme that will keep you mesmerized! \n“PROMETHEAS” STRING QUARTET \n Nikos Pittas violin\, Iraklis Mitellas violin \nNicolas Papageorgio viola\, Miranda Papaneocleous cello \n “Prometheas” String Quartet is active in the field of classical music and has performed with great success many Pancyprian premieres. \nSome of the works they have presented include Mozart’s piano concertos for quartet and piano\, with distinguished pianists Elena Mouzala\, Manolis Neophytou\, and Nicholas Melis\, as well as works by Cypriot composers such as Andreas Argyrou\, Alkis Baltas and Solon Michailides. \nFuture performances of “Prometheas” String Quartet include concerts in Cyprus as well as abroad in Munich\, Cologne\, Austria\, Athens\, Minsk\, Serbia\, and Spain. \nSupporter: Pafos Municipality \nTicket price: €12 / €7 (concession) \nConcession tickets are available to: \nStudents\, soldiers\, pensioners\, large and five-member families on presentation of ID. \nFree Entrance for people with disabilities. \nTicket presales: \nMarkideio Municipal Theatre (Andrea Geroudi 27\, 8010 Pafos\, 26 222286): \nPallas Theatre\, Pafos Gate (Rigainis and Arsinois corner\, 1010 Lefkosia\, 22 410181): \nOnline at cyso.interticket.com and 1\,5 hrs before the concert. \n  \nCyprus Symphony Orchestra Foundation Website \nwww.cyso.org.cy \ninfo@cyso.org.cy \nTel.: +357 22 463144 \n  \nConcerts Programmes \nhttps://www.cyso.org.cy/?cat=48 \n Digital Season Brochure  \nDownload in PDF or browse \nhttps://www.cyso.org.cy/?page_id=2379 \n Join our Newsletter \nhttps://www.cyso.org.cy/?page_id=9302 \n Follow us on social media \nFacebook: Cyprus Symphony Orchestra\, Cyprus Youth Symphony Orchestra \nInstagram: cyprussymphony\, cyprusyouthsymphonyorchestra \nYouTube: CYSO Channel\, CyYSO Channel \n  \nFor more information you may contact Constantia Elia at 22 463135\, \nemail: c.elia@cyso.org.cy
URL:https://www.visitcyprus.com/fr/event/chamber-music-4-prometheas-string-quartet-winter-dreams-cyso-12-1-2025/
LOCATION:Pallas Theatre\, 24 Rigainis\, Nicosia\, 1513\, Cyprus
ATTACH;FMTTYPE=image/jpeg:https://www.visitcyprus.com/wp-content/uploads/2025/01/CYSO-CHAMBER-MUSIC.jpg
ORGANIZER;CN="Cyprus Symphony Orchestra":MAILTO:info@cyso.org.cy
END:VEVENT
BEGIN:VEVENT
DTSTART;TZID=UTC:20250117T180000
DTEND;TZID=UTC:20250117T190000
DTSTAMP:20260425T142730
CREATED:20250107T061343Z
LAST-MODIFIED:20250107T061343Z
UID:637759-1737136800-1737140400@www.visitcyprus.com
SUMMARY:Family Concerts 3 - THE SOUND OF MUSIC with CYSO - 17.1.2025
DESCRIPTION:Richard Rodgers: The Sound of Music \nOrchestration and text: Vicky Stylianou \nDuration: 50-60 mins \nAliki Chrysochou singer & narration \nAlkis Baltas conductor \nA performance for all\, based on “The Sound of Music”\, the musical film which won over the world! It tells the story of the von Trapp family and Maria\, who transformed the lives of Captain von Trapp and his seven children with her kind nature\, joyful spirit and her singing. \nThe wonderful singer Aliki Chrysochou will both narrate the story and perform Richard Rodgers’ famous songs\, including “I have confidence”\, “My favorite things”\, “Do-Re-Mi” and many more\, immortalized by Julie Andrews in “The Sound of Music”. Images from the film will be projected during the performance. \nThe Cyprus Symphony Orchestra\, under the baton of its Honourary Conductor\, Alkis Baltas\, will accompany the singer with a gorgeous orchestration by the pianist Vicky Stylianou. \n Supporter: Rialto Theatre \nTicket price: €8 for all \nTicket presales: \nRialto Theatre (Andrea Drousioti 19\, Heroes Square\, 3040 Lemesos\, 77777745): \nOnline at www.rialto.com.cy\, at the Box Office\, Mon-Fri: 10:00-15:00 and 1\,5 hrs before the concert. \nPallas Theatre\, Pafos Gate (Rigainis and Arsinois corner\, 1010 Lefkosia\, 22 410181): \nOnline at cyso.interticket.com and 1\,5 hrs before the concert. \n  \nCyprus Symphony Orchestra Foundation Website \nwww.cyso.org.cy \ninfo@cyso.org.cy \nTel.: +357 22 463144 \nConcerts Programmes \nhttps://www.cyso.org.cy/?cat=48 \nDigital Season Brochure  \nDownload in PDF or browse \nhttps://www.cyso.org.cy/?page_id=2379 \n Join our Newsletter \nhttps://www.cyso.org.cy/?page_id=9302 \n  \nFollow us on social media \nFacebook: Cyprus Symphony Orchestra\, Cyprus Youth Symphony Orchestra \nInstagram: cyprussymphony\, cyprusyouthsymphonyorchestra \nYouTube: CYSO Channel\, CyYSO Channel \nFor more information you may contact Constantia Elia at 22 463135\, \nemail: c.elia@cyso.org.cy
URL:https://www.visitcyprus.com/fr/event/family-concerts-3-the-sound-of-music-with-cyso-17-1-2025/
LOCATION:Rialto Theatre\, Andrea Drousioti Street 19\, Plateia Iroon\, Lemesos\, state\, 3603\, Cyprus
ATTACH;FMTTYPE=image/jpeg:https://www.visitcyprus.com/wp-content/uploads/2025/01/soundofmusic.jpg
ORGANIZER;CN="Cyprus Symphony Orchestra":MAILTO:info@cyso.org.cy
END:VEVENT
BEGIN:VEVENT
DTSTART;TZID=UTC:20250117T180000
DTEND;TZID=UTC:20250117T190000
DTSTAMP:20260425T142730
CREATED:20250121T104114Z
LAST-MODIFIED:20250121T104122Z
UID:640202-1737136800-1737140400@www.visitcyprus.com
SUMMARY:Chamber Music 5 - CySO String Quartet - 7.3.2025
DESCRIPTION:Lefkosia: Friday 7 March 2025 – Pallas Theatre\, Pafos Gate\, 20:00 \nJohann Sebastian Bach: Choral “O Mensch bewein Dein Sünde groß” (O man\, bewail thy sin so great)\, arr.: Max Reger \nDmitri Shostakovich: String Quartet no. 8 in C minor\, op. 110 \nAntonín Dvořák: String Quartet no. 12 in F major\, op. 96 (American) \n CySO String Quartet:  \nWolfgang Schroeder violin\, Iraklis Mitellas violin\, \nKumiko Okutomi viola\, Jakub Otčenášek cello \n The CySO String Quartet consists of leaders of the Cyprus Symphony\, the concertmaster Wolfgang Schroeder\, the principal violist Kumiko Okutomi and the principal cellist Jakub Otčenášek as well as the violin tutti member Iraklis Mitellas. Founded in 2023\, the Quartet quickly established itself as one of the leading ensembles on the island. Uniting different cultures\, the Quartet’s aim is to present very diverse repertoire\, ranging from the Baroque to avant-garde music. \nIn this concert they will take us one a journey from the timeless spirituality and charm of Bach’s Chorales\, to Shostakovich’s grand Quartet no. 12\, a personal emotional tribute “to the victims of fascism and war”\, and the flowing melodic invention of Dvořák’s “American” quartet. Performed with the characteristic passion and precision of the CySO String Quartet\, this concert is sure to captivate you! \nTicket price: \nConcert in Lefkosia: €12 / €7 (concession) \nConcession tickets are available to: \nStudents\, soldiers\, pensioners\, large and five-member families on presentation of ID. \nFree Entrance for people with disabilities. \nTicket presales: \nPallas Theatre\, Pafos Gate (Rigainis and Arsinois corner\, 1010 Lefkosia\, 22 410181): \nOnline at cyso.interticket.com and 1\,5 hrs before the concert. \n  \nCyprus Symphony Orchestra Foundation Website \nwww.cyso.org.cy \ninfo@cyso.org.cy \nTel.: +357 22 463144 \nConcerts Programmes \nhttps://www.cyso.org.cy/?cat=48 \nDigital Season Brochure  \nDownload in PDF or browse \nhttps://www.cyso.org.cy/?page_id=2379 \n Join our Newsletter \nhttps://www.cyso.org.cy/?page_id=9302 \n Follow us on social media \nFacebook: Cyprus Symphony Orchestra\, Cyprus Youth Symphony Orchestra \nInstagram: cyprussymphony\, cyprusyouthsymphonyorchestra \nYouTube: CYSO Channel\, CyYSO Channel \nFor more information you may contact Constantia Elia at 22 463135\, \nemail: c.elia@cyso.org.cy
URL:https://www.visitcyprus.com/fr/event/family-concerts-3-the-sound-of-music-with-cyso-17-1-2025-2/
LOCATION:Rialto Theatre\, Andrea Drousioti Street 19\, Plateia Iroon\, Lemesos\, state\, 3603\, Cyprus
ATTACH;FMTTYPE=image/jpeg:https://www.visitcyprus.com/wp-content/uploads/2025/01/soundofmusic.jpg
ORGANIZER;CN="Cyprus Symphony Orchestra":MAILTO:info@cyso.org.cy
END:VEVENT
BEGIN:VEVENT
DTSTART;VALUE=DATE:20250118
DTEND;VALUE=DATE:20250119
DTSTAMP:20260425T142730
CREATED:20250107T063421Z
LAST-MODIFIED:20250107T063421Z
UID:637776-1737158400-1737244799@www.visitcyprus.com
SUMMARY:Family Concerts 3 THE SOUND OF MUSIC with CYSO - 18.1.2025
DESCRIPTION:Lefkosia: Saturday 18 January 2025 – Pallas Theatre\, Pafos Gate\, 16:00 & 17:30 \nRichard Rodgers: The Sound of Music \nOrchestration and text: Vicky Stylianou \nDuration: 50-60 mins \nAliki Chrysochou singer & narration \nAlkis Baltas conductor \nA performance for all\, based on “The Sound of Music”\, the musical film which won over the world! It tells the story of the von Trapp family and Maria\, who transformed the lives of Captain von Trapp and his seven children with her kind nature\, joyful spirit and her singing. \nThe wonderful singer Aliki Chrysochou will both narrate the story and perform Richard Rodgers’ famous songs\, including “I have confidence”\, “My favorite things”\, “Do-Re-Mi” and many more\, immortalized by Julie Andrews in “The Sound of Music”. Images from the film will be projected during the performance. \nThe Cyprus Symphony Orchestra\, under the baton of its Honourary Conductor\, Alkis Baltas\, will accompany the singer with a gorgeous orchestration by the pianist Vicky Stylianou. \n Supporter: Rialto Theatre \nTicket price: €8 for all \nTicket presales: \nRialto Theatre (Andrea Drousioti 19\, Heroes Square\, 3040 Lemesos\, 77777745): \nOnline at www.rialto.com.cy\, at the Box Office\, Mon-Fri: 10:00-15:00 and 1\,5 hrs before the concert. \nPallas Theatre\, Pafos Gate (Rigainis and Arsinois corner\, 1010 Lefkosia\, 22 410181): \nOnline at cyso.interticket.com and 1\,5 hrs before the concert. \n  \nCyprus Symphony Orchestra Foundation Website \nwww.cyso.org.cy \ninfo@cyso.org.cy \nTel.: +357 22 463144 \nConcerts Programmes \nhttps://www.cyso.org.cy/?cat=48 \nDigital Season Brochure  \nDownload in PDF or browse \nhttps://www.cyso.org.cy/?page_id=2379 \n Join our Newsletter \nhttps://www.cyso.org.cy/?page_id=9302 \n  \nFollow us on social media \nFacebook: Cyprus Symphony Orchestra\, Cyprus Youth Symphony Orchestra \nInstagram: cyprussymphony\, cyprusyouthsymphonyorchestra \nYouTube: CYSO Channel\, CyYSO Channel \nFor more information you may contact Constantia Elia at 22 463135\, \nemail: c.elia@cyso.org.cy
URL:https://www.visitcyprus.com/fr/event/family-concerts-3-the-sound-of-music-with-cyso-18-1-2025/
LOCATION:Pallas Theatre\, 24 Rigainis\, Nicosia\, 1513\, Cyprus
ATTACH;FMTTYPE=image/jpeg:https://www.visitcyprus.com/wp-content/uploads/2025/01/soundofmusic-1.jpg
ORGANIZER;CN="Cyprus Symphony Orchestra":MAILTO:info@cyso.org.cy
END:VEVENT
BEGIN:VEVENT
DTSTART;VALUE=DATE:20250124
DTEND;VALUE=DATE:20250311
DTSTAMP:20260425T142730
CREATED:20250124T065021Z
LAST-MODIFIED:20250124T080024Z
UID:640437-1737676800-1741651199@www.visitcyprus.com
SUMMARY:UNSEEN GAZE: The highly anticipated exhibition at Apothikes Papadaki - 24.1-10.3.2025
DESCRIPTION:It is with great pleasure to invite you at the opening of the exhibition “Unseen Gaze” which will be held by the Mayor of Limassol\, Mr Yiannis Armeftis\, tommorrow Friday 24th of January 2025 at 18:30 in the venue of the Limassol Municipal Arts Centre – Apothikes Papadaki. \nWe will be very happy to welcome you! \nPlease find below attached all information and the newsletter by the Lemesos 2030 organization. \nLemesos 2030 and the Andreas Pittas Art Characterization Laboratories (APAC Labs) of the Cyprus Institute present the exhibition “Unseen Gaze – The Hidden Portrait under Titian’s ECCE HOMO”\, to be inaugurated by the Mayor of Limassol\, Mr Yiannis Armeftis\, on 24 January 2025\, at 18:30\, at Apothikes Papadaki. \nThe exhibition unveils a hidden work by Titian\, concealed beneath the famous painting Ecce Homo (1570). This discovery was made possible through advanced technology and scientific methods pioneered by the Andreas Pittas Art Characterization Laboratories (APAC Labs). The hidden artwork\, the portrait of a man\, was revealed using cutting-edge technology\, whereas the results of this process were utilised by visual artist and rector of the Athens School of Fine Arts\, Erato Hadjisavva\, to recreate the painting. This groundbreaking method highlighted the intrinsic connection between art and science\, paving the way for new artistic approaches. \nCultural heritage\, science\, technology\, and contemporary artistic practices converge in the Unseen Gaze exhibition: a rare opportunity for visitors to delve into the technical analysis of the painting\, understand the relationship between the original work and its modern recreation (1570 & 2024)\, as well as to witness how technology can unveil artistic secrets hidden for centuries. \nDetails: \n\nEvent: Unseen Gaze – The Hidden Portrait under Titian’s Ecce Homo\nLocation: Apothikes Papadaki\, Limassol\nDates: 24 January – 10 March 2025\nOpening: 24 January 2025\, 18:30\nOpening hours: The exhibition will be accessible during regular hours at Apothikes Papadaki throughout the duration of the event.\nOrganisers: The Cyprus Institute – Andreas Pittas Art Characterization Laboratories / STARC\, Lemesos 2030\, Limassol Municipality.\nGuided tours: Wednesday 16:30-17:30\, Friday 16:30-17:30 & Saturday 11:00-12:00 & 12:00-13:00.\n\nFor more information or to book a guided tour (for schools\, universities and organisations) please contact: \nwww.lemesos2030.com | info@lemesos2030.com | 99800050 & \nhttps://apaclabs.cyi.ac.cy/ | 22208648 | apaclabs@cyi.ac.cy \n 
URL:https://www.visitcyprus.com/fr/event/unseen-gaze-the-highly-anticipated-exhibition-at-apothikes-papadaki-24-1-10-3-2025/
LOCATION:Apothikes Papadaki\, Christodoulou Papadaki\, Limassol\, 3036\, Cyprus
ATTACH;FMTTYPE=image/jpeg:https://www.visitcyprus.com/wp-content/uploads/2025/01/ATHEATOVLEMMA.jpg
ORGANIZER;CN="Andreas Pittas Art Characterization Laboratories (APAC Labs)":MAILTO:apaclabs@cyi.ac.cy
END:VEVENT
BEGIN:VEVENT
DTSTART;TZID=UTC:20250129T203000
DTEND;TZID=UTC:20250129T220000
DTSTAMP:20260425T142730
CREATED:20250115T060633Z
LAST-MODIFIED:20250123T080345Z
UID:639457-1738182600-1738188000@www.visitcyprus.com
SUMMARY:Cyprus Symphony Orchestra - CYPROPHONIA 2 - 29.1.2025
DESCRIPTION:Lefkosia: Wednesday 29 January 2025 – Pallas Theatre\, Pafos Gate\, 20:30 \nThe programme:\n\n\nPyotr Ilyich Tchaikovsky: Waltz from Serenade for strings\, op. 48\nRichard Wagner: Siegfried Idyll\, WWV 103\nFelix Mendelssohn: Symphony no. 3 in A minor\, op. 56\, “Scottish”\n\n\n\nJoin us for a breathtaking journey through the Romantic era\, filled with passion\, emotion\, and timeless beauty!\n\n\nZOI TSOKANOU conductor \nMaking a name for herself across multiple engagements in Opera and Concert and showing a vivid temperament on stage\, Zoi Tsokanou is the first Woman in history to lead a major Greek Orchestra. During 2017-2023 she served as Chief Conductor and Artistic Director of the Thessaloniki State Symphony Orchestra\, leading 120 musicians in a new area of repertoire\, international profile\, accessibility\, educational and community engagement. \nHighlights of the concert season 2024/2025 include her return to the Royal Opera House Covent Garden\, her Debut with the Hessisches Staatsorchester Wiesbaden\, the Tyrolean Symphony Orchestra\, the Brandenburgische Staatsphilharmonie\, Concerts with Athens State Symphony Orchestra\, The Lausanne Sinfonietta\, the Orquesta Sinfonica da Xalapa in Mexico and a series of appearances and recordings with the Cyprus Symphony Orchestra. \nIn the previous seasons she made her debut at the Royal Opera House Covent Garden\, at the Norwegian National Opera\, Grande Theatre de Geneve\, in Mexico with Orquesta Sinfonica de Xalapa. Recent engagements include concerts with Karajan Academy of the Berliner Philharmoniker and Artist in Residence Marlis Petersen\, Barcelona Symphony Orchestra\, Orchestre Nationale de Lille\, Düsseldorfer Symphonikern\, Sofia Philharmonic\, Szczecin Philharmonic\, Cyprus Symphony Orchestra\, Radio and Television Orchestra Madrid RTVE\, as well as all major Greek orchestras. \nShe has also participated in famous festivals such as Lucerne Festival\, Athens Festival\, Schumann Festival Düsseldorf\, Domstufen Festival and has worked with distinguished artists such as Gil Shaham\, Thomas Hampson\, Juliana Avdeeva\, Daniel Lozakovich\, Alena Baeva\, Daniel Müller Schott\, Valeriy Sokolov\, Ramon Vargas\, a.o. \nDuring 2014-2017 she served as permanent conductor at the Theater Erfurt\, she was Associate Conductor of the Westbohemian Symphony for two years\, and during 2011-2014 she was Music Director of Arosa Music Theatre at the Arosa Festival\, Switzerland. \nShe has conducted many opera productions at the Greek National Opera as well as in Opera Theaters in Erfurt\, Bremen\, Regensburg\, Hagen\, Athens and Thessaloniki. \nOne of her remarkable moments is her assistantship with Bernard Haitink\, her important mentor\, together with Tonhalle orchestra Zurich. She has won several prizes in International Conducting Competitions. \nTicket prices: \nZone Α: €18 / €14 (concession) \nZone Β: €13 / €10 (concession) \nConcession tickets are available to: \nStudents\, soldiers\, pensioners\, large and five-member families on presentation of ID. \nFree Entrance for people with disabilities. \nTicket presales: \nPallas Theatre\, Pafos Gate (Rigainis and Arsinois corner\, 1010 Lefkosia\, 22 410181): \nOnline at cyso.interticket.com and 1\,5 hrs before the concert. \nCyprus Symphony Orchestra Foundation Website \nwww.cyso.org.cy \ninfo@cyso.org.cy \n22 463144 \nConcerts Programmes: https://www.cyso.org.cy/?cat=48 \nDigital Season Brochure  \nDownload in PDF or browse: https://www.cyso.org.cy/?page_id=2379 \nJoin our Newsletter: https://www.cyso.org.cy/?page_id=9302 \nFollow us on social media \nFacebook: Cyprus Symphony Orchestra\, Cyprus Youth Symphony Orchestra \nInstagram: cyprussymphony\, cyprusyouthsymphonyorchestra \nYouTube: CYSO Channel\, CyYSO Channel \nFor more information you may contact Constantia Elia at 22 463135\, \nemail: c.elia@cyso.org.cy
URL:https://www.visitcyprus.com/fr/event/cyprus-symphony-orchestra-cyprophonia-2-29-1-2025/
LOCATION:Pallas Theatre\, 24 Rigainis\, Nicosia\, 1513\, Cyprus
ATTACH;FMTTYPE=image/jpeg:https://www.visitcyprus.com/wp-content/uploads/2025/01/cyprophoniacyso.jpg
ORGANIZER;CN="Cyprus Symphony Orchestra":MAILTO:info@cyso.org.cy
END:VEVENT
END:VCALENDAR