BEGIN:VCALENDAR
VERSION:2.0
PRODID:-//Visit Cyprus - ECPv6.15.20//NONSGML v1.0//EN
CALSCALE:GREGORIAN
METHOD:PUBLISH
X-ORIGINAL-URL:https://www.visitcyprus.com/fr/
X-WR-CALDESC:Évènements pour Visit Cyprus
REFRESH-INTERVAL;VALUE=DURATION:PT1H
X-Robots-Tag:noindex
X-PUBLISHED-TTL:PT1H
BEGIN:VTIMEZONE
TZID:Asia/Nicosia
BEGIN:DAYLIGHT
TZOFFSETFROM:+0200
TZOFFSETTO:+0300
TZNAME:EEST
DTSTART:20240331T010000
END:DAYLIGHT
BEGIN:STANDARD
TZOFFSETFROM:+0300
TZOFFSETTO:+0200
TZNAME:EET
DTSTART:20241027T010000
END:STANDARD
BEGIN:DAYLIGHT
TZOFFSETFROM:+0200
TZOFFSETTO:+0300
TZNAME:EEST
DTSTART:20250330T010000
END:DAYLIGHT
BEGIN:STANDARD
TZOFFSETFROM:+0300
TZOFFSETTO:+0200
TZNAME:EET
DTSTART:20251026T010000
END:STANDARD
BEGIN:DAYLIGHT
TZOFFSETFROM:+0200
TZOFFSETTO:+0300
TZNAME:EEST
DTSTART:20260329T010000
END:DAYLIGHT
BEGIN:STANDARD
TZOFFSETFROM:+0300
TZOFFSETTO:+0200
TZNAME:EET
DTSTART:20261025T010000
END:STANDARD
END:VTIMEZONE
BEGIN:VEVENT
DTSTART;TZID=Asia/Nicosia:20250927T150000
DTEND;TZID=Asia/Nicosia:20250927T170000
DTSTAMP:20260425T141219
CREATED:20250918T104247Z
LAST-MODIFIED:20250923T060204Z
UID:752318-1758985200-1758992400@www.visitcyprus.com
SUMMARY:Cyprus Wildlife Presentation - 27.9.2025
DESCRIPTION:Cyprus Wildlife Presentation\,Episkopi (Paphos) Environmental \nJoin outdoor enthusiast\, Marios Theodorou\, for a big-screen presentation and discussion of the fauna of Cyprus. He will be sharing his recent photography and videos taken while walking through the wilder areas of the Ezousa valley corridor. Specie Highlights: the fox\, the hoopoe\, the tree frog\, a bee swarm on the move and\, of course\, various birds of prey. There will be time for questions and sharing personal experiences. This presentation will be in simultaneous Greek and English. \nEntry €6 per person; as always\, families enjoy a big discount! Reserve your space: epeicentre.com/contact \nDoors open: 14:45 \nFor information tel.: +357 26 642234
URL:https://www.visitcyprus.com/fr/event/cyprus-wildlife-presentation-27-9-2025/
LOCATION:Episkopi (Paphos) Environmental Centre\, Pafos\, Episkopi\, 8524\, Cyprus
CATEGORIES:Conference
ATTACH;FMTTYPE=image/jpeg:https://www.visitcyprus.com/wp-content/uploads/2025/09/environmental.jpg
END:VEVENT
END:VCALENDAR