BEGIN:VCALENDAR
VERSION:2.0
PRODID:-//Visit Cyprus - ECPv6.15.20//NONSGML v1.0//EN
CALSCALE:GREGORIAN
METHOD:PUBLISH
X-ORIGINAL-URL:https://www.visitcyprus.com/fr/
X-WR-CALDESC:Évènements pour Visit Cyprus
REFRESH-INTERVAL;VALUE=DURATION:PT1H
X-Robots-Tag:noindex
X-PUBLISHED-TTL:PT1H
BEGIN:VTIMEZONE
TZID:Asia/Nicosia
BEGIN:DAYLIGHT
TZOFFSETFROM:+0200
TZOFFSETTO:+0300
TZNAME:EEST
DTSTART:20250330T010000
END:DAYLIGHT
BEGIN:STANDARD
TZOFFSETFROM:+0300
TZOFFSETTO:+0200
TZNAME:EET
DTSTART:20251026T010000
END:STANDARD
BEGIN:DAYLIGHT
TZOFFSETFROM:+0200
TZOFFSETTO:+0300
TZNAME:EEST
DTSTART:20260329T010000
END:DAYLIGHT
BEGIN:STANDARD
TZOFFSETFROM:+0300
TZOFFSETTO:+0200
TZNAME:EET
DTSTART:20261025T010000
END:STANDARD
BEGIN:DAYLIGHT
TZOFFSETFROM:+0200
TZOFFSETTO:+0300
TZNAME:EEST
DTSTART:20270328T010000
END:DAYLIGHT
BEGIN:STANDARD
TZOFFSETFROM:+0300
TZOFFSETTO:+0200
TZNAME:EET
DTSTART:20271031T010000
END:STANDARD
END:VTIMEZONE
BEGIN:VEVENT
DTSTART;VALUE=DATE:20261126
DTEND;VALUE=DATE:20261130
DTSTAMP:20260424T152944
CREATED:20260324T120652Z
LAST-MODIFIED:20260324T120652Z
UID:784989-1795651200-1795996799@www.visitcyprus.com
SUMMARY:Leptos Cyprus International 4-day Challenge - 26-29.11.2026
DESCRIPTION:The “Leptos Cyprus International 4-day Challenge” is a staged running event\, successfully combining a 6k time trial\, an 11k mountain trail run\, a multiterrain half marathon\, and a 10k City Run over four consecutive days\, covering a distance slightly longer than a marathon. \nThe event takes place in the area of Paphos\, and for the most part of it\, participants have the opportunity to compete in the AKAMAS Nature Reserve Park\, in some of Cyprus most scenic routes\, where every turn comes with a different stunning view\, unfolding the beauty of the AKAMAS Nature Reserve Park in a panoramic sea-sky-earth motif.\nA unique event that attracts runners from all over the world to compete\, have fun and enjoy a friendly atmosphere. \nDay 1: Coral Beach 6k – Time Trial \nStarts by the Coral Beach Hotel & Resort Harbour – Finishes in front of the Ship Wreck. \nDay 2: Akamas 11k Trail Hill Run \nStarts at Toxeftra Beach (entrance of Akamas) – Finishes at Pano Arodes village square. \nDay 3: Akamas Multiterrain ½ Marathon \nStarts by the square of Neo Chorio village  – Finishes at Toxeftra Beach (entrance of Akamas) \nDay 4: 10k Paphos City Run \nStarts & finishes in front of the Medieval Castle square in Kato Paphos. \nRace is also open to runners not participating in the other 3 races of the challenge \n  \nRegistration will take place 20 & 21 November 2024 at Coral Beach Hotel & Resort in Paphos: \n25 November 09:00-18:00 \n26 November 08:00-11:00 \n  \nFOR THE PROGRAMME CLICK HERE
URL:https://www.visitcyprus.com/fr/event/leptos-cyprus-international-4-day-challenge-26-29-11-2026/
LOCATION:Arena Sports\, Coral Bay\, Paphos\, 8099\, Cyprus
CATEGORIES:Running
ATTACH;FMTTYPE=image/jpeg:https://www.visitcyprus.com/wp-content/uploads/2026/03/Paphos-LEPTOS.jpg
ORGANIZER;CN="Arena Sports":MAILTO:info@arena.com.cy
END:VEVENT
END:VCALENDAR