BEGIN:VCALENDAR
VERSION:2.0
PRODID:-//Visit Cyprus - ECPv6.15.20//NONSGML v1.0//EN
CALSCALE:GREGORIAN
METHOD:PUBLISH
X-ORIGINAL-URL:https://www.visitcyprus.com/ru/
X-WR-CALDESC:Мероприятия для Visit Cyprus
REFRESH-INTERVAL;VALUE=DURATION:PT1H
X-Robots-Tag:noindex
X-PUBLISHED-TTL:PT1H
BEGIN:VTIMEZONE
TZID:Asia/Nicosia
BEGIN:DAYLIGHT
TZOFFSETFROM:+0200
TZOFFSETTO:+0300
TZNAME:EEST
DTSTART:20240331T010000
END:DAYLIGHT
BEGIN:STANDARD
TZOFFSETFROM:+0300
TZOFFSETTO:+0200
TZNAME:EET
DTSTART:20241027T010000
END:STANDARD
BEGIN:DAYLIGHT
TZOFFSETFROM:+0200
TZOFFSETTO:+0300
TZNAME:EEST
DTSTART:20250330T010000
END:DAYLIGHT
BEGIN:STANDARD
TZOFFSETFROM:+0300
TZOFFSETTO:+0200
TZNAME:EET
DTSTART:20251026T010000
END:STANDARD
BEGIN:DAYLIGHT
TZOFFSETFROM:+0200
TZOFFSETTO:+0300
TZNAME:EEST
DTSTART:20260329T010000
END:DAYLIGHT
BEGIN:STANDARD
TZOFFSETFROM:+0300
TZOFFSETTO:+0200
TZNAME:EET
DTSTART:20261025T010000
END:STANDARD
END:VTIMEZONE
BEGIN:VEVENT
DTSTART;TZID=Asia/Nicosia:20251106T203000
DTEND;TZID=Asia/Nicosia:20251106T220000
DTSTAMP:20260424T235218
CREATED:20251023T115126Z
LAST-MODIFIED:20251023T115126Z
UID:754785-1762461000-1762466400@www.visitcyprus.com
SUMMARY:CYPRUS SYMPHONY ORCHESTRA  STARLIGHT 1 - Ruth Killius viola & Thomas Zehetmair violin /conductor - 6.11.2025
DESCRIPTION:Lemesos: Thursday 6 November 2025 – Pattihio Municipal Theatre\, 20:30 \nWolfgang Amadeus Mozart: Symphony no. 31 in D major\, K. 297/300a\, ‘Paris’\nBenjamin Britten:Double concerto in B minor for violin\, viola and orchestra (arr. Colin Matthews)\nWolfgang Amadeus Mozart: Symphony no. 36 in C major\, K. 425\, ‘Linz’ \nRuth Killius viola\nThomas Zehetmair violin /conductor \nThe Cyprus Symphony Orchestra proudly shares the stage with two internationally acclaimed artists: the violinist and conductor Thomas Zehetmair\, founder of the celebrated Zehetmair Quartet and former Music Director of the Orchestre de Chambre de Paris and his long-time musical partner\, renowned violist Ruth Killius\, celebrated for the emotional intensity of her interpretations and rich\, refined tone. \nThe exceptional duo will showcase their interpretative artistry and exceptional musical chemistry in Benjamin Britten’s emotionally charged Double Concerto in B minor for violin\, viola and orchestra. The concerto brings forth a compelling dialogue between the two soloists and the orchestra\, exploring rich textures and dramatic contrasts. \nBritten’s concerto will be preceded by Mozart’s radiant Symphony no. 31 in D major\, ‘Paris’\, a sparkling and charming work\, composed to captivate the sophisticated audiences of 18th-century France. \nThe concert will conclude with Mozart’s Symphony no. 36 in C major\, ‘Linz’\, bursting with joyful energy and festive grandeur. It is truly astonishing that Mozart composed it in just four days upon receiving an unexpected invitation for a concert during his stopover at Linz. \nGold Sponsor: Perestroika (Cyprus) Ltd \nTicket prices:\nZone Α: €25 / €18 (concession)\nZone Β: €20 / €15 (concession)\nZone C: €17 / €12 (concession) \nConcession tickets are available to:\nStudents\, soldiers\, pensioners\, large and five-member families on presentation of ID.\nFree entrance for people with disabilities. \nTicket presales:\nPattihio Limassol Municipal Theatre (Ayias Zonis 4\, 3027 Lemesos\, 25 377277):\nOnline at www.soldouttickets.com.cy\, at the Box Office: Mon-Fri: 10:00-13:00 and 16:00-19:00\, Sat. 10:00-13:00 and 2 hours before the concert.\nNicosia Municipal Theatre (Mouseiou avenue 4\, 1097 Lefkosia):\nOnline at cyso.interticket.com and 1\,5 hours before the concert. \nInformation: 22 463144\, www.cyso.org.cy
URL:https://www.visitcyprus.com/ru/event/cyprus-symphony-orchestra-starlight-1-ruth-killius-viola-thomas-zehetmair-violin-conductor-6-11-2025/
LOCATION:Pattihio Municipal Theatre\, Agias Zonis 4\, Limassol\, 3031\, Cyprus
CATEGORIES:Music
ATTACH;FMTTYPE=image/jpeg:https://www.visitcyprus.com/wp-content/uploads/2025/10/THOMAS-ZEHETMAIR.jpg
ORGANIZER;CN="Cyprus Symphony Orchestra":MAILTO:info@cyso.org.cy
END:VEVENT
BEGIN:VEVENT
DTSTART;TZID=Asia/Nicosia:20251107T203000
DTEND;TZID=Asia/Nicosia:20251107T220000
DTSTAMP:20260424T235218
CREATED:20251023T115523Z
LAST-MODIFIED:20251023T115523Z
UID:754792-1762547400-1762552800@www.visitcyprus.com
SUMMARY:CYPRUS SYMPHONY ORCHESTRA  STARLIGHT 1 - Ruth Killius viola & Thomas Zehetmair violin /conductor - 7.11.2025
DESCRIPTION:Lefkosia: Friday 7 November 2025 – Nicosia Municipal Theatre\, 20:30 \nWolfgang Amadeus Mozart: Symphony no. 31 in D major\, K. 297/300a\, ‘Paris’\nBenjamin Britten:Double concerto in B minor for violin\, viola and orchestra (arr. Colin Matthews)\nWolfgang Amadeus Mozart: Symphony no. 36 in C major\, K. 425\, ‘Linz’ \nRuth Killius viola\nThomas Zehetmair violin /conductor \nThe Cyprus Symphony Orchestra proudly shares the stage with two internationally acclaimed artists: the violinist and conductor Thomas Zehetmair\, founder of the celebrated Zehetmair Quartet and former Music Director of the Orchestre de Chambre de Paris and his long-time musical partner\, renowned violist Ruth Killius\, celebrated for the emotional intensity of her interpretations and rich\, refined tone. \nThe exceptional duo will showcase their interpretative artistry and exceptional musical chemistry in Benjamin Britten’s emotionally charged Double Concerto in B minor for violin\, viola and orchestra. The concerto brings forth a compelling dialogue between the two soloists and the orchestra\, exploring rich textures and dramatic contrasts. \nBritten’s concerto will be preceded by Mozart’s radiant Symphony no. 31 in D major\, ‘Paris’\, a sparkling and charming work\, composed to captivate the sophisticated audiences of 18th-century France. \nThe concert will conclude with Mozart’s Symphony no. 36 in C major\, ‘Linz’\, bursting with joyful energy and festive grandeur. It is truly astonishing that Mozart composed it in just four days upon receiving an unexpected invitation for a concert during his stopover at Linz. \nGold Sponsor: Perestroika (Cyprus) Ltd \nTicket prices:\nZone Α: €25 / €18 (concession)\nZone Β: €20 / €15 (concession)\nZone C: €17 / €12 (concession) \nConcession tickets are available to:\nStudents\, soldiers\, pensioners\, large and five-member families on presentation of ID.\nFree entrance for people with disabilities. \nTicket presales:\nPattihio Limassol Municipal Theatre (Ayias Zonis 4\, 3027 Lemesos\, 25 377277):\nOnline at www.soldouttickets.com.cy\, at the Box Office: Mon-Fri: 10:00-13:00 and 16:00-19:00\, Sat. 10:00-13:00 and 2 hours before the concert.\nNicosia Municipal Theatre (Mouseiou avenue 4\, 1097 Lefkosia):\nOnline at cyso.interticket.com and 1\,5 hours before the concert. \nInformation: 22 463144\, www.cyso.org.cy
URL:https://www.visitcyprus.com/ru/event/cyprus-symphony-orchestra-starlight-1-ruth-killius-viola-thomas-zehetmair-violin-conductor-7-11-2025/
LOCATION:Nicosia Municipal Theatre\, Mouseiou 4\, Lefkosia\, 1097\, Cyprus
CATEGORIES:Music
ATTACH;FMTTYPE=image/jpeg:https://www.visitcyprus.com/wp-content/uploads/2025/10/THOMAS-ZEHETMAIR.jpg
ORGANIZER;CN="Cyprus Symphony Orchestra":MAILTO:info@cyso.org.cy
END:VEVENT
END:VCALENDAR