BEGIN:VCALENDAR
VERSION:2.0
PRODID:-//Visit Cyprus - ECPv6.15.20//NONSGML v1.0//EN
CALSCALE:GREGORIAN
METHOD:PUBLISH
X-ORIGINAL-URL:https://www.visitcyprus.com/ru/
X-WR-CALDESC:Мероприятия для Visit Cyprus
REFRESH-INTERVAL;VALUE=DURATION:PT1H
X-Robots-Tag:noindex
X-PUBLISHED-TTL:PT1H
BEGIN:VTIMEZONE
TZID:Asia/Nicosia
BEGIN:DAYLIGHT
TZOFFSETFROM:+0200
TZOFFSETTO:+0300
TZNAME:EEST
DTSTART:20240331T010000
END:DAYLIGHT
BEGIN:STANDARD
TZOFFSETFROM:+0300
TZOFFSETTO:+0200
TZNAME:EET
DTSTART:20241027T010000
END:STANDARD
BEGIN:DAYLIGHT
TZOFFSETFROM:+0200
TZOFFSETTO:+0300
TZNAME:EEST
DTSTART:20250330T010000
END:DAYLIGHT
BEGIN:STANDARD
TZOFFSETFROM:+0300
TZOFFSETTO:+0200
TZNAME:EET
DTSTART:20251026T010000
END:STANDARD
BEGIN:DAYLIGHT
TZOFFSETFROM:+0200
TZOFFSETTO:+0300
TZNAME:EEST
DTSTART:20260329T010000
END:DAYLIGHT
BEGIN:STANDARD
TZOFFSETFROM:+0300
TZOFFSETTO:+0200
TZNAME:EET
DTSTART:20261025T010000
END:STANDARD
END:VTIMEZONE
BEGIN:VEVENT
DTSTART;TZID=Asia/Nicosia:20251107T170000
DTEND;TZID=Asia/Nicosia:20251109T230000
DTSTAMP:20260425T032720
CREATED:20251029T070512Z
LAST-MODIFIED:20251029T070512Z
UID:754830-1762534800-1762729200@www.visitcyprus.com
SUMMARY:Crafting Continuity Fashion Exhibition - 7-9.11.2025
DESCRIPTION:The Fashion Heritage Network Cyprus (FHNC) proudly presents Crafting Continuity\, a three-day bi-communal exhibition reimagining Cyprus’ rich traditions through the lens of sustainable contemporary fashion and design. Taking place 7–9 November 2025 at The Picnic in Nicosia\, this year’s showcase continues FHNC’s mission to bridge cultural heritage and innovation while empowering the next generation of Cypriot designers. \nOrganized by the Fashion Heritage Network Cyprus (FHNC)\, Crafting Continuity invites visitors to discover a new chapter in the island’s fashion heritage — one where traditional craft meets modern creativity. The exhibition brings together young Cypriot designers and master artisans from across Cyprus and the diaspora\, united by a shared passion for preserving and reinterpreting traditional techniques for a more sustainable future. \nShowcasing the results of months of mentorship and collaboration\, each designer has worked alongside skilled artisans to learn endangered crafts such as land-loom weaving\, Lefkara and Lapithos embroidery\, and basketry. The outcome is a series of original\, forward-looking fashion pieces that celebrate Cyprus’ cultural identity while pushing the boundaries of contemporary design. \nAs part of the exhibition\, FHNC will also launch the inaugural issue of its independent publication\, Defteri. Created to preserve and reimagine Cyprus’s fashion heritage\, Defteri is a multidisciplinary magazine that blends sustainability\, cultural memory\, and creativity through essays\, interviews\, and visual narratives. Developed by a collective of writers\, designers\, and cultural practitioners from across Cyprus and the diaspora\, Defteri amplifies the voices shaping the island’s evolving craft culture and will be unveiled during the exhibition’s opening night.\nFHNC’s vision is to combine ethics and aesthetics\, reviving and safeguarding Cyprus’ fashion heritage while inspiring younger generations to integrate heritage into conscious\, sustainable creation. “Crafting Continuity offers a unique opportunity to experience how centuries-old techniques are evolving into future-facing fashion” says Christina Dymioti\, Director of the FHNC. \nBuilt on the belief that cultural knowledge and craftsmanship are essential to community resilience\, environmental awareness\, and intergenerational connection\, this exhibition\nhighlights the deep sustainability already embedded in Cypriot heritage — from natural dyeing to reuse\, repair\, and upcycling. \nBeyond a celebration of craft and design\, Crafting Continuity also deepens bi-communal collaboration and youth engagement\, connecting designers and artisans from across divided communities and the global Cypriot diaspora. These partnerships keep traditions alive while fostering dialogue\, creativity\, and collective cultural pride. \nShowcased Fashion Designers & Artisans\nDesigners\n● Andreani Panayide & Valentina Koutsoudis — Folkmona\n● Andrea Rotsaki — ROTS\n● Anna Michaelidou — Yiavrimou\n● Elin Yurtdaş – Elin Yurtdaş\n● İlkan Koral — ILKAN.KO\n● Mert Özyürekliler — Shirvanna\n● Rengin Akcan — RA Studio\n● Şafak Bekiroğlu — the besque\n● Stephanos Panayides — spangold\n● Tülay Kader — Fashion House Tülay Kader \nArtisans\n● Aysel Kuburlu — HASDER\n● Behice Sönmez Biran — B.S. Biran Handicraft Centre\n● Katerina Demetriou Jones — Katerina Demetriou Jones\n● Katerina Efstratiou — Katerina Efstratiou Weaving Studio\n● Yiannis Yiavris\n● Sıddıka Bilsen Ruso \nEvent Details\nDates & Times:\n7 November\, Friday — Opening Night: 7 PM – 11 PM \n8 November\, Saturday — 5 PM – 11 PM \n9 November\, Sunday — 5 PM – 11 PM \nVenue: The Picnic\, Asklipiou 36\, Nicosia 1011\nAdmission: Free \nOrganisers & Support\nCrafting Continuity is organised by Fashion Heritage Network Cyprus (FHNC) and is implemented with the support of the Traditional Culture Scheme under the CULTURE II Programme of the Department of Contemporary Culture of the Deputy Ministry of Culture of Cyprus.\nThe project is held in collaboration with the British High Commission in Cyprus\, and with the support of UNFICYP\, Fashion Revolution Cyprus\, LCOY Cyprus\, and the Cyprus Youth Council.\nMedia Sponsor: RIK / CyBC \nFor more information\, visit: Website: https://fashionheritagecy.com/ Instagram: @fashionheritage.cy\nCredits for photographs:\nPhotographers: Sotiria Dymioti\, Constantinos Nicolaou\, Aimilia Sourmeli\nPeople in the photos:\nDesigners: Andreani Panayide\, Andrea Rotsaki\, Anna Michaelidou\, Elin Yurtdaş\, İlkan Koral\, Mert Özyürekliler\, Rengin Akcan\, Stephanos Panayides\, Tülay Kader.\nArtisans: Aysel Kuburlu\, Behice Sönmez Biran\, Katerina Demetriou Jones\, Katerina Efstratiou\, Yiannis Yiavris.
URL:https://www.visitcyprus.com/ru/event/crafting-continuity-fashion-exhibition-7-9-11-2025/
LOCATION:The Picnic\, Asklipiou 36\, Nicosia\, 1011\, Cyprus
CATEGORIES:Other
ATTACH;FMTTYPE=image/jpeg:https://www.visitcyprus.com/wp-content/uploads/2025/10/CRAFTING-CONTINUITY-POSTER-1.jpg
ORGANIZER;CN="Fashion Heritage Network Cyprus (FHNC)":MAILTO:fashionheritage.cy@gmail.com
END:VEVENT
END:VCALENDAR