BEGIN:VCALENDAR
VERSION:2.0
PRODID:-//Visit Cyprus - ECPv6.15.20//NONSGML v1.0//EN
CALSCALE:GREGORIAN
METHOD:PUBLISH
X-WR-CALNAME:Visit Cyprus
X-ORIGINAL-URL:https://www.visitcyprus.com/ru/
X-WR-CALDESC:Мероприятия для Visit Cyprus
REFRESH-INTERVAL;VALUE=DURATION:PT1H
X-Robots-Tag:noindex
X-PUBLISHED-TTL:PT1H
BEGIN:VTIMEZONE
TZID:Asia/Nicosia
BEGIN:DAYLIGHT
TZOFFSETFROM:+0200
TZOFFSETTO:+0300
TZNAME:EEST
DTSTART:20240331T010000
END:DAYLIGHT
BEGIN:STANDARD
TZOFFSETFROM:+0300
TZOFFSETTO:+0200
TZNAME:EET
DTSTART:20241027T010000
END:STANDARD
BEGIN:DAYLIGHT
TZOFFSETFROM:+0200
TZOFFSETTO:+0300
TZNAME:EEST
DTSTART:20250330T010000
END:DAYLIGHT
BEGIN:STANDARD
TZOFFSETFROM:+0300
TZOFFSETTO:+0200
TZNAME:EET
DTSTART:20251026T010000
END:STANDARD
BEGIN:DAYLIGHT
TZOFFSETFROM:+0200
TZOFFSETTO:+0300
TZNAME:EEST
DTSTART:20260329T010000
END:DAYLIGHT
BEGIN:STANDARD
TZOFFSETFROM:+0300
TZOFFSETTO:+0200
TZNAME:EET
DTSTART:20261025T010000
END:STANDARD
BEGIN:DAYLIGHT
TZOFFSETFROM:+0200
TZOFFSETTO:+0300
TZNAME:EEST
DTSTART:20270328T010000
END:DAYLIGHT
BEGIN:STANDARD
TZOFFSETFROM:+0300
TZOFFSETTO:+0200
TZNAME:EET
DTSTART:20271031T010000
END:STANDARD
BEGIN:DAYLIGHT
TZOFFSETFROM:+0200
TZOFFSETTO:+0300
TZNAME:EEST
DTSTART:20280326T010000
END:DAYLIGHT
BEGIN:STANDARD
TZOFFSETFROM:+0300
TZOFFSETTO:+0200
TZNAME:EET
DTSTART:20281029T010000
END:STANDARD
END:VTIMEZONE
BEGIN:VEVENT
DTSTART;VALUE=DATE:20250901
DTEND;VALUE=DATE:20260701
DTSTAMP:20260424T030829
CREATED:20250901T103917Z
LAST-MODIFIED:20250901T104230Z
UID:750933-1756684800-1782863999@www.visitcyprus.com
SUMMARY:Free E-Mountain Bikes for 2 Hours — Discover Solea Valley! - 1.9.2025-30.6.2026
DESCRIPTION:SOLEA Bicycle organizes for the third consecutive year the Annual Cycling Program in Solea.\nFrom September 2025 until June 2026\, with 2–3 rides every month\, participants enjoy easy family rides\, themed routes\, charity events\, cultural tours\, and training rides up to 80 km.\nAll rides start and finish in Linou\, with free e-bikes provided by the Linou Community Council. \nExperience Solea Valley in a whole new way! In the Linou community — a bike-friendly village — we offer free e-mountain bike rentals for 2 hours\, so you can explore the trails\, villages\, and hidden gems of the area in the most eco-friendly and enjoyable way possible. \nCommunity of Linou is the first village in Cyprus to install and operate an automated Bike Sharing System for free use. Through this innovative green initiative\, Linou is taking the next step toward sustainable development. With a charging station\, a digital booking platform\, and routes that pass through the historic villages of Solea\, this new system aims to change the way we travel and discover the beauty of the Cypriot countryside. \nBook your ride through the app and enjoy free 2-hour trips with electric bikes! \nOur routes are designed for everyone\, from beginners to experienced riders. We provide maps\, local tips\, and ideas for secret trails. All you need is a sense of adventure! \n🌳 What we offer: \n\nFree e-mountain bike rental for 2 hours\nMaps and recommended routes\nLocal tips for stops at cafés and scenic viewpoints\nCharging station & basic bike service\n\n🚴 Why try it: \n\n100% free for 2 hours\nAn eco-friendly way to explore the region\nPerfect for families\, couples\, or solo travelers\nA unique experience you’ll always remember!\n\nFor the programme and time table click here
URL:https://www.visitcyprus.com/ru/event/free-e-mountain-bikes-for-2-hours-discover-solea-valley/
LOCATION:SOLEA Bicycle\, Linou - Solea\, 2845
ATTACH;FMTTYPE=image/jpeg:https://www.visitcyprus.com/wp-content/uploads/2025/09/solea-bicycle.jpg
ORGANIZER;CN="Solea Bicycle- Coommunity Counceling Linous":MAILTO:soleabicycle@gmail.com
END:VEVENT
BEGIN:VEVENT
DTSTART;VALUE=DATE:20251001
DTEND;VALUE=DATE:20260601
DTSTAMP:20260424T030829
CREATED:20251003T115356Z
LAST-MODIFIED:20251003T115356Z
UID:753312-1759276800-1780271999@www.visitcyprus.com
SUMMARY:CYPRUS STROLLERS - 1.10.2025 - 31.5.2026
DESCRIPTION:Get some exercise at the weekend\nExplore the paths of the Cyprus countryside\nMeet people and make new friends.\n\nThe Cyprus Strollers (http://cyprus-strollers.org) is organizing a hike in nature every weekend\, from October to May.\nThe Cyprus Strollers welcome individuals and families (children and dogs welcome as well) living in Cyprus\, irrespective of nationality\, and equally visitors and tourists\, who love nature and search for hiking opportunities during their stay.\nThe schedule for October through December is confirmed (http://cyprus-strollers.org/activities-schedule/). The Cyprus Strollers is a unique hiking club\, broad reaching\, with a dedicated website in English. It is offering walks mainly of moderate duration (2 1/2 -3 1/2 hours)\, suitable for families\, hikers and nature lovers with an average fitness and an appetite to discover the natural beauties of Cyprus. Each walk announcement includes reference to the degree of difficulty. \nTo read the confirmed weekly schedule of hikes for October – December 2025 visit http://cyprus-strollers.org/activities-schedule/\nTo read a full detailed description with all necessary instructions for each hike over October – December 2025 visit http://cyprus-strollers.org/activities-description/
URL:https://www.visitcyprus.com/ru/event/cyprus-strollers-1-10-2025-31-5-2026/
LOCATION:Cyprus Strollers
ATTACH;FMTTYPE=image/jpeg:https://www.visitcyprus.com/wp-content/uploads/2025/01/cyprustrollers.jpg
END:VEVENT
BEGIN:VEVENT
DTSTART;TZID=Asia/Nicosia:20251031T153000
DTEND;TZID=Asia/Nicosia:20270108T170000
DTSTAMP:20260424T030829
CREATED:20251006T045705Z
LAST-MODIFIED:20251029T071521Z
UID:753325-1761924600-1799427600@www.visitcyprus.com
SUMMARY:QiGong and TaiChi Class - Every Friday
DESCRIPTION:Every Friday at the Episkopi Paphos Environmental Centre\, 3:30pm – 5pm. Join Mei Yeung for a 90 minute class with breaks. €10 per person. No need to pre-register; everyone welcome! \nDuring the winter season\, it is good to confirm the class: 99 923310 Questions: 26 642234\, mornings. \nJoin Mei Yeung for a 90 minute class with breaks. \n€10 per person. No need to pre-register; everyone welcome! \n 
URL:https://www.visitcyprus.com/ru/event/qigong-and-taichi-class-every-friday/
LOCATION:Episkopi (Paphos) Environmental Centre\, Pafos\, Episkopi\, 8524\, Cyprus
ATTACH;FMTTYPE=image/jpeg:https://www.visitcyprus.com/wp-content/uploads/2025/10/tai-chi-mei.jpeg
ORGANIZER;CN="Episkopi Paphos Environmental Centre":MAILTO:epeicentre@cytanet.com.cy
END:VEVENT
BEGIN:VEVENT
DTSTART;VALUE=DATE:20260401
DTEND;VALUE=DATE:20270101
DTSTAMP:20260424T030829
CREATED:20260331T060559Z
LAST-MODIFIED:20260331T060559Z
UID:785331-1775001600-1798761599@www.visitcyprus.com
SUMMARY:Larnaka Spring & Easter 2026 Events
DESCRIPTION:Spring & Easter 2026 events in Larnaka Region. \nFOR THE EVENT CALENDAR AND PROGRAMME CLICK HERE
URL:https://www.visitcyprus.com/ru/event/larnaka-spring-easter-2026-events/
LOCATION:Larnaka Region\, Larnaka\, Cyprus
ATTACH;FMTTYPE=image/jpeg:https://www.visitcyprus.com/wp-content/uploads/2026/03/tourism-board-events.jpg
ORGANIZER;CN="Larnaka Tourism Board":MAILTO:info@larnakaregion.com
END:VEVENT
BEGIN:VEVENT
DTSTART;VALUE=DATE:20260425
DTEND;VALUE=DATE:20260517
DTSTAMP:20260424T030829
CREATED:20260420T044723Z
LAST-MODIFIED:20260420T044723Z
UID:785915-1777075200-1778975999@www.visitcyprus.com
SUMMARY:Journeys through World Heritage Sites in Cyprus Tours\, hikes and activities - 25 April - 16 May 2026
DESCRIPTION:On the occasion of the new publication by the Cyprus National Commission for UNESCO\, “World Heritage of Cyprus: History\, Myth\, Religion”\, we invite you to join us in guided tours\, hiking activities\, and events at UNESCO World Heritage Sites in Cyprus. These activities are co-organized by the Department of Antiquities\, the Cyprus National Commission for UNESCO\, and the Deputy Ministry of Tourism\, in the framework of the International Day for Monuments and Sites\, the International Museum Day\, and the 80th anniversary of UNESCO. \nThe three inscriptions of Cyprus on the UNESCO World Heritage List —the Neolithic settlement of Choirokoitia\, the Archaeological Site of Pafos (Palaepafos and Nea Pafos)\, and the ten Painted Churches of the Troodos Region —constitute emblematic testimonies of the island’s cultural identity\, while also highlighting the close relationship between people and the natural environment. \n  \n🔸 25 April\, Choirokoitia: Hiking\, guided tour\, visit at local workshop of basket weaving & traditional dairy production & light brunch\n(Reservations here) \n🔸 9 May\, Painted Troodos Churches: Hiking on the Panagia tou Araka & Stavros Agiasmati trail and guided tour in the two churches\n(Reservations here) \n🔸 16 May\, Palaepaphos: Guided tour\, children’s art workshop & “Piano Tour” concert with Ars Nova Choir\n(Reservations here) \n📌 Free participation – reservations required \nSaturday\, 25 April 2026\, Choirokoitia\nActivity description\nHike and guided tour along the Choirokoitia trail (difficulty level 2 – moderate) and the archaeological site. Visitors will have the opportunity to meet the archaeologist Odile Le Brun\, recipient of the 2025 Award for the Promotion of the Archaeological Heritage of Cyprus. The activity will conclude with a visit and light brunch to a local workshop of basket weaving and traditional dairy production.\nProgramme\n09:00 Departure by bus from Nicosia (Cyprus Handicraft Centre)\n09:45 Arrival at Choirokoitia\n10:00-12:00 Hike at the nature trail and guided tour of the archaeological site\n12:00-13:30 Visit & light brunch at a local workshop of basket weaving and traditional dairy production\n13:30 Departure – return to Nicosia (Cyprus Handicraft Centre)\n➔\nReservations & information: Saturday\, 25 April 2026 – Form submission Tel: 22809810 \nSaturday\, 9 May 2026\, Painted Churches in Troodos\nActivity description\nHike along the Panagia tou Araka – Stavros tou Agiasmati Nature Trail (difficulty level 3 – demanding; for participants aged 15 and above) and guided tour in the two painted churches.\nProgramme\n08:30 Departure by bus from Limassol (Agios Georgios Havouzas Church)\n08:30 Departure by bus from Nicosia (Cyprus Handicraft Centre)\n09:30-10:00 Guided tour of the Church of Panagia tou Araka in Lagoudera\n10:00-13:00 Hike along the Panagia tou Araka – Stavros tou Agiasmati Nature Trail\n13:00-13:30 Guided tour of the Church of Stavros tou Agiasmati\n13:30-14:00 Light refreshments\n14:00 – Departure for return to Limassol (Agios Georgios Havouzas Church) and Nicosia Nicosia (Cyprus Handicraft Centre)\n➔\nReservations & information: Saturday\, 9 May 2026 – Form submission Tel: 22691122 \nSaturday\, 16 May 2026\, Palaepafos Archaeological Site\nActivity description\nGuided tour of the archaeological site and the Local Archaeological Museum of Palaepafos-Kouklia and parallel hands-on art workshop for children. The event will conclude with a “Piano Tour” with the vocal ensemble Ars Nova\, at the medieval manor in Kouklia\, in collaboration with Avantgarde Cultural Organisation\nProgramme\n16:00 Departure by bus from Nicosia (Cyprus Handicraft Centre)\n16:45 Stop at Choirokoitia (Oasis Restaurant) for participants from Larnaca\n17:15 Stop in Limassol (Agios Georgios Havouzas Church)\n18:15 Guided tour of the archaeological site and the Local Archaeological Museum of Palaepafos-Kouklia & Parallel hands-on art workshop for children aged 6-12\, by art therapist and visual artist Lenia Georgiou (reservation required: 22809810)\n19:30 Concert “The Piano Tour” with the vocal ensemble Ars Nova\, at the medieval manor in Kouklia\, in collaboration with Avantgarde Cultural Organisation.\n20:15 Reception\n21:00 Departure for return\n➔\nReservations & information: Saturday\, 16 May 2026 – Form submission Tel: 22691122\nFor more information: www.unesco.org.cy | Tel: 22809810
URL:https://www.visitcyprus.com/ru/event/journeys-through-world-heritage-sites-in-cyprus-tours-hikes-and-activities-25april-16-may-2026/
ATTACH;FMTTYPE=image/png:https://www.visitcyprus.com/wp-content/uploads/2026/04/diadomes.png
ORGANIZER;CN="Cyprus National Commission for UNESCO":MAILTO:unesco@culture.moec.gov.cy
END:VEVENT
BEGIN:VEVENT
DTSTART;TZID=Asia/Nicosia:20260502T110000
DTEND;TZID=Asia/Nicosia:20260502T190000
DTSTAMP:20260424T030829
CREATED:20260421T102626Z
LAST-MODIFIED:20260421T102626Z
UID:785953-1777719600-1777748400@www.visitcyprus.com
SUMMARY:11th Fish Festival 2026 Polis Chrysochous - 2.5.2026
DESCRIPTION:The Municipality of Polis Chrysochous will organize\, for the 11th consecutive year\, the “Fish Festival”\, which will take place on Saturday\, May 2nd\, 2026\, from 11:00 a.m. to 7:00 p.m. at the popular picturesque harbor of Latchi. \nThe Municipality will offer visitors free fresh fried whitebait. The Festival will include a rich program such as live link broadcasts\, interactive workshops for visitors\, an artistic program with live music\, and dance groups performing traditional Cypriot\, island\, and Greek dances. \nAdditionally\, within the Festival area\, there will be stalls featuring traditional Cypriot products and items such as resi\, honey\, bread\, pastellaki (sesame brittle)\, koulouria with carob honey\, soutzoukos\, palouzes\, and traditional pasta. There will also be live demonstrations of traditional crafts such as basket weaving and kolotzi decoration. At the same time\, fishermen will demonstrate the art of fishing\, while officers from the Department of Fisheries will inform the public about various fishing-related topics. \nFurthermore\, there will be various activities for the creative engagement of children and visitors in general\, such as making sea-themed crafts in a specially designed workshop area\, as well as rides on a small train. Moreover\, mascots related to the Festival theme will be present at the venue\, giving children the opportunity to take photos with them at a special photo booth.
URL:https://www.visitcyprus.com/ru/event/11th-fish-festival-2026-polis-chrysochous-2-5-2026/
LOCATION:Latchi Harbor\, 29RW+R8\, Polis Chrysochous
ATTACH;FMTTYPE=image/png:https://www.visitcyprus.com/wp-content/uploads/2026/04/fishfestival.png
ORGANIZER;CN="Polis Chrysochous Municipality":MAILTO:info@polis.org.cy
END:VEVENT
BEGIN:VEVENT
DTSTART;TZID=Asia/Nicosia:20260509T090000
DTEND;TZID=Asia/Nicosia:20260510T210000
DTSTAMP:20260424T030829
CREATED:20260407T115801Z
LAST-MODIFIED:20260407T115801Z
UID:785586-1778317200-1778446800@www.visitcyprus.com
SUMMARY:CEV BEACH VOLLEYBALL NATIONS CUP PRELIMINARY PHASE POOL B PROTARAS - CYPRUS - 9-10.5.2026
DESCRIPTION:The CEV Beach Volleyball Nations Cup – Preliminary Phase Pool B Protaras forms part of the European national teams competition in Beach Volleyball organised under the auspices of the European Volleyball Confederation (CEV). \nThe event will take place in Protaras\, in the Famagusta district\, on the beachfront area of the region\, and will have a duration of two days (09–10 May 2026). In this pool of the preliminary phase\, the national teams of Cyprus\, Poland\, Israel and Bulgaria will participate. \nEach country will be represented by two pairs of athletes\, while the matches will be played under the country vs country format\, where all participating countries compete against each other. The team finishing first in the pool will qualify for the final phase of the European CEV Beach Volleyball Nations Cup competition.
URL:https://www.visitcyprus.com/ru/event/cev-beach-volleyball-nations-cup-preliminary-phase-pool-b-protaras-cyprus-9-10-5-2026/
LOCATION:Protaras Beach (Fig Tree Bay)\, Protara 54\, Paralimni\, 5296\, Cyprus
ATTACH;FMTTYPE=image/jpeg:https://www.visitcyprus.com/wp-content/uploads/2026/04/volleyball.jpg
ORGANIZER;CN="Cyprus Volleyball Federation":MAILTO:office@volleyball.org.cy
END:VEVENT
BEGIN:VEVENT
DTSTART;TZID=Asia/Nicosia:20260514T203000
DTEND;TZID=Asia/Nicosia:20260515T220000
DTSTAMP:20260424T030829
CREATED:20260408T051518Z
LAST-MODIFIED:20260408T051518Z
UID:785600-1778790600-1778882400@www.visitcyprus.com
SUMMARY:Cyprus Sympnony Orchestra - A  MAGICAL NIGHT Maria Farantouri sings Mikis Theodorakis - 14-15.5.2026
DESCRIPTION:The Cyprus Symphony Orchestra is greatly honoured and excited to join forces for the first time with the distinguished Greek artist Maria Farantouri in a special tribute to Mikis Theodorakis\, for a truly magical night! The concert also marks the first performance of the Orchestra under the direction of the its new Artistic Director\, the internationally acclaimed conductor Myron Michailidis. \nMaria Farantouri\, the iconic interpreter of Mikis Theodorakis\, will perform with her uniquely profound expressiveness and inner intensity a selection of the composer’s most celebrated songs\, alongside seven songs from the song cycle Odyssey (2007\, poetry by Kostas Kartelias). \n‘Odyssey’ is the final song cycle composed by the great Greek composer. Its creation was sparked by the emotion Mikis Theodorakis experienced\, upon first reading the poetry of Kostas Kartelias in 2006\, at the age of 81: “When I read Kostas Kartelias’s poems\, I suddenly felt a stirring\, as I did when I was younger\,” the composer confides in the album’s presentation. It was only natural that Theodorakis entrusted both the interpretation and recording of these songs to his quintessential interpreter\, Maria Farantouri. “Mikis Theodorakis surprised us with this new\, fresh and romantic work. We are accustomed to his austere expression\, yet lyricism has always glowed beneath the surface of his songs\,” Farantouri herself has remarked about the cycle. \nThe songs of ‘Odyssey’ form a journey into the depths of the modern human soul: love\, loneliness\, and existential impasses\, as each of us\, like a contemporary Odysseus\, inevitably confronts “clashing rocks” in the search for our own “Ithaca.” As Theodorakis eloquently writes: “Here\, the very subject matter points to the exaltation of the ‘individual’\, who\, like Odysseus\, struggles alone—himself and the sea. Thus\, the ‘individual’\, that is\, our very self\, must ultimately come to terms with the idea that Ithaca does not exist\, and must instead cling to his own passions and emotions in order to remain afloat on the foaming sea that is life.” \nThe concert culminates in a selection of the composer’s most emblematic songs. The incomparable melodies of Mikis Theodorakis—so deeply cherished—interweave creatively with the poetry of leading Greek poets\, illuminating the timeless power and universal resonance of his work. The orchestrations\, both of the ‘Odyssey’ cycle and the songs\, are by Antonis Sousamoglou and Lazaros Tsavdaridis. \nThe evening is further enriched by the symphonic ballet suite ‘The Carnival’ (1953)\, a work that vividly reflects Theodorakis’s creative assimilation and transformation of Greek popular music. As the composer writes: “In 1947\, I was in exile on Ikaria\, and it was then that I first came into meaningful contact with our popular (laïkó) music. The first song I heard was ‘Captain Andreas Zeppos’… Immediately afterwards\, I began systematically collecting popular (laïkó) songs.” This song\, along with other Greek popular (laïkó) and folk melodies and dances\, is imaginatively orchestrated by Theodorakis\, “seeking those orchestral colours that respond to the character of the work’s rhythmic and melodic material.” \n  \n‘The Carnival’ was first presented in November 1953 in Athens by the Athens State Orchestra under the direction of Andreas Paridis. It was later staged as a ballet at the Rome Opera in 1954 by the Greek Dance Theatre of Rallou Manou\, with the Rome Opera Orchestra. Subsequent symphonic premieres followed\, in Paris in 1958 and London in 1959. \nThe authentic interpretations of Maria Farantouri\, the dynamic presence of the Cyprus Symphony Orchestra\, and the interpretative vision of conductor Myron Michailidis offer a unique musical journey\, illuminating the multifaceted work of Mikis Theodorakis—from the deeply human and intimate creator to the leading Greek composer of global stature. \n  \nPROGRAMME \nMikis THEODORAKIS: \nPopular and emblematic songs \nSeven songs from the cycle ‘Odyssey’ (poetry: Kostas Kartelias) \nOrchestrations: Antonis Sousamoglou\, Lazaros Tsavdaridis \n“The Carnival” – symphonic suite \n  \nMaria Farantouri\, vocalist \nCyprus Symphony Orchestra \nMyron Michailidis\, conductor \nThe concerts are held under the auspices of the Cyprus Presidency of the Council of the European Union 2026. \n  \nTicket prices: Zone Α: €35 / €30 (concession) and Zone Β: €30 / €25 (concession) \nTicket presales: \nPallas Theatre\, Pafos Gate (Rigainis and Arsinois corner\, 1010 Lefkosia\, 22 410181): \nOnline at cyso.interticket.com and at the theatre box office 1\,5 hrs before the concert.
URL:https://www.visitcyprus.com/ru/event/cyprus-sympnony-orchestra-a-magical-night-maria-farantouri-sings-mikis-theodorakis-14-15-5-2026/
LOCATION:Pallas Theatre\, 24 Rigainis\, Nicosia\, 1513\, Cyprus
ATTACH;FMTTYPE=image/jpeg:https://www.visitcyprus.com/wp-content/uploads/2026/04/MAGICAL-NIGHT-SOCIAL-MEDIA-POSTS-ENG.jpg
ORGANIZER;CN="Cyprus Symphony Orchestra":MAILTO:info@cyso.org.cy
END:VEVENT
BEGIN:VEVENT
DTSTART;TZID=Asia/Nicosia:20260531T170000
DTEND;TZID=Asia/Nicosia:20260531T230000
DTSTAMP:20260424T030829
CREATED:20260406T054154Z
LAST-MODIFIED:20260406T054154Z
UID:785570-1780246800-1780268400@www.visitcyprus.com
SUMMARY:WINE – FLAVOR OF CYPRUS - 31.5.2026
DESCRIPTION:This event has been held every year since 2013\, with considerable success and has become an institution for wine events in our country. Around 30 wineries usually participate in it\, which have the opportunity to offer their wines for tasting to a large number of wine lovers\, connoisseurs\, and visitors to the island\, restaurant and wine cellar owners\, as well as other professionals related to wine and who promise visitors special tastings.
URL:https://www.visitcyprus.com/ru/event/wine-flavor-of-cyprus-31-5-2026/
LOCATION:Old Port Square\, Lemesos\, Limassol\, 3037\, Cyprus
ATTACH;FMTTYPE=image/jpeg:https://www.visitcyprus.com/wp-content/uploads/2026/04/wine.jpg
ORGANIZER;CN="Andreas Matheou":MAILTO:info@cyprusoenophileassociation.com
END:VEVENT
END:VCALENDAR